BEGIN:VCALENDAR
VERSION:2.0
PRODID:-//CDCD - ECPv6.13.2.1//NONSGML v1.0//EN
CALSCALE:GREGORIAN
METHOD:PUBLISH
X-WR-CALNAME:CDCD
X-ORIGINAL-URL:https://www.cdcd.org
X-WR-CALDESC:Events for CDCD
REFRESH-INTERVAL;VALUE=DURATION:PT1H
X-Robots-Tag:noindex
X-PUBLISHED-TTL:PT1H
BEGIN:VTIMEZONE
TZID:America/Toronto
BEGIN:DAYLIGHT
TZOFFSETFROM:-0500
TZOFFSETTO:-0400
TZNAME:EDT
DTSTART:20240310T070000
END:DAYLIGHT
BEGIN:STANDARD
TZOFFSETFROM:-0400
TZOFFSETTO:-0500
TZNAME:EST
DTSTART:20241103T060000
END:STANDARD
BEGIN:DAYLIGHT
TZOFFSETFROM:-0500
TZOFFSETTO:-0400
TZNAME:EDT
DTSTART:20250309T070000
END:DAYLIGHT
BEGIN:STANDARD
TZOFFSETFROM:-0400
TZOFFSETTO:-0500
TZNAME:EST
DTSTART:20251102T060000
END:STANDARD
END:VTIMEZONE
BEGIN:VEVENT
DTSTART;TZID=America/Toronto:20250227T100000
DTEND;TZID=America/Toronto:20250227T160000
DTSTAMP:20260420T043406
CREATED:20240409T145722Z
LAST-MODIFIED:20250102T193600Z
UID:7061-1740650400-1740672000@www.cdcd.org
SUMMARY:ID Replacement Clinic
DESCRIPTION:CDCD’s Housing Department’s ID Replacement Clinic is a free service available for low-income individuals in the Ajax/Pickering area in need of Government issued identification. \nTo book an appointment please contact outreachservices@cdcd.org.
URL:https://www.cdcd.org/event/id-replacement-clinic/2025-02-27/
LOCATION:CDCD\, 458 Fairall St\, Unit 4\, Ajax\, ON\, L1S 1R6\, Canada
CATEGORIES:Housing
ATTACH;FMTTYPE=image/png:https://www.cdcd.org/wp-content/uploads/2024/04/2024-12-17_ID-Replacement-Clinic-Thursday_Edna-Ucanda.png
END:VEVENT
BEGIN:VEVENT
DTSTART;TZID=America/Toronto:20250221T100000
DTEND;TZID=America/Toronto:20250221T110000
DTSTAMP:20260420T043406
CREATED:20250210T160958Z
LAST-MODIFIED:20250210T160958Z
UID:8472-1740132000-1740135600@www.cdcd.org
SUMMARY:Financial Management Life Skill Workshop
DESCRIPTION:Join the CDCD Housing Department for a Financial Management Life Skills Workshop on Friday\, February 21\, from 10 AM to 11 AM! \nThis informative session will cover essential topics like budgeting\, financial literacy\, managing bill payments\, and saving for the future. \nWhether you’re new to managing money or looking to brush up on your skills\, this workshop is a great opportunity to gain valuable insights and tools to take control of your financial well-being. Don’t miss out!
URL:https://www.cdcd.org/event/financial-management-life-skill-workshop/
LOCATION:CDCD\, 458 Fairall St\, Unit 4\, Ajax\, ON\, L1S 1R6\, Canada
CATEGORIES:Housing
ATTACH;FMTTYPE=image/png:https://www.cdcd.org/wp-content/uploads/2025/02/financial-management-life-skills-workshop-1_Housing-Admin.png
END:VEVENT
BEGIN:VEVENT
DTSTART;TZID=America/Toronto:20250220T100000
DTEND;TZID=America/Toronto:20250220T160000
DTSTAMP:20260420T043406
CREATED:20250210T155612Z
LAST-MODIFIED:20250413T173115Z
UID:8398-1740045600-1740067200@www.cdcd.org
SUMMARY:Housing Settlement Walk-In Clinic
DESCRIPTION:CDCD’s Housing Settlement Walk-in Days are held every Thursday from 10 AM to 4 PM\, offering support to newcomers who have been in Canada for five years or less. \nWhether you’re new to Durham Region or looking for housing guidance\, this is your chance to receive free assistance\, advice\, and resources tailored to your needs. \nOpen to newcomers from all across Durham Region—just drop by! \n 
URL:https://www.cdcd.org/event/housing-settlement-walk-in-clinic/2025-02-20/
LOCATION:CDCD\, 458 Fairall St\, Unit 4\, Ajax\, ON\, L1S 1R6\, Canada
CATEGORIES:Housing
ATTACH;FMTTYPE=image/png:https://www.cdcd.org/wp-content/uploads/2025/02/housing-settlement-walk-in_Maliha-Sobani.png
END:VEVENT
BEGIN:VEVENT
DTSTART;TZID=America/Toronto:20250220T100000
DTEND;TZID=America/Toronto:20250220T160000
DTSTAMP:20260420T043406
CREATED:20250102T194919Z
LAST-MODIFIED:20250520T192643Z
UID:8118-1740045600-1740067200@www.cdcd.org
SUMMARY:Housing Walk-In Days
DESCRIPTION:CDCD’s Housing Department’s Housing Walk-In Days offer individuals the chance to consult with a housing case manager without scheduling an appointment. \nThis is a great opportunity for community members to receive assistance and information about housing options\, support services\, and resources available to them. \nNo appointment necessary—just drop by and get the help you need!
URL:https://www.cdcd.org/event/housing/2025-02-20/
LOCATION:CDCD\, 458 Fairall St\, Unit 4\, Ajax\, ON\, L1S 1R6\, Canada
CATEGORIES:Housing
ATTACH;FMTTYPE=image/png:https://www.cdcd.org/wp-content/uploads/2024/04/Housing-Walk-In-Days.png
END:VEVENT
BEGIN:VEVENT
DTSTART;TZID=America/Toronto:20250220T100000
DTEND;TZID=America/Toronto:20250220T160000
DTSTAMP:20260420T043406
CREATED:20240409T145722Z
LAST-MODIFIED:20250102T193600Z
UID:7060-1740045600-1740067200@www.cdcd.org
SUMMARY:ID Replacement Clinic
DESCRIPTION:CDCD’s Housing Department’s ID Replacement Clinic is a free service available for low-income individuals in the Ajax/Pickering area in need of Government issued identification. \nTo book an appointment please contact outreachservices@cdcd.org.
URL:https://www.cdcd.org/event/id-replacement-clinic/2025-02-20/
LOCATION:CDCD\, 458 Fairall St\, Unit 4\, Ajax\, ON\, L1S 1R6\, Canada
CATEGORIES:Housing
ATTACH;FMTTYPE=image/png:https://www.cdcd.org/wp-content/uploads/2024/04/2024-12-17_ID-Replacement-Clinic-Thursday_Edna-Ucanda.png
END:VEVENT
BEGIN:VEVENT
DTSTART;TZID=America/Toronto:20250219T110000
DTEND;TZID=America/Toronto:20250219T130000
DTSTAMP:20260420T043406
CREATED:20240403T202614Z
LAST-MODIFIED:20240403T202614Z
UID:6907-1739962800-1739970000@www.cdcd.org
SUMMARY:Housing Outreach Services – Pickering
DESCRIPTION:Every 3rd Wednesday of the month at Pickering Library\, Main Branch you can access support for \n\n\n\nLandlord Tenant Issues\nTips for Housing Search\nApplication for Social Housing\nID Clinic\nOntario Electricity Support Program (OESP) Support\n\n\n\nFor more information please contact outreachservices@cdcd.org.
URL:https://www.cdcd.org/event/housing-outreach-services-pickering/2025-02-19/
LOCATION:Pickering Library Main Branch\, 1 The Esplanade\, Pickering\, ON\, L1V 2R6\, Canada
CATEGORIES:Housing
ATTACH;FMTTYPE=image/jpeg:https://www.cdcd.org/wp-content/uploads/2021/06/H_keys.jpg
END:VEVENT
BEGIN:VEVENT
DTSTART;TZID=America/Toronto:20250213T100000
DTEND;TZID=America/Toronto:20250213T160000
DTSTAMP:20260420T043406
CREATED:20250210T155612Z
LAST-MODIFIED:20250413T173106Z
UID:8396-1739440800-1739462400@www.cdcd.org
SUMMARY:Housing Settlement Walk-In Clinic
DESCRIPTION:CDCD’s Housing Settlement Walk-in Days are held every Thursday from 10 AM to 4 PM\, offering support to newcomers who have been in Canada for five years or less. \nWhether you’re new to Durham Region or looking for housing guidance\, this is your chance to receive free assistance\, advice\, and resources tailored to your needs. \nOpen to newcomers from all across Durham Region—just drop by! \n 
URL:https://www.cdcd.org/event/housing-settlement-walk-in-clinic/2025-02-13/
LOCATION:CDCD\, 458 Fairall St\, Unit 4\, Ajax\, ON\, L1S 1R6\, Canada
CATEGORIES:Housing
ATTACH;FMTTYPE=image/png:https://www.cdcd.org/wp-content/uploads/2025/02/housing-settlement-walk-in_Maliha-Sobani.png
END:VEVENT
BEGIN:VEVENT
DTSTART;TZID=America/Toronto:20250213T100000
DTEND;TZID=America/Toronto:20250213T160000
DTSTAMP:20260420T043406
CREATED:20250102T194919Z
LAST-MODIFIED:20250520T192643Z
UID:8117-1739440800-1739462400@www.cdcd.org
SUMMARY:Housing Walk-In Days
DESCRIPTION:CDCD’s Housing Department’s Housing Walk-In Days offer individuals the chance to consult with a housing case manager without scheduling an appointment. \nThis is a great opportunity for community members to receive assistance and information about housing options\, support services\, and resources available to them. \nNo appointment necessary—just drop by and get the help you need!
URL:https://www.cdcd.org/event/housing/2025-02-13/
LOCATION:CDCD\, 458 Fairall St\, Unit 4\, Ajax\, ON\, L1S 1R6\, Canada
CATEGORIES:Housing
ATTACH;FMTTYPE=image/png:https://www.cdcd.org/wp-content/uploads/2024/04/Housing-Walk-In-Days.png
END:VEVENT
BEGIN:VEVENT
DTSTART;TZID=America/Toronto:20250213T100000
DTEND;TZID=America/Toronto:20250213T160000
DTSTAMP:20260420T043406
CREATED:20240409T145722Z
LAST-MODIFIED:20250102T193600Z
UID:7059-1739440800-1739462400@www.cdcd.org
SUMMARY:ID Replacement Clinic
DESCRIPTION:CDCD’s Housing Department’s ID Replacement Clinic is a free service available for low-income individuals in the Ajax/Pickering area in need of Government issued identification. \nTo book an appointment please contact outreachservices@cdcd.org.
URL:https://www.cdcd.org/event/id-replacement-clinic/2025-02-13/
LOCATION:CDCD\, 458 Fairall St\, Unit 4\, Ajax\, ON\, L1S 1R6\, Canada
CATEGORIES:Housing
ATTACH;FMTTYPE=image/png:https://www.cdcd.org/wp-content/uploads/2024/04/2024-12-17_ID-Replacement-Clinic-Thursday_Edna-Ucanda.png
END:VEVENT
BEGIN:VEVENT
DTSTART;TZID=America/Toronto:20250212T143000
DTEND;TZID=America/Toronto:20250212T153000
DTSTAMP:20260420T043406
CREATED:20250203T221511Z
LAST-MODIFIED:20250203T221511Z
UID:8373-1739370600-1739374200@www.cdcd.org
SUMMARY:Landlord Support Workshop: Benefits of Joining Opening Doors Program
DESCRIPTION:This workshop is catered towards landlords who would like to know more about the Opening Doors Program. The workshop will cover points such as Signing on a Landlord\, Inspection\, exchange dollars for keys.\n\n\nOur landlord Engagement Specialist will be explaining about the benefits of Joining the program: risk mitigation funds\, signing bonus\, ongoing support\, finding and vetting tenants for landlords\, rights and responsibilities and mediation services.
URL:https://www.cdcd.org/event/landlord-support-workshop-benefits-of-joining-opening-doors-program/
LOCATION:CDCD\, 458 Fairall St\, Unit 4\, Ajax\, ON\, L1S 1R6\, Canada
CATEGORIES:Housing
END:VEVENT
BEGIN:VEVENT
DTSTART;TZID=America/Toronto:20250212T140000
DTEND;TZID=America/Toronto:20250212T160000
DTSTAMP:20260420T043406
CREATED:20240403T202252Z
LAST-MODIFIED:20240403T202252Z
UID:6895-1739368800-1739376000@www.cdcd.org
SUMMARY:Housing Outreach Services – Ajax
DESCRIPTION:Every 2nd Wednesday of the month at Ajax Library\, Main Branch you can access support for \n\n\n\nLandlord Tenant Issues\nTips for Housing Search\nApplication for Social Housing\nID Clinic\nOntario Electricity Support Program (OESP) Support\n\n\n\nFor more information please contact outreachservices@cdcd.org.
URL:https://www.cdcd.org/event/housing-outreach-services-ajax/2025-02-12/
LOCATION:Ajax Library Main Branch\, 55 Harwood Avenue South\, Ajax\, ON\, L1S 2H8\, Canada
CATEGORIES:Housing
ATTACH;FMTTYPE=image/jpeg:https://www.cdcd.org/wp-content/uploads/2021/06/H_keys.jpg
END:VEVENT
BEGIN:VEVENT
DTSTART;TZID=America/Toronto:20250206T100000
DTEND;TZID=America/Toronto:20250206T160000
DTSTAMP:20260420T043406
CREATED:20250102T194919Z
LAST-MODIFIED:20250520T192643Z
UID:8116-1738836000-1738857600@www.cdcd.org
SUMMARY:Housing Walk-In Days
DESCRIPTION:CDCD’s Housing Department’s Housing Walk-In Days offer individuals the chance to consult with a housing case manager without scheduling an appointment. \nThis is a great opportunity for community members to receive assistance and information about housing options\, support services\, and resources available to them. \nNo appointment necessary—just drop by and get the help you need!
URL:https://www.cdcd.org/event/housing/2025-02-06/
LOCATION:CDCD\, 458 Fairall St\, Unit 4\, Ajax\, ON\, L1S 1R6\, Canada
CATEGORIES:Housing
ATTACH;FMTTYPE=image/png:https://www.cdcd.org/wp-content/uploads/2024/04/Housing-Walk-In-Days.png
END:VEVENT
BEGIN:VEVENT
DTSTART;TZID=America/Toronto:20250206T100000
DTEND;TZID=America/Toronto:20250206T160000
DTSTAMP:20260420T043406
CREATED:20240409T145722Z
LAST-MODIFIED:20250102T193600Z
UID:7058-1738836000-1738857600@www.cdcd.org
SUMMARY:ID Replacement Clinic
DESCRIPTION:CDCD’s Housing Department’s ID Replacement Clinic is a free service available for low-income individuals in the Ajax/Pickering area in need of Government issued identification. \nTo book an appointment please contact outreachservices@cdcd.org.
URL:https://www.cdcd.org/event/id-replacement-clinic/2025-02-06/
LOCATION:CDCD\, 458 Fairall St\, Unit 4\, Ajax\, ON\, L1S 1R6\, Canada
CATEGORIES:Housing
ATTACH;FMTTYPE=image/png:https://www.cdcd.org/wp-content/uploads/2024/04/2024-12-17_ID-Replacement-Clinic-Thursday_Edna-Ucanda.png
END:VEVENT
BEGIN:VEVENT
DTSTART;TZID=America/Toronto:20250130T100000
DTEND;TZID=America/Toronto:20250130T160000
DTSTAMP:20260420T043406
CREATED:20250102T194919Z
LAST-MODIFIED:20250520T192642Z
UID:8115-1738231200-1738252800@www.cdcd.org
SUMMARY:Housing Walk-In Days
DESCRIPTION:CDCD’s Housing Department’s Housing Walk-In Days offer individuals the chance to consult with a housing case manager without scheduling an appointment. \nThis is a great opportunity for community members to receive assistance and information about housing options\, support services\, and resources available to them. \nNo appointment necessary—just drop by and get the help you need!
URL:https://www.cdcd.org/event/housing/2025-01-30/
LOCATION:CDCD\, 458 Fairall St\, Unit 4\, Ajax\, ON\, L1S 1R6\, Canada
CATEGORIES:Housing
ATTACH;FMTTYPE=image/png:https://www.cdcd.org/wp-content/uploads/2024/04/Housing-Walk-In-Days.png
END:VEVENT
BEGIN:VEVENT
DTSTART;TZID=America/Toronto:20250130T100000
DTEND;TZID=America/Toronto:20250130T160000
DTSTAMP:20260420T043406
CREATED:20240409T145722Z
LAST-MODIFIED:20250102T193600Z
UID:7057-1738231200-1738252800@www.cdcd.org
SUMMARY:ID Replacement Clinic
DESCRIPTION:CDCD’s Housing Department’s ID Replacement Clinic is a free service available for low-income individuals in the Ajax/Pickering area in need of Government issued identification. \nTo book an appointment please contact outreachservices@cdcd.org.
URL:https://www.cdcd.org/event/id-replacement-clinic/2025-01-30/
LOCATION:CDCD\, 458 Fairall St\, Unit 4\, Ajax\, ON\, L1S 1R6\, Canada
CATEGORIES:Housing
ATTACH;FMTTYPE=image/png:https://www.cdcd.org/wp-content/uploads/2024/04/2024-12-17_ID-Replacement-Clinic-Thursday_Edna-Ucanda.png
END:VEVENT
BEGIN:VEVENT
DTSTART;TZID=America/Toronto:20250123T100000
DTEND;TZID=America/Toronto:20250123T160000
DTSTAMP:20260420T043406
CREATED:20250102T194919Z
LAST-MODIFIED:20250520T192642Z
UID:8114-1737626400-1737648000@www.cdcd.org
SUMMARY:Housing Walk-In Days
DESCRIPTION:CDCD’s Housing Department’s Housing Walk-In Days offer individuals the chance to consult with a housing case manager without scheduling an appointment. \nThis is a great opportunity for community members to receive assistance and information about housing options\, support services\, and resources available to them. \nNo appointment necessary—just drop by and get the help you need!
URL:https://www.cdcd.org/event/housing/2025-01-23/
LOCATION:CDCD\, 458 Fairall St\, Unit 4\, Ajax\, ON\, L1S 1R6\, Canada
CATEGORIES:Housing
ATTACH;FMTTYPE=image/png:https://www.cdcd.org/wp-content/uploads/2024/04/Housing-Walk-In-Days.png
END:VEVENT
BEGIN:VEVENT
DTSTART;TZID=America/Toronto:20250123T100000
DTEND;TZID=America/Toronto:20250123T160000
DTSTAMP:20260420T043406
CREATED:20240409T145722Z
LAST-MODIFIED:20250102T193600Z
UID:7056-1737626400-1737648000@www.cdcd.org
SUMMARY:ID Replacement Clinic
DESCRIPTION:CDCD’s Housing Department’s ID Replacement Clinic is a free service available for low-income individuals in the Ajax/Pickering area in need of Government issued identification. \nTo book an appointment please contact outreachservices@cdcd.org.
URL:https://www.cdcd.org/event/id-replacement-clinic/2025-01-23/
LOCATION:CDCD\, 458 Fairall St\, Unit 4\, Ajax\, ON\, L1S 1R6\, Canada
CATEGORIES:Housing
ATTACH;FMTTYPE=image/png:https://www.cdcd.org/wp-content/uploads/2024/04/2024-12-17_ID-Replacement-Clinic-Thursday_Edna-Ucanda.png
END:VEVENT
BEGIN:VEVENT
DTSTART;TZID=America/Toronto:20250116T100000
DTEND;TZID=America/Toronto:20250116T160000
DTSTAMP:20260420T043406
CREATED:20250102T194919Z
LAST-MODIFIED:20250520T192642Z
UID:8113-1737021600-1737043200@www.cdcd.org
SUMMARY:Housing Walk-In Days
DESCRIPTION:CDCD’s Housing Department’s Housing Walk-In Days offer individuals the chance to consult with a housing case manager without scheduling an appointment. \nThis is a great opportunity for community members to receive assistance and information about housing options\, support services\, and resources available to them. \nNo appointment necessary—just drop by and get the help you need!
URL:https://www.cdcd.org/event/housing/2025-01-16/
LOCATION:CDCD\, 458 Fairall St\, Unit 4\, Ajax\, ON\, L1S 1R6\, Canada
CATEGORIES:Housing
ATTACH;FMTTYPE=image/png:https://www.cdcd.org/wp-content/uploads/2024/04/Housing-Walk-In-Days.png
END:VEVENT
BEGIN:VEVENT
DTSTART;TZID=America/Toronto:20250116T100000
DTEND;TZID=America/Toronto:20250116T160000
DTSTAMP:20260420T043406
CREATED:20240409T145722Z
LAST-MODIFIED:20250102T193600Z
UID:7055-1737021600-1737043200@www.cdcd.org
SUMMARY:ID Replacement Clinic
DESCRIPTION:CDCD’s Housing Department’s ID Replacement Clinic is a free service available for low-income individuals in the Ajax/Pickering area in need of Government issued identification. \nTo book an appointment please contact outreachservices@cdcd.org.
URL:https://www.cdcd.org/event/id-replacement-clinic/2025-01-16/
LOCATION:CDCD\, 458 Fairall St\, Unit 4\, Ajax\, ON\, L1S 1R6\, Canada
CATEGORIES:Housing
ATTACH;FMTTYPE=image/png:https://www.cdcd.org/wp-content/uploads/2024/04/2024-12-17_ID-Replacement-Clinic-Thursday_Edna-Ucanda.png
END:VEVENT
BEGIN:VEVENT
DTSTART;TZID=America/Toronto:20250115T110000
DTEND;TZID=America/Toronto:20250115T130000
DTSTAMP:20260420T043406
CREATED:20240403T202614Z
LAST-MODIFIED:20240403T202614Z
UID:6906-1736938800-1736946000@www.cdcd.org
SUMMARY:Housing Outreach Services – Pickering
DESCRIPTION:Every 3rd Wednesday of the month at Pickering Library\, Main Branch you can access support for \n\n\n\nLandlord Tenant Issues\nTips for Housing Search\nApplication for Social Housing\nID Clinic\nOntario Electricity Support Program (OESP) Support\n\n\n\nFor more information please contact outreachservices@cdcd.org.
URL:https://www.cdcd.org/event/housing-outreach-services-pickering/2025-01-15/
LOCATION:Pickering Library Main Branch\, 1 The Esplanade\, Pickering\, ON\, L1V 2R6\, Canada
CATEGORIES:Housing
ATTACH;FMTTYPE=image/jpeg:https://www.cdcd.org/wp-content/uploads/2021/06/H_keys.jpg
END:VEVENT
BEGIN:VEVENT
DTSTART;TZID=America/Toronto:20250109T100000
DTEND;TZID=America/Toronto:20250109T160000
DTSTAMP:20260420T043406
CREATED:20250102T194919Z
LAST-MODIFIED:20250520T192642Z
UID:8112-1736416800-1736438400@www.cdcd.org
SUMMARY:Housing Walk-In Days
DESCRIPTION:CDCD’s Housing Department’s Housing Walk-In Days offer individuals the chance to consult with a housing case manager without scheduling an appointment. \nThis is a great opportunity for community members to receive assistance and information about housing options\, support services\, and resources available to them. \nNo appointment necessary—just drop by and get the help you need!
URL:https://www.cdcd.org/event/housing/2025-01-09/
LOCATION:CDCD\, 458 Fairall St\, Unit 4\, Ajax\, ON\, L1S 1R6\, Canada
CATEGORIES:Housing
ATTACH;FMTTYPE=image/png:https://www.cdcd.org/wp-content/uploads/2024/04/Housing-Walk-In-Days.png
END:VEVENT
BEGIN:VEVENT
DTSTART;TZID=America/Toronto:20250109T100000
DTEND;TZID=America/Toronto:20250109T160000
DTSTAMP:20260420T043406
CREATED:20240409T145722Z
LAST-MODIFIED:20250102T193559Z
UID:7054-1736416800-1736438400@www.cdcd.org
SUMMARY:ID Replacement Clinic
DESCRIPTION:CDCD’s Housing Department’s ID Replacement Clinic is a free service available for low-income individuals in the Ajax/Pickering area in need of Government issued identification. \nTo book an appointment please contact outreachservices@cdcd.org.
URL:https://www.cdcd.org/event/id-replacement-clinic/2025-01-09/
LOCATION:CDCD\, 458 Fairall St\, Unit 4\, Ajax\, ON\, L1S 1R6\, Canada
CATEGORIES:Housing
ATTACH;FMTTYPE=image/png:https://www.cdcd.org/wp-content/uploads/2024/04/2024-12-17_ID-Replacement-Clinic-Thursday_Edna-Ucanda.png
END:VEVENT
BEGIN:VEVENT
DTSTART;TZID=America/Toronto:20250108T140000
DTEND;TZID=America/Toronto:20250108T160000
DTSTAMP:20260420T043406
CREATED:20240403T202252Z
LAST-MODIFIED:20240403T202252Z
UID:6894-1736344800-1736352000@www.cdcd.org
SUMMARY:Housing Outreach Services – Ajax
DESCRIPTION:Every 2nd Wednesday of the month at Ajax Library\, Main Branch you can access support for \n\n\n\nLandlord Tenant Issues\nTips for Housing Search\nApplication for Social Housing\nID Clinic\nOntario Electricity Support Program (OESP) Support\n\n\n\nFor more information please contact outreachservices@cdcd.org.
URL:https://www.cdcd.org/event/housing-outreach-services-ajax/2025-01-08/
LOCATION:Ajax Library Main Branch\, 55 Harwood Avenue South\, Ajax\, ON\, L1S 2H8\, Canada
CATEGORIES:Housing
ATTACH;FMTTYPE=image/jpeg:https://www.cdcd.org/wp-content/uploads/2021/06/H_keys.jpg
END:VEVENT
BEGIN:VEVENT
DTSTART;TZID=America/Toronto:20250102T100000
DTEND;TZID=America/Toronto:20250102T160000
DTSTAMP:20260420T043406
CREATED:20250102T194919Z
LAST-MODIFIED:20250413T172730Z
UID:8110-1735812000-1735833600@www.cdcd.org
SUMMARY:Housing Walk-In Days
DESCRIPTION:CDCD’s Housing Department’s Housing Walk-In Days offer individuals the chance to consult with a housing case manager without scheduling an appointment. \nThis is a great opportunity for community members to receive assistance and information about housing options\, support services\, and resources available to them. \nNo appointment necessary—just drop by and get the help you need!
URL:https://www.cdcd.org/event/housing/2025-01-02/
LOCATION:CDCD\, 458 Fairall St\, Unit 4\, Ajax\, ON\, L1S 1R6\, Canada
CATEGORIES:Housing
ATTACH;FMTTYPE=image/png:https://www.cdcd.org/wp-content/uploads/2024/04/Housing-Walk-In-Days.png
END:VEVENT
BEGIN:VEVENT
DTSTART;TZID=America/Toronto:20250102T100000
DTEND;TZID=America/Toronto:20250102T160000
DTSTAMP:20260420T043406
CREATED:20240409T145722Z
LAST-MODIFIED:20250413T172830Z
UID:7007-1735812000-1735833600@www.cdcd.org
SUMMARY:ID Replacement Clinic
DESCRIPTION:CDCD’s Housing Department’s ID Replacement Clinic is a free service available for low-income individuals in the Ajax/Pickering area in need of Government issued identification. \nTo book an appointment please contact outreachservices@cdcd.org.
URL:https://www.cdcd.org/event/id-replacement-clinic/2025-01-02/
LOCATION:CDCD\, 458 Fairall St\, Unit 4\, Ajax\, ON\, L1S 1R6\, Canada
CATEGORIES:Housing
ATTACH;FMTTYPE=image/png:https://www.cdcd.org/wp-content/uploads/2024/04/2024-12-17_ID-Replacement-Clinic-Thursday_Edna-Ucanda.png
END:VEVENT
BEGIN:VEVENT
DTSTART;TZID=America/Toronto:20241223T130000
DTEND;TZID=America/Toronto:20241223T163000
DTSTAMP:20260420T043406
CREATED:20241113T145531Z
LAST-MODIFIED:20241113T145531Z
UID:7927-1734958800-1734971400@www.cdcd.org
SUMMARY:CDCD Housing Search Workshop
DESCRIPTION:Registration required for these housing workshops. Contact outreachservices@cdcd.org\n \n 
URL:https://www.cdcd.org/event/cdcd-housing-search-workshop/2024-12-23/
LOCATION:CDCD\, 458 Fairall St\, Unit 4\, Ajax\, ON\, L1S 1R6\, Canada
CATEGORIES:Housing
ATTACH;FMTTYPE=image/png:https://www.cdcd.org/wp-content/uploads/2024/11/CDCD-Housing-Search-Workshop-Flyer-3-1_Edna-Ucanda-header.png
END:VEVENT
BEGIN:VEVENT
DTSTART;TZID=America/Toronto:20241218T110000
DTEND;TZID=America/Toronto:20241218T130000
DTSTAMP:20260420T043406
CREATED:20240403T202614Z
LAST-MODIFIED:20240403T202614Z
UID:6905-1734519600-1734526800@www.cdcd.org
SUMMARY:Housing Outreach Services – Pickering
DESCRIPTION:Every 3rd Wednesday of the month at Pickering Library\, Main Branch you can access support for \n\n\n\nLandlord Tenant Issues\nTips for Housing Search\nApplication for Social Housing\nID Clinic\nOntario Electricity Support Program (OESP) Support\n\n\n\nFor more information please contact outreachservices@cdcd.org.
URL:https://www.cdcd.org/event/housing-outreach-services-pickering/2024-12-18/
LOCATION:Pickering Library Main Branch\, 1 The Esplanade\, Pickering\, ON\, L1V 2R6\, Canada
CATEGORIES:Housing
ATTACH;FMTTYPE=image/jpeg:https://www.cdcd.org/wp-content/uploads/2021/06/H_keys.jpg
END:VEVENT
BEGIN:VEVENT
DTSTART;TZID=America/Toronto:20241211T140000
DTEND;TZID=America/Toronto:20241211T160000
DTSTAMP:20260420T043406
CREATED:20240403T202252Z
LAST-MODIFIED:20240403T202252Z
UID:6893-1733925600-1733932800@www.cdcd.org
SUMMARY:Housing Outreach Services – Ajax
DESCRIPTION:Every 2nd Wednesday of the month at Ajax Library\, Main Branch you can access support for \n\n\n\nLandlord Tenant Issues\nTips for Housing Search\nApplication for Social Housing\nID Clinic\nOntario Electricity Support Program (OESP) Support\n\n\n\nFor more information please contact outreachservices@cdcd.org.
URL:https://www.cdcd.org/event/housing-outreach-services-ajax/2024-12-11/
LOCATION:Ajax Library Main Branch\, 55 Harwood Avenue South\, Ajax\, ON\, L1S 2H8\, Canada
CATEGORIES:Housing
ATTACH;FMTTYPE=image/jpeg:https://www.cdcd.org/wp-content/uploads/2021/06/H_keys.jpg
END:VEVENT
BEGIN:VEVENT
DTSTART;TZID=America/Toronto:20241209T130000
DTEND;TZID=America/Toronto:20241209T163000
DTSTAMP:20260420T043406
CREATED:20241113T145531Z
LAST-MODIFIED:20241113T145531Z
UID:7923-1733749200-1733761800@www.cdcd.org
SUMMARY:CDCD Housing Search Workshop
DESCRIPTION:Registration required for these housing workshops. Contact outreachservices@cdcd.org\n \n 
URL:https://www.cdcd.org/event/cdcd-housing-search-workshop/2024-12-09/
LOCATION:CDCD\, 458 Fairall St\, Unit 4\, Ajax\, ON\, L1S 1R6\, Canada
CATEGORIES:Housing
ATTACH;FMTTYPE=image/png:https://www.cdcd.org/wp-content/uploads/2024/11/CDCD-Housing-Search-Workshop-Flyer-3-1_Edna-Ucanda-header.png
END:VEVENT
BEGIN:VEVENT
DTSTART;VALUE=DATE:20241122
DTEND;VALUE=DATE:20241123
DTSTAMP:20260420T043406
CREATED:20241122T171824Z
LAST-MODIFIED:20250102T194057Z
UID:7950-1732233600-1732319999@www.cdcd.org
SUMMARY:National Housing Day
DESCRIPTION:Housing is a basic human right and vital for health and mental well-being\, yet many individuals lack access to safe and affordable housing options.\nAddressing housing insecurity requires collaboration among governments\, non-profits\, and private sectors through initiatives like subsidies\, affordable housing\, and anti-discrimination policies. Fostering inclusive communities and promoting dialogue can tackle root causes\, ensuring safe environments for all. Education and awareness are vital for changing perceptions\, reducing stigma\, and inspiring innovative\, dignity-focused solutions.\n\n\nLearn how CDCD is helping to find solutions that prioritize human dignity and the well-being of all individuals at https://www.cdcd.org/programs-and-services/
URL:https://www.cdcd.org/event/7950/
LOCATION:ON
CATEGORIES:Community Development,Housing
END:VEVENT
END:VCALENDAR