BEGIN:VCALENDAR
VERSION:2.0
PRODID:-//CDCD - ECPv6.13.2.1//NONSGML v1.0//EN
CALSCALE:GREGORIAN
METHOD:PUBLISH
X-WR-CALNAME:CDCD
X-ORIGINAL-URL:https://www.cdcd.org
X-WR-CALDESC:Events for CDCD
REFRESH-INTERVAL;VALUE=DURATION:PT1H
X-Robots-Tag:noindex
X-PUBLISHED-TTL:PT1H
BEGIN:VTIMEZONE
TZID:America/Toronto
BEGIN:DAYLIGHT
TZOFFSETFROM:-0500
TZOFFSETTO:-0400
TZNAME:EDT
DTSTART:20240310T070000
END:DAYLIGHT
BEGIN:STANDARD
TZOFFSETFROM:-0400
TZOFFSETTO:-0500
TZNAME:EST
DTSTART:20241103T060000
END:STANDARD
END:VTIMEZONE
BEGIN:VEVENT
DTSTART;TZID=America/Toronto:20240821T110000
DTEND;TZID=America/Toronto:20240821T130000
DTSTAMP:20260420T080517
CREATED:20240403T202614Z
LAST-MODIFIED:20240403T202614Z
UID:6901-1724238000-1724245200@www.cdcd.org
SUMMARY:Housing Outreach Services – Pickering
DESCRIPTION:Every 3rd Wednesday of the month at Pickering Library\, Main Branch you can access support for \n\n\n\nLandlord Tenant Issues\nTips for Housing Search\nApplication for Social Housing\nID Clinic\nOntario Electricity Support Program (OESP) Support\n\n\n\nFor more information please contact outreachservices@cdcd.org.
URL:https://www.cdcd.org/event/housing-outreach-services-pickering/2024-08-21/
LOCATION:Pickering Library Main Branch\, 1 The Esplanade\, Pickering\, ON\, L1V 2R6\, Canada
CATEGORIES:Housing
ATTACH;FMTTYPE=image/jpeg:https://www.cdcd.org/wp-content/uploads/2021/06/H_keys.jpg
END:VEVENT
BEGIN:VEVENT
DTSTART;TZID=America/Toronto:20240814T140000
DTEND;TZID=America/Toronto:20240814T160000
DTSTAMP:20260420T080517
CREATED:20240403T202252Z
LAST-MODIFIED:20240403T202252Z
UID:6889-1723644000-1723651200@www.cdcd.org
SUMMARY:Housing Outreach Services – Ajax
DESCRIPTION:Every 2nd Wednesday of the month at Ajax Library\, Main Branch you can access support for \n\n\n\nLandlord Tenant Issues\nTips for Housing Search\nApplication for Social Housing\nID Clinic\nOntario Electricity Support Program (OESP) Support\n\n\n\nFor more information please contact outreachservices@cdcd.org.
URL:https://www.cdcd.org/event/housing-outreach-services-ajax/2024-08-14/
LOCATION:Ajax Library Main Branch\, 55 Harwood Avenue South\, Ajax\, ON\, L1S 2H8\, Canada
CATEGORIES:Housing
ATTACH;FMTTYPE=image/jpeg:https://www.cdcd.org/wp-content/uploads/2021/06/H_keys.jpg
END:VEVENT
BEGIN:VEVENT
DTSTART;TZID=America/Toronto:20240719T133000
DTEND;TZID=America/Toronto:20240719T160000
DTSTAMP:20260420T080517
CREATED:20240704T194128Z
LAST-MODIFIED:20240704T194142Z
UID:7477-1721395800-1721404800@www.cdcd.org
SUMMARY:Housing Department Open House
DESCRIPTION:Join us for our Housing Department Open House on Friday\, 19 July. \nThe event starts at 1:30 pm with presentations and speeches at 2:00 pm. \nLight refreshments will be served.
URL:https://www.cdcd.org/event/housing-department-open-house/
LOCATION:CDCD\, 458 Fairall St\, Unit 4\, Ajax\, ON\, L1S 1R6\, Canada
CATEGORIES:Housing
ATTACH;FMTTYPE=image/png:https://www.cdcd.org/wp-content/uploads/2024/07/2024-Housing-Open-House.png
END:VEVENT
BEGIN:VEVENT
DTSTART;TZID=America/Toronto:20240717T110000
DTEND;TZID=America/Toronto:20240717T130000
DTSTAMP:20260420T080517
CREATED:20240403T202614Z
LAST-MODIFIED:20240403T202614Z
UID:6900-1721214000-1721221200@www.cdcd.org
SUMMARY:Housing Outreach Services – Pickering
DESCRIPTION:Every 3rd Wednesday of the month at Pickering Library\, Main Branch you can access support for \n\n\n\nLandlord Tenant Issues\nTips for Housing Search\nApplication for Social Housing\nID Clinic\nOntario Electricity Support Program (OESP) Support\n\n\n\nFor more information please contact outreachservices@cdcd.org.
URL:https://www.cdcd.org/event/housing-outreach-services-pickering/2024-07-17/
LOCATION:Pickering Library Main Branch\, 1 The Esplanade\, Pickering\, ON\, L1V 2R6\, Canada
CATEGORIES:Housing
ATTACH;FMTTYPE=image/jpeg:https://www.cdcd.org/wp-content/uploads/2021/06/H_keys.jpg
END:VEVENT
BEGIN:VEVENT
DTSTART;TZID=America/Toronto:20240710T140000
DTEND;TZID=America/Toronto:20240710T160000
DTSTAMP:20260420T080517
CREATED:20240403T202252Z
LAST-MODIFIED:20240403T202252Z
UID:6888-1720620000-1720627200@www.cdcd.org
SUMMARY:Housing Outreach Services – Ajax
DESCRIPTION:Every 2nd Wednesday of the month at Ajax Library\, Main Branch you can access support for \n\n\n\nLandlord Tenant Issues\nTips for Housing Search\nApplication for Social Housing\nID Clinic\nOntario Electricity Support Program (OESP) Support\n\n\n\nFor more information please contact outreachservices@cdcd.org.
URL:https://www.cdcd.org/event/housing-outreach-services-ajax/2024-07-10/
LOCATION:Ajax Library Main Branch\, 55 Harwood Avenue South\, Ajax\, ON\, L1S 2H8\, Canada
CATEGORIES:Housing
ATTACH;FMTTYPE=image/jpeg:https://www.cdcd.org/wp-content/uploads/2021/06/H_keys.jpg
END:VEVENT
BEGIN:VEVENT
DTSTART;TZID=America/Toronto:20240619T110000
DTEND;TZID=America/Toronto:20240619T130000
DTSTAMP:20260420T080517
CREATED:20240403T202614Z
LAST-MODIFIED:20240403T202614Z
UID:6899-1718794800-1718802000@www.cdcd.org
SUMMARY:Housing Outreach Services – Pickering
DESCRIPTION:Every 3rd Wednesday of the month at Pickering Library\, Main Branch you can access support for \n\n\n\nLandlord Tenant Issues\nTips for Housing Search\nApplication for Social Housing\nID Clinic\nOntario Electricity Support Program (OESP) Support\n\n\n\nFor more information please contact outreachservices@cdcd.org.
URL:https://www.cdcd.org/event/housing-outreach-services-pickering/2024-06-19/
LOCATION:Pickering Library Main Branch\, 1 The Esplanade\, Pickering\, ON\, L1V 2R6\, Canada
CATEGORIES:Housing
ATTACH;FMTTYPE=image/jpeg:https://www.cdcd.org/wp-content/uploads/2021/06/H_keys.jpg
END:VEVENT
BEGIN:VEVENT
DTSTART;TZID=America/Toronto:20240612T140000
DTEND;TZID=America/Toronto:20240612T160000
DTSTAMP:20260420T080517
CREATED:20240403T202252Z
LAST-MODIFIED:20240403T202252Z
UID:6887-1718200800-1718208000@www.cdcd.org
SUMMARY:Housing Outreach Services – Ajax
DESCRIPTION:Every 2nd Wednesday of the month at Ajax Library\, Main Branch you can access support for \n\n\n\nLandlord Tenant Issues\nTips for Housing Search\nApplication for Social Housing\nID Clinic\nOntario Electricity Support Program (OESP) Support\n\n\n\nFor more information please contact outreachservices@cdcd.org.
URL:https://www.cdcd.org/event/housing-outreach-services-ajax/2024-06-12/
LOCATION:Ajax Library Main Branch\, 55 Harwood Avenue South\, Ajax\, ON\, L1S 2H8\, Canada
CATEGORIES:Housing
ATTACH;FMTTYPE=image/jpeg:https://www.cdcd.org/wp-content/uploads/2021/06/H_keys.jpg
END:VEVENT
BEGIN:VEVENT
DTSTART;TZID=America/Toronto:20240515T110000
DTEND;TZID=America/Toronto:20240515T130000
DTSTAMP:20260420T080517
CREATED:20240403T202614Z
LAST-MODIFIED:20240403T202614Z
UID:6898-1715770800-1715778000@www.cdcd.org
SUMMARY:Housing Outreach Services – Pickering
DESCRIPTION:Every 3rd Wednesday of the month at Pickering Library\, Main Branch you can access support for \n\n\n\nLandlord Tenant Issues\nTips for Housing Search\nApplication for Social Housing\nID Clinic\nOntario Electricity Support Program (OESP) Support\n\n\n\nFor more information please contact outreachservices@cdcd.org.
URL:https://www.cdcd.org/event/housing-outreach-services-pickering/2024-05-15/
LOCATION:Pickering Library Main Branch\, 1 The Esplanade\, Pickering\, ON\, L1V 2R6\, Canada
CATEGORIES:Housing
ATTACH;FMTTYPE=image/jpeg:https://www.cdcd.org/wp-content/uploads/2021/06/H_keys.jpg
END:VEVENT
BEGIN:VEVENT
DTSTART;TZID=America/Toronto:20240508T140000
DTEND;TZID=America/Toronto:20240508T160000
DTSTAMP:20260420T080517
CREATED:20240403T202252Z
LAST-MODIFIED:20240403T202252Z
UID:6886-1715176800-1715184000@www.cdcd.org
SUMMARY:Housing Outreach Services – Ajax
DESCRIPTION:Every 2nd Wednesday of the month at Ajax Library\, Main Branch you can access support for \n\n\n\nLandlord Tenant Issues\nTips for Housing Search\nApplication for Social Housing\nID Clinic\nOntario Electricity Support Program (OESP) Support\n\n\n\nFor more information please contact outreachservices@cdcd.org.
URL:https://www.cdcd.org/event/housing-outreach-services-ajax/2024-05-08/
LOCATION:Ajax Library Main Branch\, 55 Harwood Avenue South\, Ajax\, ON\, L1S 2H8\, Canada
CATEGORIES:Housing
ATTACH;FMTTYPE=image/jpeg:https://www.cdcd.org/wp-content/uploads/2021/06/H_keys.jpg
END:VEVENT
BEGIN:VEVENT
DTSTART;TZID=America/Toronto:20240417T110000
DTEND;TZID=America/Toronto:20240417T130000
DTSTAMP:20260420T080517
CREATED:20240403T202614Z
LAST-MODIFIED:20240403T203024Z
UID:6884-1713351600-1713358800@www.cdcd.org
SUMMARY:Housing Outreach Services – Pickering
DESCRIPTION:Every 3rd Wednesday of the month at Pickering Library\, Main Branch you can access support for \n\n\n\nLandlord Tenant Issues\nTips for Housing Search\nApplication for Social Housing\nID Clinic\nOntario Electricity Support Program (OESP) Support\n\n\n\nFor more information please contact outreachservices@cdcd.org.
URL:https://www.cdcd.org/event/housing-outreach-services-pickering/2024-04-17/
LOCATION:Pickering Library Main Branch\, 1 The Esplanade\, Pickering\, ON\, L1V 2R6\, Canada
CATEGORIES:Housing
ATTACH;FMTTYPE=image/jpeg:https://www.cdcd.org/wp-content/uploads/2021/06/H_keys.jpg
END:VEVENT
BEGIN:VEVENT
DTSTART;TZID=America/Toronto:20240410T140000
DTEND;TZID=America/Toronto:20240410T160000
DTSTAMP:20260420T080517
CREATED:20240403T202252Z
LAST-MODIFIED:20240403T202922Z
UID:6882-1712757600-1712764800@www.cdcd.org
SUMMARY:Housing Outreach Services – Ajax
DESCRIPTION:Every 2nd Wednesday of the month at Ajax Library\, Main Branch you can access support for \n\n\n\nLandlord Tenant Issues\nTips for Housing Search\nApplication for Social Housing\nID Clinic\nOntario Electricity Support Program (OESP) Support\n\n\n\nFor more information please contact outreachservices@cdcd.org.
URL:https://www.cdcd.org/event/housing-outreach-services-ajax/2024-04-10/
LOCATION:Ajax Library Main Branch\, 55 Harwood Avenue South\, Ajax\, ON\, L1S 2H8\, Canada
CATEGORIES:Housing
ATTACH;FMTTYPE=image/jpeg:https://www.cdcd.org/wp-content/uploads/2021/06/H_keys.jpg
END:VEVENT
END:VCALENDAR