BEGIN:VCALENDAR
VERSION:2.0
PRODID:-//CDCD - ECPv6.13.2.1//NONSGML v1.0//EN
CALSCALE:GREGORIAN
METHOD:PUBLISH
X-WR-CALNAME:CDCD
X-ORIGINAL-URL:https://www.cdcd.org
X-WR-CALDESC:Events for CDCD
REFRESH-INTERVAL;VALUE=DURATION:PT1H
X-Robots-Tag:noindex
X-PUBLISHED-TTL:PT1H
BEGIN:VTIMEZONE
TZID:America/Toronto
BEGIN:DAYLIGHT
TZOFFSETFROM:-0500
TZOFFSETTO:-0400
TZNAME:EDT
DTSTART:20250309T070000
END:DAYLIGHT
BEGIN:STANDARD
TZOFFSETFROM:-0400
TZOFFSETTO:-0500
TZNAME:EST
DTSTART:20251102T060000
END:STANDARD
END:VTIMEZONE
BEGIN:VEVENT
DTSTART;TZID=America/Toronto:20250605T083000
DTEND;TZID=America/Toronto:20250605T163000
DTSTAMP:20260420T004746
CREATED:20250413T174728Z
LAST-MODIFIED:20250413T174728Z
UID:9130-1749112200-1749141000@www.cdcd.org
SUMMARY:ID Replacement Clinic
DESCRIPTION:  \n \nSchedule your appointment today. \nThe ID Replacement Clinic is a free service available for low-income individuals in the Ajax Pickering area. \nTo book an appointment please call 905-686-2661 ext. 147.
URL:https://www.cdcd.org/event/id-replacement-clinic-2/2025-06-05/
CATEGORIES:Housing
ATTACH;FMTTYPE=image/png:https://www.cdcd.org/wp-content/uploads/2025/04/Housing-ID-Replacement-Clinic-Thursday.png
END:VEVENT
BEGIN:VEVENT
DTSTART;TZID=America/Toronto:20250604T100000
DTEND;TZID=America/Toronto:20250604T163000
DTSTAMP:20260420T004746
CREATED:20250520T201920Z
LAST-MODIFIED:20250520T210136Z
UID:9384-1749031200-1749054600@www.cdcd.org
SUMMARY:Housing Settlement Services at Durham Region Unemployed Help Centre
DESCRIPTION:CDCD’s Settlement Housing Services offer support and guidance to newcomers who have been in Canada for less than five (5) years throughout Durham with their housing needs. \nCase workers assist clients with \n\n\n\nLandlord Tenant Issues\nTips for Housing Search\nApplication for Social Housing\nHousing Stability Program\nID Clinic\n\n\nContact 905-686-2661 to book an appointment or for more information.
URL:https://www.cdcd.org/event/9379/2025-06-04/
LOCATION:Region Unemployed Help Centre\, 272 King Street East\, Oshawa\, ON\, L1H 1C8\, Canada
CATEGORIES:Housing
ATTACH;FMTTYPE=image/png:https://www.cdcd.org/wp-content/uploads/2025/05/Housing-Durham-region-unemployed-help-centrehousing-settlement-services-1.png
END:VEVENT
BEGIN:VEVENT
DTSTART;TZID=America/Toronto:20250530T163000
DTEND;TZID=America/Toronto:20250530T183000
DTSTAMP:20260420T004746
CREATED:20250520T200824Z
LAST-MODIFIED:20250520T200837Z
UID:9375-1748622600-1748629800@www.cdcd.org
SUMMARY:CDCD Housing Youth Paint Night
DESCRIPTION:If you are a resident of Ajax\, come join us for a youth painting session! \nFor information or to register please contact Maliha at 905-686-2661 x136.
URL:https://www.cdcd.org/event/cdcd-housing-youth-paint-night/2025-05-30/
LOCATION:CDCD\, 458 Fairall St\, Unit 4\, Ajax\, ON\, L1S 1R6\, Canada
CATEGORIES:Housing
ATTACH;FMTTYPE=image/png:https://www.cdcd.org/wp-content/uploads/2025/05/Housing-youth-paint-night-2.png
END:VEVENT
BEGIN:VEVENT
DTSTART;TZID=America/Toronto:20250529T100000
DTEND;TZID=America/Toronto:20250529T160000
DTSTAMP:20260420T004746
CREATED:20250520T195735Z
LAST-MODIFIED:20250520T200142Z
UID:9310-1748512800-1748534400@www.cdcd.org
SUMMARY:CDCD Housing Outreach Walk In Clinic
DESCRIPTION:CDCD’s Housing Department’s Housing Walk-In Days offer individuals the chance to consult with a housing case manager without scheduling an appointment. \nThis is a great opportunity for community members to receive assistance and information about housing options\, support services\, and resources available to them. \nNo appointment necessary—just drop by and get the help you need!
URL:https://www.cdcd.org/event/cdcd-housing-outreach-walk-in-clinic/2025-05-29/
LOCATION:CDCD\, 458 Fairall St\, Unit 4\, Ajax\, ON\, L1S 1R6\, Canada
CATEGORIES:Housing
ATTACH;FMTTYPE=image/png:https://www.cdcd.org/wp-content/uploads/2025/05/Housing-Walk-in-thursday.png
END:VEVENT
BEGIN:VEVENT
DTSTART;TZID=America/Toronto:20250529T083000
DTEND;TZID=America/Toronto:20250529T163000
DTSTAMP:20260420T004746
CREATED:20250413T174728Z
LAST-MODIFIED:20250413T174728Z
UID:9129-1748507400-1748536200@www.cdcd.org
SUMMARY:ID Replacement Clinic
DESCRIPTION:  \n \nSchedule your appointment today. \nThe ID Replacement Clinic is a free service available for low-income individuals in the Ajax Pickering area. \nTo book an appointment please call 905-686-2661 ext. 147.
URL:https://www.cdcd.org/event/id-replacement-clinic-2/2025-05-29/
CATEGORIES:Housing
ATTACH;FMTTYPE=image/png:https://www.cdcd.org/wp-content/uploads/2025/04/Housing-ID-Replacement-Clinic-Thursday.png
END:VEVENT
BEGIN:VEVENT
DTSTART;TZID=America/Toronto:20250528T100000
DTEND;TZID=America/Toronto:20250528T163000
DTSTAMP:20260420T004746
CREATED:20250520T201920Z
LAST-MODIFIED:20250520T210136Z
UID:9383-1748426400-1748449800@www.cdcd.org
SUMMARY:Housing Settlement Services at Durham Region Unemployed Help Centre
DESCRIPTION:CDCD’s Settlement Housing Services offer support and guidance to newcomers who have been in Canada for less than five (5) years throughout Durham with their housing needs. \nCase workers assist clients with \n\n\n\nLandlord Tenant Issues\nTips for Housing Search\nApplication for Social Housing\nHousing Stability Program\nID Clinic\n\n\nContact 905-686-2661 to book an appointment or for more information.
URL:https://www.cdcd.org/event/9379/2025-05-28/
LOCATION:Region Unemployed Help Centre\, 272 King Street East\, Oshawa\, ON\, L1H 1C8\, Canada
CATEGORIES:Housing
ATTACH;FMTTYPE=image/png:https://www.cdcd.org/wp-content/uploads/2025/05/Housing-Durham-region-unemployed-help-centrehousing-settlement-services-1.png
END:VEVENT
BEGIN:VEVENT
DTSTART;TZID=America/Toronto:20250523T163000
DTEND;TZID=America/Toronto:20250523T183000
DTSTAMP:20260420T004746
CREATED:20250520T200824Z
LAST-MODIFIED:20250520T200837Z
UID:9373-1748017800-1748025000@www.cdcd.org
SUMMARY:CDCD Housing Youth Paint Night
DESCRIPTION:If you are a resident of Ajax\, come join us for a youth painting session! \nFor information or to register please contact Maliha at 905-686-2661 x136.
URL:https://www.cdcd.org/event/cdcd-housing-youth-paint-night/2025-05-23/
LOCATION:CDCD\, 458 Fairall St\, Unit 4\, Ajax\, ON\, L1S 1R6\, Canada
CATEGORIES:Housing
ATTACH;FMTTYPE=image/png:https://www.cdcd.org/wp-content/uploads/2025/05/Housing-youth-paint-night-2.png
END:VEVENT
BEGIN:VEVENT
DTSTART;TZID=America/Toronto:20250522T100000
DTEND;TZID=America/Toronto:20250522T160000
DTSTAMP:20260420T004746
CREATED:20250520T195735Z
LAST-MODIFIED:20250520T200141Z
UID:9295-1747908000-1747929600@www.cdcd.org
SUMMARY:CDCD Housing Outreach Walk In Clinic
DESCRIPTION:CDCD’s Housing Department’s Housing Walk-In Days offer individuals the chance to consult with a housing case manager without scheduling an appointment. \nThis is a great opportunity for community members to receive assistance and information about housing options\, support services\, and resources available to them. \nNo appointment necessary—just drop by and get the help you need!
URL:https://www.cdcd.org/event/cdcd-housing-outreach-walk-in-clinic/2025-05-22/
LOCATION:CDCD\, 458 Fairall St\, Unit 4\, Ajax\, ON\, L1S 1R6\, Canada
CATEGORIES:Housing
ATTACH;FMTTYPE=image/png:https://www.cdcd.org/wp-content/uploads/2025/05/Housing-Walk-in-thursday.png
END:VEVENT
BEGIN:VEVENT
DTSTART;TZID=America/Toronto:20250522T083000
DTEND;TZID=America/Toronto:20250522T163000
DTSTAMP:20260420T004746
CREATED:20250413T174728Z
LAST-MODIFIED:20250413T174728Z
UID:9128-1747902600-1747931400@www.cdcd.org
SUMMARY:ID Replacement Clinic
DESCRIPTION:  \n \nSchedule your appointment today. \nThe ID Replacement Clinic is a free service available for low-income individuals in the Ajax Pickering area. \nTo book an appointment please call 905-686-2661 ext. 147.
URL:https://www.cdcd.org/event/id-replacement-clinic-2/2025-05-22/
CATEGORIES:Housing
ATTACH;FMTTYPE=image/png:https://www.cdcd.org/wp-content/uploads/2025/04/Housing-ID-Replacement-Clinic-Thursday.png
END:VEVENT
BEGIN:VEVENT
DTSTART;TZID=America/Toronto:20250521T100000
DTEND;TZID=America/Toronto:20250521T163000
DTSTAMP:20260420T004746
CREATED:20250520T201920Z
LAST-MODIFIED:20250520T210136Z
UID:9379-1747821600-1747845000@www.cdcd.org
SUMMARY:Housing Settlement Services at Durham Region Unemployed Help Centre
DESCRIPTION:CDCD’s Settlement Housing Services offer support and guidance to newcomers who have been in Canada for less than five (5) years throughout Durham with their housing needs. \nCase workers assist clients with \n\n\n\nLandlord Tenant Issues\nTips for Housing Search\nApplication for Social Housing\nHousing Stability Program\nID Clinic\n\n\nContact 905-686-2661 to book an appointment or for more information.
URL:https://www.cdcd.org/event/9379/2025-05-21/
LOCATION:Region Unemployed Help Centre\, 272 King Street East\, Oshawa\, ON\, L1H 1C8\, Canada
CATEGORIES:Housing
ATTACH;FMTTYPE=image/png:https://www.cdcd.org/wp-content/uploads/2025/05/Housing-Durham-region-unemployed-help-centrehousing-settlement-services-1.png
END:VEVENT
BEGIN:VEVENT
DTSTART;TZID=America/Toronto:20250515T090000
DTEND;TZID=America/Toronto:20250515T160000
DTSTAMP:20260420T004746
CREATED:20250430T210030Z
LAST-MODIFIED:20250520T195941Z
UID:9169-1747299600-1747324800@www.cdcd.org
SUMMARY:CDCD Housing Outreach Clinic
DESCRIPTION:CDCD Housing Outreach Services offer support and guidance to individuals and families seeking stable and affordable living situations. Dedicated case workers assist clients in the Ajax-Pickering area with \n\n\n\nLandlord Tenant Issues\nTips for Housing Search\nApplication for Social Housing\nHousing Stability Program\nID Clinic\n\n\n\nAdditionally\, Housing Settlement Workers are available to support newcomers who have been in Canada for less than five (5) years throughout Durham with their housing needs. \n\n\nContact 905-686-2661 to book an appointment
URL:https://www.cdcd.org/event/cdcd-housing-outreach-clinic/2025-05-15/
LOCATION:CDCD\, 458 Fairall St\, Unit 4\, Ajax\, ON\, L1S 1R6\, Canada
CATEGORIES:Housing
ATTACH;FMTTYPE=image/png:https://www.cdcd.org/wp-content/uploads/2025/04/Housing-walk-in-thursday.png
END:VEVENT
BEGIN:VEVENT
DTSTART;TZID=America/Toronto:20250515T083000
DTEND;TZID=America/Toronto:20250515T163000
DTSTAMP:20260420T004746
CREATED:20250413T174728Z
LAST-MODIFIED:20250413T174728Z
UID:9127-1747297800-1747326600@www.cdcd.org
SUMMARY:ID Replacement Clinic
DESCRIPTION:  \n \nSchedule your appointment today. \nThe ID Replacement Clinic is a free service available for low-income individuals in the Ajax Pickering area. \nTo book an appointment please call 905-686-2661 ext. 147.
URL:https://www.cdcd.org/event/id-replacement-clinic-2/2025-05-15/
CATEGORIES:Housing
ATTACH;FMTTYPE=image/png:https://www.cdcd.org/wp-content/uploads/2025/04/Housing-ID-Replacement-Clinic-Thursday.png
END:VEVENT
BEGIN:VEVENT
DTSTART;TZID=America/Toronto:20250508T140000
DTEND;TZID=America/Toronto:20250508T153000
DTSTAMP:20260420T004746
CREATED:20250413T175741Z
LAST-MODIFIED:20250413T180008Z
UID:9160-1746712800-1746718200@www.cdcd.org
SUMMARY:Landlord Support Workshop: Benefits of Joining the Opening Doors Program
DESCRIPTION:A workshop for landlords who would like to know about the Opening Doors Program\,  a program designed to foster stronger relationships between tenants\, landlords and housing providers in the local community.
URL:https://www.cdcd.org/event/landlord-support-workshop-benefits-of-joining-the-opening-doors-program/
LOCATION:CDCD\, 458 Fairall St\, Unit 4\, Ajax\, ON\, L1S 1R6\, Canada
CATEGORIES:Housing
ATTACH;FMTTYPE=image/png:https://www.cdcd.org/wp-content/uploads/2025/04/Housing-landlord-support-workshop.png
END:VEVENT
BEGIN:VEVENT
DTSTART;TZID=America/Toronto:20250508T090000
DTEND;TZID=America/Toronto:20250508T160000
DTSTAMP:20260420T004746
CREATED:20250430T210030Z
LAST-MODIFIED:20250520T195941Z
UID:9168-1746694800-1746720000@www.cdcd.org
SUMMARY:CDCD Housing Outreach Clinic
DESCRIPTION:CDCD Housing Outreach Services offer support and guidance to individuals and families seeking stable and affordable living situations. Dedicated case workers assist clients in the Ajax-Pickering area with \n\n\n\nLandlord Tenant Issues\nTips for Housing Search\nApplication for Social Housing\nHousing Stability Program\nID Clinic\n\n\n\nAdditionally\, Housing Settlement Workers are available to support newcomers who have been in Canada for less than five (5) years throughout Durham with their housing needs. \n\n\nContact 905-686-2661 to book an appointment
URL:https://www.cdcd.org/event/cdcd-housing-outreach-clinic/2025-05-08/
LOCATION:CDCD\, 458 Fairall St\, Unit 4\, Ajax\, ON\, L1S 1R6\, Canada
CATEGORIES:Housing
ATTACH;FMTTYPE=image/png:https://www.cdcd.org/wp-content/uploads/2025/04/Housing-walk-in-thursday.png
END:VEVENT
BEGIN:VEVENT
DTSTART;TZID=America/Toronto:20250508T083000
DTEND;TZID=America/Toronto:20250508T163000
DTSTAMP:20260420T004746
CREATED:20250413T174728Z
LAST-MODIFIED:20250413T174728Z
UID:9126-1746693000-1746721800@www.cdcd.org
SUMMARY:ID Replacement Clinic
DESCRIPTION:  \n \nSchedule your appointment today. \nThe ID Replacement Clinic is a free service available for low-income individuals in the Ajax Pickering area. \nTo book an appointment please call 905-686-2661 ext. 147.
URL:https://www.cdcd.org/event/id-replacement-clinic-2/2025-05-08/
CATEGORIES:Housing
ATTACH;FMTTYPE=image/png:https://www.cdcd.org/wp-content/uploads/2025/04/Housing-ID-Replacement-Clinic-Thursday.png
END:VEVENT
BEGIN:VEVENT
DTSTART;TZID=America/Toronto:20250501T090000
DTEND;TZID=America/Toronto:20250501T160000
DTSTAMP:20260420T004746
CREATED:20250430T210030Z
LAST-MODIFIED:20250520T195924Z
UID:9166-1746090000-1746115200@www.cdcd.org
SUMMARY:CDCD Housing Outreach Clinic
DESCRIPTION:CDCD Housing Outreach Services offer support and guidance to individuals and families seeking stable and affordable living situations. Dedicated case workers assist clients in the Ajax-Pickering area with \n\n\n\nLandlord Tenant Issues\nTips for Housing Search\nApplication for Social Housing\nHousing Stability Program\nID Clinic\n\n\n\nAdditionally\, Housing Settlement Workers are available to support newcomers who have been in Canada for less than five (5) years throughout Durham with their housing needs. \n\n\nContact 905-686-2661 to book an appointment
URL:https://www.cdcd.org/event/cdcd-housing-outreach-clinic/2025-05-01/
LOCATION:CDCD\, 458 Fairall St\, Unit 4\, Ajax\, ON\, L1S 1R6\, Canada
CATEGORIES:Housing
ATTACH;FMTTYPE=image/png:https://www.cdcd.org/wp-content/uploads/2025/04/Housing-walk-in-thursday.png
END:VEVENT
BEGIN:VEVENT
DTSTART;TZID=America/Toronto:20250501T083000
DTEND;TZID=America/Toronto:20250501T163000
DTSTAMP:20260420T004746
CREATED:20250413T174728Z
LAST-MODIFIED:20250413T174728Z
UID:9125-1746088200-1746117000@www.cdcd.org
SUMMARY:ID Replacement Clinic
DESCRIPTION:  \n \nSchedule your appointment today. \nThe ID Replacement Clinic is a free service available for low-income individuals in the Ajax Pickering area. \nTo book an appointment please call 905-686-2661 ext. 147.
URL:https://www.cdcd.org/event/id-replacement-clinic-2/2025-05-01/
CATEGORIES:Housing
ATTACH;FMTTYPE=image/png:https://www.cdcd.org/wp-content/uploads/2025/04/Housing-ID-Replacement-Clinic-Thursday.png
END:VEVENT
BEGIN:VEVENT
DTSTART;TZID=America/Toronto:20250424T083000
DTEND;TZID=America/Toronto:20250424T163000
DTSTAMP:20260420T004746
CREATED:20250413T174728Z
LAST-MODIFIED:20250413T174728Z
UID:9124-1745483400-1745512200@www.cdcd.org
SUMMARY:ID Replacement Clinic
DESCRIPTION:  \n \nSchedule your appointment today. \nThe ID Replacement Clinic is a free service available for low-income individuals in the Ajax Pickering area. \nTo book an appointment please call 905-686-2661 ext. 147.
URL:https://www.cdcd.org/event/id-replacement-clinic-2/2025-04-24/
CATEGORIES:Housing
ATTACH;FMTTYPE=image/png:https://www.cdcd.org/wp-content/uploads/2025/04/Housing-ID-Replacement-Clinic-Thursday.png
END:VEVENT
BEGIN:VEVENT
DTSTART;TZID=America/Toronto:20250417T083000
DTEND;TZID=America/Toronto:20250417T163000
DTSTAMP:20260420T004746
CREATED:20250413T174728Z
LAST-MODIFIED:20250413T174728Z
UID:9122-1744878600-1744907400@www.cdcd.org
SUMMARY:ID Replacement Clinic
DESCRIPTION:  \n \nSchedule your appointment today. \nThe ID Replacement Clinic is a free service available for low-income individuals in the Ajax Pickering area. \nTo book an appointment please call 905-686-2661 ext. 147.
URL:https://www.cdcd.org/event/id-replacement-clinic-2/2025-04-17/
CATEGORIES:Housing
ATTACH;FMTTYPE=image/png:https://www.cdcd.org/wp-content/uploads/2025/04/Housing-ID-Replacement-Clinic-Thursday.png
END:VEVENT
BEGIN:VEVENT
DTSTART;TZID=America/Toronto:20250327T100000
DTEND;TZID=America/Toronto:20250327T160000
DTSTAMP:20260420T004746
CREATED:20250210T155612Z
LAST-MODIFIED:20250413T173115Z
UID:8403-1743069600-1743091200@www.cdcd.org
SUMMARY:Housing Settlement Walk-In Clinic
DESCRIPTION:CDCD’s Housing Settlement Walk-in Days are held every Thursday from 10 AM to 4 PM\, offering support to newcomers who have been in Canada for five years or less. \nWhether you’re new to Durham Region or looking for housing guidance\, this is your chance to receive free assistance\, advice\, and resources tailored to your needs. \nOpen to newcomers from all across Durham Region—just drop by! \n 
URL:https://www.cdcd.org/event/housing-settlement-walk-in-clinic/2025-03-27/
LOCATION:CDCD\, 458 Fairall St\, Unit 4\, Ajax\, ON\, L1S 1R6\, Canada
CATEGORIES:Housing
ATTACH;FMTTYPE=image/png:https://www.cdcd.org/wp-content/uploads/2025/02/housing-settlement-walk-in_Maliha-Sobani.png
END:VEVENT
BEGIN:VEVENT
DTSTART;TZID=America/Toronto:20250327T100000
DTEND;TZID=America/Toronto:20250327T160000
DTSTAMP:20260420T004746
CREATED:20250102T194919Z
LAST-MODIFIED:20250520T192646Z
UID:8123-1743069600-1743091200@www.cdcd.org
SUMMARY:Housing Walk-In Days
DESCRIPTION:CDCD’s Housing Department’s Housing Walk-In Days offer individuals the chance to consult with a housing case manager without scheduling an appointment. \nThis is a great opportunity for community members to receive assistance and information about housing options\, support services\, and resources available to them. \nNo appointment necessary—just drop by and get the help you need!
URL:https://www.cdcd.org/event/housing/2025-03-27/
LOCATION:CDCD\, 458 Fairall St\, Unit 4\, Ajax\, ON\, L1S 1R6\, Canada
CATEGORIES:Housing
ATTACH;FMTTYPE=image/png:https://www.cdcd.org/wp-content/uploads/2024/04/Housing-Walk-In-Days.png
END:VEVENT
BEGIN:VEVENT
DTSTART;TZID=America/Toronto:20250327T100000
DTEND;TZID=America/Toronto:20250327T160000
DTSTAMP:20260420T004746
CREATED:20240409T145722Z
LAST-MODIFIED:20250102T193604Z
UID:7065-1743069600-1743091200@www.cdcd.org
SUMMARY:ID Replacement Clinic
DESCRIPTION:CDCD’s Housing Department’s ID Replacement Clinic is a free service available for low-income individuals in the Ajax/Pickering area in need of Government issued identification. \nTo book an appointment please contact outreachservices@cdcd.org.
URL:https://www.cdcd.org/event/id-replacement-clinic/2025-03-27/
LOCATION:CDCD\, 458 Fairall St\, Unit 4\, Ajax\, ON\, L1S 1R6\, Canada
CATEGORIES:Housing
ATTACH;FMTTYPE=image/png:https://www.cdcd.org/wp-content/uploads/2024/04/2024-12-17_ID-Replacement-Clinic-Thursday_Edna-Ucanda.png
END:VEVENT
BEGIN:VEVENT
DTSTART;TZID=America/Toronto:20250320T100000
DTEND;TZID=America/Toronto:20250320T160000
DTSTAMP:20260420T004746
CREATED:20250210T155612Z
LAST-MODIFIED:20250413T173115Z
UID:8402-1742464800-1742486400@www.cdcd.org
SUMMARY:Housing Settlement Walk-In Clinic
DESCRIPTION:CDCD’s Housing Settlement Walk-in Days are held every Thursday from 10 AM to 4 PM\, offering support to newcomers who have been in Canada for five years or less. \nWhether you’re new to Durham Region or looking for housing guidance\, this is your chance to receive free assistance\, advice\, and resources tailored to your needs. \nOpen to newcomers from all across Durham Region—just drop by! \n 
URL:https://www.cdcd.org/event/housing-settlement-walk-in-clinic/2025-03-20/
LOCATION:CDCD\, 458 Fairall St\, Unit 4\, Ajax\, ON\, L1S 1R6\, Canada
CATEGORIES:Housing
ATTACH;FMTTYPE=image/png:https://www.cdcd.org/wp-content/uploads/2025/02/housing-settlement-walk-in_Maliha-Sobani.png
END:VEVENT
BEGIN:VEVENT
DTSTART;TZID=America/Toronto:20250320T100000
DTEND;TZID=America/Toronto:20250320T160000
DTSTAMP:20260420T004746
CREATED:20250102T194919Z
LAST-MODIFIED:20250520T192646Z
UID:8122-1742464800-1742486400@www.cdcd.org
SUMMARY:Housing Walk-In Days
DESCRIPTION:CDCD’s Housing Department’s Housing Walk-In Days offer individuals the chance to consult with a housing case manager without scheduling an appointment. \nThis is a great opportunity for community members to receive assistance and information about housing options\, support services\, and resources available to them. \nNo appointment necessary—just drop by and get the help you need!
URL:https://www.cdcd.org/event/housing/2025-03-20/
LOCATION:CDCD\, 458 Fairall St\, Unit 4\, Ajax\, ON\, L1S 1R6\, Canada
CATEGORIES:Housing
ATTACH;FMTTYPE=image/png:https://www.cdcd.org/wp-content/uploads/2024/04/Housing-Walk-In-Days.png
END:VEVENT
BEGIN:VEVENT
DTSTART;TZID=America/Toronto:20250320T100000
DTEND;TZID=America/Toronto:20250320T160000
DTSTAMP:20260420T004746
CREATED:20240409T145722Z
LAST-MODIFIED:20250102T193603Z
UID:7064-1742464800-1742486400@www.cdcd.org
SUMMARY:ID Replacement Clinic
DESCRIPTION:CDCD’s Housing Department’s ID Replacement Clinic is a free service available for low-income individuals in the Ajax/Pickering area in need of Government issued identification. \nTo book an appointment please contact outreachservices@cdcd.org.
URL:https://www.cdcd.org/event/id-replacement-clinic/2025-03-20/
LOCATION:CDCD\, 458 Fairall St\, Unit 4\, Ajax\, ON\, L1S 1R6\, Canada
CATEGORIES:Housing
ATTACH;FMTTYPE=image/png:https://www.cdcd.org/wp-content/uploads/2024/04/2024-12-17_ID-Replacement-Clinic-Thursday_Edna-Ucanda.png
END:VEVENT
BEGIN:VEVENT
DTSTART;TZID=America/Toronto:20250319T110000
DTEND;TZID=America/Toronto:20250319T130000
DTSTAMP:20260420T004746
CREATED:20240403T202614Z
LAST-MODIFIED:20240403T202614Z
UID:6909-1742382000-1742389200@www.cdcd.org
SUMMARY:Housing Outreach Services – Pickering
DESCRIPTION:Every 3rd Wednesday of the month at Pickering Library\, Main Branch you can access support for \n\n\n\nLandlord Tenant Issues\nTips for Housing Search\nApplication for Social Housing\nID Clinic\nOntario Electricity Support Program (OESP) Support\n\n\n\nFor more information please contact outreachservices@cdcd.org.
URL:https://www.cdcd.org/event/housing-outreach-services-pickering/2025-03-19/
LOCATION:Pickering Library Main Branch\, 1 The Esplanade\, Pickering\, ON\, L1V 2R6\, Canada
CATEGORIES:Housing
ATTACH;FMTTYPE=image/jpeg:https://www.cdcd.org/wp-content/uploads/2021/06/H_keys.jpg
END:VEVENT
BEGIN:VEVENT
DTSTART;TZID=America/Toronto:20250313T100000
DTEND;TZID=America/Toronto:20250313T160000
DTSTAMP:20260420T004746
CREATED:20250210T155612Z
LAST-MODIFIED:20250413T173115Z
UID:8401-1741860000-1741881600@www.cdcd.org
SUMMARY:Housing Settlement Walk-In Clinic
DESCRIPTION:CDCD’s Housing Settlement Walk-in Days are held every Thursday from 10 AM to 4 PM\, offering support to newcomers who have been in Canada for five years or less. \nWhether you’re new to Durham Region or looking for housing guidance\, this is your chance to receive free assistance\, advice\, and resources tailored to your needs. \nOpen to newcomers from all across Durham Region—just drop by! \n 
URL:https://www.cdcd.org/event/housing-settlement-walk-in-clinic/2025-03-13/
LOCATION:CDCD\, 458 Fairall St\, Unit 4\, Ajax\, ON\, L1S 1R6\, Canada
CATEGORIES:Housing
ATTACH;FMTTYPE=image/png:https://www.cdcd.org/wp-content/uploads/2025/02/housing-settlement-walk-in_Maliha-Sobani.png
END:VEVENT
BEGIN:VEVENT
DTSTART;TZID=America/Toronto:20250313T100000
DTEND;TZID=America/Toronto:20250313T160000
DTSTAMP:20260420T004746
CREATED:20250102T194919Z
LAST-MODIFIED:20250520T192643Z
UID:8121-1741860000-1741881600@www.cdcd.org
SUMMARY:Housing Walk-In Days
DESCRIPTION:CDCD’s Housing Department’s Housing Walk-In Days offer individuals the chance to consult with a housing case manager without scheduling an appointment. \nThis is a great opportunity for community members to receive assistance and information about housing options\, support services\, and resources available to them. \nNo appointment necessary—just drop by and get the help you need!
URL:https://www.cdcd.org/event/housing/2025-03-13/
LOCATION:CDCD\, 458 Fairall St\, Unit 4\, Ajax\, ON\, L1S 1R6\, Canada
CATEGORIES:Housing
ATTACH;FMTTYPE=image/png:https://www.cdcd.org/wp-content/uploads/2024/04/Housing-Walk-In-Days.png
END:VEVENT
BEGIN:VEVENT
DTSTART;TZID=America/Toronto:20250313T100000
DTEND;TZID=America/Toronto:20250313T160000
DTSTAMP:20260420T004746
CREATED:20240409T145722Z
LAST-MODIFIED:20250102T193600Z
UID:7063-1741860000-1741881600@www.cdcd.org
SUMMARY:ID Replacement Clinic
DESCRIPTION:CDCD’s Housing Department’s ID Replacement Clinic is a free service available for low-income individuals in the Ajax/Pickering area in need of Government issued identification. \nTo book an appointment please contact outreachservices@cdcd.org.
URL:https://www.cdcd.org/event/id-replacement-clinic/2025-03-13/
LOCATION:CDCD\, 458 Fairall St\, Unit 4\, Ajax\, ON\, L1S 1R6\, Canada
CATEGORIES:Housing
ATTACH;FMTTYPE=image/png:https://www.cdcd.org/wp-content/uploads/2024/04/2024-12-17_ID-Replacement-Clinic-Thursday_Edna-Ucanda.png
END:VEVENT
BEGIN:VEVENT
DTSTART;TZID=America/Toronto:20250312T140000
DTEND;TZID=America/Toronto:20250312T160000
DTSTAMP:20260420T004746
CREATED:20240403T202252Z
LAST-MODIFIED:20240403T202252Z
UID:6897-1741788000-1741795200@www.cdcd.org
SUMMARY:Housing Outreach Services – Ajax
DESCRIPTION:Every 2nd Wednesday of the month at Ajax Library\, Main Branch you can access support for \n\n\n\nLandlord Tenant Issues\nTips for Housing Search\nApplication for Social Housing\nID Clinic\nOntario Electricity Support Program (OESP) Support\n\n\n\nFor more information please contact outreachservices@cdcd.org.
URL:https://www.cdcd.org/event/housing-outreach-services-ajax/2025-03-12/
LOCATION:Ajax Library Main Branch\, 55 Harwood Avenue South\, Ajax\, ON\, L1S 2H8\, Canada
CATEGORIES:Housing
ATTACH;FMTTYPE=image/jpeg:https://www.cdcd.org/wp-content/uploads/2021/06/H_keys.jpg
END:VEVENT
END:VCALENDAR