BEGIN:VCALENDAR
VERSION:2.0
PRODID:-//CDCD - ECPv6.13.2.1//NONSGML v1.0//EN
CALSCALE:GREGORIAN
METHOD:PUBLISH
X-ORIGINAL-URL:https://www.cdcd.org
X-WR-CALDESC:Events for CDCD
REFRESH-INTERVAL;VALUE=DURATION:PT1H
X-Robots-Tag:noindex
X-PUBLISHED-TTL:PT1H
BEGIN:VTIMEZONE
TZID:America/Toronto
BEGIN:DAYLIGHT
TZOFFSETFROM:-0500
TZOFFSETTO:-0400
TZNAME:EDT
DTSTART:20240310T070000
END:DAYLIGHT
BEGIN:STANDARD
TZOFFSETFROM:-0400
TZOFFSETTO:-0500
TZNAME:EST
DTSTART:20241103T060000
END:STANDARD
END:VTIMEZONE
BEGIN:VEVENT
DTSTART;TZID=America/Toronto:20240603T130000
DTEND;TZID=America/Toronto:20240603T153000
DTSTAMP:20260421T051945
CREATED:20240403T210342Z
LAST-MODIFIED:20241203T160027Z
UID:6920-1717419600-1717428600@www.cdcd.org
SUMMARY:Mental Health Mondays
DESCRIPTION:Newcomer Wellness Mental Health Mondays \nDo you need someone to talk to? A community mental health worker can help you. \nIn person appointments available every Monday afternoon at the Ajax Welcome Centre. \n1:00pm – 3:30pm\nTo make an appointment call:\n1-877-761-1155 Toll Free\n647-925-8929 Local
URL:https://www.cdcd.org/event/mental-health-mondays/2024-06-03/
LOCATION:Ajax Welcome Centre\, 458 Fairall St\, Unit 5\, Ajax\, ON\, L1S 1R6\, Canada
CATEGORIES:Newcomer Wellness
ORGANIZER;CN="Newcomer Community Services %E2%80%93 Newcomer Wellness%2C Volunteer%2C Youth Services%2C Computer%2C Donations":MAILTO:sahmad@cdcd.org
END:VEVENT
BEGIN:VEVENT
DTSTART;TZID=America/Toronto:20240527T130000
DTEND;TZID=America/Toronto:20240527T153000
DTSTAMP:20260421T051945
CREATED:20240403T210342Z
LAST-MODIFIED:20241203T160027Z
UID:6919-1716814800-1716823800@www.cdcd.org
SUMMARY:Mental Health Mondays
DESCRIPTION:Newcomer Wellness Mental Health Mondays \nDo you need someone to talk to? A community mental health worker can help you. \nIn person appointments available every Monday afternoon at the Ajax Welcome Centre. \n1:00pm – 3:30pm\nTo make an appointment call:\n1-877-761-1155 Toll Free\n647-925-8929 Local
URL:https://www.cdcd.org/event/mental-health-mondays/2024-05-27/
LOCATION:Ajax Welcome Centre\, 458 Fairall St\, Unit 5\, Ajax\, ON\, L1S 1R6\, Canada
CATEGORIES:Newcomer Wellness
ORGANIZER;CN="Newcomer Community Services %E2%80%93 Newcomer Wellness%2C Volunteer%2C Youth Services%2C Computer%2C Donations":MAILTO:sahmad@cdcd.org
END:VEVENT
BEGIN:VEVENT
DTSTART;TZID=America/Toronto:20240520T130000
DTEND;TZID=America/Toronto:20240520T153000
DTSTAMP:20260421T051945
CREATED:20240403T210342Z
LAST-MODIFIED:20241203T160027Z
UID:6918-1716210000-1716219000@www.cdcd.org
SUMMARY:Mental Health Mondays
DESCRIPTION:Newcomer Wellness Mental Health Mondays \nDo you need someone to talk to? A community mental health worker can help you. \nIn person appointments available every Monday afternoon at the Ajax Welcome Centre. \n1:00pm – 3:30pm\nTo make an appointment call:\n1-877-761-1155 Toll Free\n647-925-8929 Local
URL:https://www.cdcd.org/event/mental-health-mondays/2024-05-20/
LOCATION:Ajax Welcome Centre\, 458 Fairall St\, Unit 5\, Ajax\, ON\, L1S 1R6\, Canada
CATEGORIES:Newcomer Wellness
ORGANIZER;CN="Newcomer Community Services %E2%80%93 Newcomer Wellness%2C Volunteer%2C Youth Services%2C Computer%2C Donations":MAILTO:sahmad@cdcd.org
END:VEVENT
BEGIN:VEVENT
DTSTART;TZID=America/Toronto:20240513T130000
DTEND;TZID=America/Toronto:20240513T153000
DTSTAMP:20260421T051945
CREATED:20240403T210342Z
LAST-MODIFIED:20241203T160027Z
UID:6917-1715605200-1715614200@www.cdcd.org
SUMMARY:Mental Health Mondays
DESCRIPTION:Newcomer Wellness Mental Health Mondays \nDo you need someone to talk to? A community mental health worker can help you. \nIn person appointments available every Monday afternoon at the Ajax Welcome Centre. \n1:00pm – 3:30pm\nTo make an appointment call:\n1-877-761-1155 Toll Free\n647-925-8929 Local
URL:https://www.cdcd.org/event/mental-health-mondays/2024-05-13/
LOCATION:Ajax Welcome Centre\, 458 Fairall St\, Unit 5\, Ajax\, ON\, L1S 1R6\, Canada
CATEGORIES:Newcomer Wellness
ORGANIZER;CN="Newcomer Community Services %E2%80%93 Newcomer Wellness%2C Volunteer%2C Youth Services%2C Computer%2C Donations":MAILTO:sahmad@cdcd.org
END:VEVENT
BEGIN:VEVENT
DTSTART;TZID=America/Toronto:20240506T130000
DTEND;TZID=America/Toronto:20240506T153000
DTSTAMP:20260421T051945
CREATED:20240403T210342Z
LAST-MODIFIED:20241203T160027Z
UID:6916-1715000400-1715009400@www.cdcd.org
SUMMARY:Mental Health Mondays
DESCRIPTION:Newcomer Wellness Mental Health Mondays \nDo you need someone to talk to? A community mental health worker can help you. \nIn person appointments available every Monday afternoon at the Ajax Welcome Centre. \n1:00pm – 3:30pm\nTo make an appointment call:\n1-877-761-1155 Toll Free\n647-925-8929 Local
URL:https://www.cdcd.org/event/mental-health-mondays/2024-05-06/
LOCATION:Ajax Welcome Centre\, 458 Fairall St\, Unit 5\, Ajax\, ON\, L1S 1R6\, Canada
CATEGORIES:Newcomer Wellness
ORGANIZER;CN="Newcomer Community Services %E2%80%93 Newcomer Wellness%2C Volunteer%2C Youth Services%2C Computer%2C Donations":MAILTO:sahmad@cdcd.org
END:VEVENT
BEGIN:VEVENT
DTSTART;TZID=America/Toronto:20240429T130000
DTEND;TZID=America/Toronto:20240429T153000
DTSTAMP:20260421T051945
CREATED:20240403T210342Z
LAST-MODIFIED:20241203T160027Z
UID:6915-1714395600-1714404600@www.cdcd.org
SUMMARY:Mental Health Mondays
DESCRIPTION:Newcomer Wellness Mental Health Mondays \nDo you need someone to talk to? A community mental health worker can help you. \nIn person appointments available every Monday afternoon at the Ajax Welcome Centre. \n1:00pm – 3:30pm\nTo make an appointment call:\n1-877-761-1155 Toll Free\n647-925-8929 Local
URL:https://www.cdcd.org/event/mental-health-mondays/2024-04-29/
LOCATION:Ajax Welcome Centre\, 458 Fairall St\, Unit 5\, Ajax\, ON\, L1S 1R6\, Canada
CATEGORIES:Newcomer Wellness
ORGANIZER;CN="Newcomer Community Services %E2%80%93 Newcomer Wellness%2C Volunteer%2C Youth Services%2C Computer%2C Donations":MAILTO:sahmad@cdcd.org
END:VEVENT
BEGIN:VEVENT
DTSTART;TZID=America/Toronto:20240422T130000
DTEND;TZID=America/Toronto:20240422T153000
DTSTAMP:20260421T051945
CREATED:20240403T210342Z
LAST-MODIFIED:20241203T160027Z
UID:6914-1713790800-1713799800@www.cdcd.org
SUMMARY:Mental Health Mondays
DESCRIPTION:Newcomer Wellness Mental Health Mondays \nDo you need someone to talk to? A community mental health worker can help you. \nIn person appointments available every Monday afternoon at the Ajax Welcome Centre. \n1:00pm – 3:30pm\nTo make an appointment call:\n1-877-761-1155 Toll Free\n647-925-8929 Local
URL:https://www.cdcd.org/event/mental-health-mondays/2024-04-22/
LOCATION:Ajax Welcome Centre\, 458 Fairall St\, Unit 5\, Ajax\, ON\, L1S 1R6\, Canada
CATEGORIES:Newcomer Wellness
ORGANIZER;CN="Newcomer Community Services %E2%80%93 Newcomer Wellness%2C Volunteer%2C Youth Services%2C Computer%2C Donations":MAILTO:sahmad@cdcd.org
END:VEVENT
BEGIN:VEVENT
DTSTART;TZID=America/Toronto:20240408T130000
DTEND;TZID=America/Toronto:20240408T153000
DTSTAMP:20260421T051945
CREATED:20240403T210342Z
LAST-MODIFIED:20241203T160026Z
UID:6910-1712581200-1712590200@www.cdcd.org
SUMMARY:Mental Health Mondays
DESCRIPTION:Newcomer Wellness Mental Health Mondays \nDo you need someone to talk to? A community mental health worker can help you. \nIn person appointments available every Monday afternoon at the Ajax Welcome Centre. \n1:00pm – 3:30pm\nTo make an appointment call:\n1-877-761-1155 Toll Free\n647-925-8929 Local
URL:https://www.cdcd.org/event/mental-health-mondays/2024-04-08/
LOCATION:Ajax Welcome Centre\, 458 Fairall St\, Unit 5\, Ajax\, ON\, L1S 1R6\, Canada
CATEGORIES:Newcomer Wellness
ORGANIZER;CN="Newcomer Community Services %E2%80%93 Newcomer Wellness%2C Volunteer%2C Youth Services%2C Computer%2C Donations":MAILTO:sahmad@cdcd.org
END:VEVENT
END:VCALENDAR