BEGIN:VCALENDAR
VERSION:2.0
PRODID:-//CDCD - ECPv6.13.2.1//NONSGML v1.0//EN
CALSCALE:GREGORIAN
METHOD:PUBLISH
X-ORIGINAL-URL:https://www.cdcd.org
X-WR-CALDESC:Events for CDCD
REFRESH-INTERVAL;VALUE=DURATION:PT1H
X-Robots-Tag:noindex
X-PUBLISHED-TTL:PT1H
BEGIN:VTIMEZONE
TZID:America/Toronto
BEGIN:DAYLIGHT
TZOFFSETFROM:-0500
TZOFFSETTO:-0400
TZNAME:EDT
DTSTART:20240310T070000
END:DAYLIGHT
BEGIN:STANDARD
TZOFFSETFROM:-0400
TZOFFSETTO:-0500
TZNAME:EST
DTSTART:20241103T060000
END:STANDARD
BEGIN:DAYLIGHT
TZOFFSETFROM:-0500
TZOFFSETTO:-0400
TZNAME:EDT
DTSTART:20250309T070000
END:DAYLIGHT
BEGIN:STANDARD
TZOFFSETFROM:-0400
TZOFFSETTO:-0500
TZNAME:EST
DTSTART:20251102T060000
END:STANDARD
END:VTIMEZONE
BEGIN:VEVENT
DTSTART;TZID=America/Toronto:20250211T183000
DTEND;TZID=America/Toronto:20250211T193000
DTSTAMP:20260420T100749
CREATED:20250210T190115Z
LAST-MODIFIED:20250210T190601Z
UID:8951-1739298600-1739302200@www.cdcd.org
SUMMARY:English Conversation Circles Evening – Online
DESCRIPTION:The English Conversation Circles are organized weekly both in person and virtually. \nPractice English\, meet new friends and learn about your community! Register to receive the Zoom link for online sessions.
URL:https://www.cdcd.org/event/english-conversation-circles-evening-online/2025-02-11/
LOCATION:Virtual – Online
CATEGORIES:NCS Community Connections
ATTACH;FMTTYPE=image/jpeg:https://www.cdcd.org/wp-content/uploads/2025/02/AdobeStock_387710300.jpeg
ORGANIZER;CN="Newcomer Community Services %E2%80%93 Community Connections":MAILTO:mabdulla@cdcd.org
END:VEVENT
BEGIN:VEVENT
DTSTART;TZID=America/Toronto:20250210T183000
DTEND;TZID=America/Toronto:20250210T193000
DTSTAMP:20260420T100749
CREATED:20250210T183758Z
LAST-MODIFIED:20250210T184119Z
UID:8855-1739212200-1739215800@www.cdcd.org
SUMMARY:English Conversation Circles – Pickering
DESCRIPTION:The English Conversation Circles are organized weekly both in person and virtually. \nPractice English\, meet new friends and learn about your community! All in-person sessions are drop in. Register to receive the Zoom link for online sessions.
URL:https://www.cdcd.org/event/english-conversation-circles-pickering/2025-02-10/
LOCATION:Pickering Library Main Branch\, 1 The Esplanade\, Pickering\, ON\, L1V 2R6\, Canada
CATEGORIES:NCS Community Connections
ATTACH;FMTTYPE=image/jpeg:https://www.cdcd.org/wp-content/uploads/2025/02/AdobeStock_942268923-e1739209247418.jpeg
ORGANIZER;CN="Newcomer Community Services %E2%80%93 Community Connections":MAILTO:mabdulla@cdcd.org
END:VEVENT
BEGIN:VEVENT
DTSTART;TZID=America/Toronto:20250210T150000
DTEND;TZID=America/Toronto:20250210T160000
DTSTAMP:20260420T100749
CREATED:20250210T174212Z
LAST-MODIFIED:20250210T184228Z
UID:8494-1739199600-1739203200@www.cdcd.org
SUMMARY:English Conversation Circles – Oshawa
DESCRIPTION:  \n \nThe English Conversation Circles are organized weekly both in person and virtually. \nPractice English\, meet new friends and learn about your community! All in-person sessions are drop in. Register to receive the Zoom link for online sessions. \n 
URL:https://www.cdcd.org/event/english-conversation-circles-oshawa/2025-02-10/
LOCATION:Oshawa Library McLaughlin Branch\, 65 Bagot St.\, Oshawa\, ON\, Canada
CATEGORIES:NCS Community Connections
ATTACH;FMTTYPE=image/jpeg:https://www.cdcd.org/wp-content/uploads/2025/02/AdobeStock_942268923-e1739209247418.jpeg
ORGANIZER;CN="Newcomer Community Services %E2%80%93 Community Connections":MAILTO:mabdulla@cdcd.org
END:VEVENT
BEGIN:VEVENT
DTSTART;TZID=America/Toronto:20250130T143000
DTEND;TZID=America/Toronto:20250130T143000
DTSTAMP:20260420T100749
CREATED:20250102T213300Z
LAST-MODIFIED:20250102T221704Z
UID:8173-1738247400-1738247400@www.cdcd.org
SUMMARY:Newcomer Women’s Group
DESCRIPTION:Join us for a Women’s Self-Defense Class to learn essential skills for personal safety and techniques to protect yourself in vulnerable situations. \nLimited Space! Registration Required! \nFor more information please contact Tasnuba 905-686-2661 ext. 121 or trahman@cdcd.org.
URL:https://www.cdcd.org/event/newcomer-womens-group-2/
LOCATION:Ajax Welcome Centre\, 458 Fairall St\, Unit 5\, Ajax\, ON\, L1S 1R6\, Canada
CATEGORIES:NCS Community Connections
ATTACH;FMTTYPE=image/png:https://www.cdcd.org/wp-content/uploads/2025/01/2025-01-02_AWC-January-2025-Newsletter_Page_09.png
ORGANIZER;CN="Newcomer Community Services %E2%80%93 Community Connections":MAILTO:mabdulla@cdcd.org
END:VEVENT
BEGIN:VEVENT
DTSTART;TZID=America/Toronto:20250122T143000
DTEND;TZID=America/Toronto:20250122T163000
DTSTAMP:20260420T100749
CREATED:20250102T214846Z
LAST-MODIFIED:20250102T221528Z
UID:8179-1737556200-1737563400@www.cdcd.org
SUMMARY:Newcomer Men’s Kitchen
DESCRIPTION:Join us at the Newcomer Men’s Kitchen: a space for socializing\, learning\, and exchanging culinary recipes! \nFor more information please contact Mishal at 905-686-2661 ext. 109 or mabdulla@cdcd.org.
URL:https://www.cdcd.org/event/newcomer-mens-kitchen-2/
LOCATION:Ajax Welcome Centre\, 458 Fairall St\, Unit 5\, Ajax\, ON\, L1S 1R6\, Canada
CATEGORIES:NCS Community Connections
ATTACH;FMTTYPE=image/png:https://www.cdcd.org/wp-content/uploads/2025/01/2025-01-02_AWC-January-2025-Newsletter_Page_06.png
ORGANIZER;CN="Newcomer Community Services %E2%80%93 Community Connections":MAILTO:mabdulla@cdcd.org
END:VEVENT
BEGIN:VEVENT
DTSTART;TZID=America/Toronto:20250122T103000
DTEND;TZID=America/Toronto:20250122T103000
DTSTAMP:20260420T100749
CREATED:20250102T214321Z
LAST-MODIFIED:20250102T221831Z
UID:8177-1737541800-1737541800@www.cdcd.org
SUMMARY:Newcomer Seniors Group Strength and Mobility Session
DESCRIPTION:Join our Strength and Mobility Training Session lead by Functional Mind & Body. \nDesigned specifically for seniors\, this class focuses on gentle exercises that improve strength\, balance\, and flexibility. \nFor more information\, please contact Katelin at 905-686-2661 ext. 102 or kgrant@cdcd.org.
URL:https://www.cdcd.org/event/newcomer-seniors-group-strength-and-mobility-session/
LOCATION:Ajax Welcome Centre\, 458 Fairall St\, Unit 5\, Ajax\, ON\, L1S 1R6\, Canada
CATEGORIES:NCS Community Connections
ATTACH;FMTTYPE=image/png:https://www.cdcd.org/wp-content/uploads/2025/01/2025-01-02_AWC-January-2025-Newsletter_Page_07.png
ORGANIZER;CN="Newcomer Community Services %E2%80%93 Community Connections":MAILTO:mabdulla@cdcd.org
END:VEVENT
BEGIN:VEVENT
DTSTART;TZID=America/Toronto:20250116T143000
DTEND;TZID=America/Toronto:20250116T143000
DTSTAMP:20260420T100749
CREATED:20250102T215527Z
LAST-MODIFIED:20250102T221313Z
UID:8184-1737037800-1737037800@www.cdcd.org
SUMMARY:Newcomer Women’s Group
DESCRIPTION:Join us for a fun and festive New Year’s Celebration and Potluck!\nFor more information\, please contact Tasnuba at 905-686-2661 ext. 121 or trahman@cdcd.org.
URL:https://www.cdcd.org/event/newcomer-womens-group-3/
LOCATION:Ajax Welcome Centre\, 458 Fairall St\, Unit 5\, Ajax\, ON\, L1S 1R6\, Canada
CATEGORIES:NCS Community Connections
ATTACH;FMTTYPE=image/png:https://www.cdcd.org/wp-content/uploads/2025/01/2025-01-02_AWC-January-2025-Newsletter_Page_05.png
ORGANIZER;CN="Newcomer Community Services %E2%80%93 Community Connections":MAILTO:mabdulla@cdcd.org
END:VEVENT
BEGIN:VEVENT
DTSTART;TZID=America/Toronto:20241218T143000
DTEND;TZID=America/Toronto:20241218T163000
DTSTAMP:20260420T100749
CREATED:20241203T161008Z
LAST-MODIFIED:20241203T161138Z
UID:7978-1734532200-1734539400@www.cdcd.org
SUMMARY:Newcomer Men’s Group Intro to Non-Contact Boxing
DESCRIPTION:Join us for Introductory to Boxing Session offered by Functional Minds & Bodies.\nSPACE IS LIMITED \n 
URL:https://www.cdcd.org/event/newcomer-mens-group-intro-to-non-contact-boxing/
LOCATION:Ajax Welcome Centre\, 458 Fairall St\, Unit 5\, Ajax\, ON\, L1S 1R6\, Canada
CATEGORIES:NCS Community Connections
ATTACH;FMTTYPE=image/png:https://www.cdcd.org/wp-content/uploads/2024/12/2024-12-02_AWC-December-2024-Newsletter_Page_11.png
ORGANIZER;CN="Newcomer Community Services %E2%80%93 Community Connections":MAILTO:mabdulla@cdcd.org
END:VEVENT
BEGIN:VEVENT
DTSTART;TZID=America/Toronto:20241217T143000
DTEND;TZID=America/Toronto:20241217T163000
DTSTAMP:20260420T100749
CREATED:20241203T161919Z
LAST-MODIFIED:20241203T161919Z
UID:7981-1734445800-1734453000@www.cdcd.org
SUMMARY:Newcomer Women’s Kitchen
DESCRIPTION:Join us at the Newcomer Women’s Kitchen: a space for socializing\, learning\, and exchanging culinary recipes!
URL:https://www.cdcd.org/event/newcomer-womens-kitchen/
LOCATION:Ajax Welcome Centre\, 458 Fairall St\, Unit 5\, Ajax\, ON\, L1S 1R6\, Canada
CATEGORIES:NCS Community Connections
ATTACH;FMTTYPE=image/png:https://www.cdcd.org/wp-content/uploads/2024/12/2024-12-02_AWC-December-2024-Newsletter_Page_10.png
ORGANIZER;CN="Newcomer Community Services %E2%80%93 Community Connections":MAILTO:mabdulla@cdcd.org
END:VEVENT
BEGIN:VEVENT
DTSTART;TZID=America/Toronto:20241212T143000
DTEND;TZID=America/Toronto:20241212T143000
DTSTAMP:20260420T100749
CREATED:20241203T162429Z
LAST-MODIFIED:20241203T162429Z
UID:7983-1734013800-1734013800@www.cdcd.org
SUMMARY:Newcomer Women’s Group Dental Workshop
DESCRIPTION:Join us for a free dental workshop hosted by Durham Region Public Health.\nLearn tips and tricks to maintain healthy teeth and gums.
URL:https://www.cdcd.org/event/newcomer-womens-group-dental-workshop/
LOCATION:Ajax Welcome Centre\, 458 Fairall St\, Unit 5\, Ajax\, ON\, L1S 1R6\, Canada
CATEGORIES:NCS Community Connections
ATTACH;FMTTYPE=image/png:https://www.cdcd.org/wp-content/uploads/2024/12/2024-12-02_AWC-December-2024-Newsletter_Page_08.png
ORGANIZER;CN="Newcomer Community Services %E2%80%93 Community Connections":MAILTO:mabdulla@cdcd.org
END:VEVENT
BEGIN:VEVENT
DTSTART;TZID=America/Toronto:20241211T103000
DTEND;TZID=America/Toronto:20241211T103000
DTSTAMP:20260420T100749
CREATED:20241203T164322Z
LAST-MODIFIED:20241203T164322Z
UID:7989-1733913000-1733913000@www.cdcd.org
SUMMARY:Newcomer Seniors Group Holiday Party & Potluck
DESCRIPTION:Join us for a winter holiday celebration!
URL:https://www.cdcd.org/event/newcomer-seniors-group-holiday-party-potluck/
LOCATION:Audley Recreation Centre\, 1955 Audley Road\, Ajax\, Ontario\, L0B1M0\, Canada
CATEGORIES:NCS Community Connections
ATTACH;FMTTYPE=image/png:https://www.cdcd.org/wp-content/uploads/2024/12/2024-12-02_AWC-December-2024-Newsletter_Page_05.png
ORGANIZER;CN="Newcomer Community Services %E2%80%93 Community Connections":MAILTO:mabdulla@cdcd.org
END:VEVENT
BEGIN:VEVENT
DTSTART;TZID=America/Toronto:20241205T173000
DTEND;TZID=America/Toronto:20241205T173000
DTSTAMP:20260420T100749
CREATED:20241203T165146Z
LAST-MODIFIED:20241203T165146Z
UID:7994-1733419800-1733419800@www.cdcd.org
SUMMARY:Ladies’ Social for Newcomers Holiday Potluck and Party
DESCRIPTION:Join us for a winter holiday celebration\, take fun photos using a green screen\, and enjoy a festive hot chocolate bar!
URL:https://www.cdcd.org/event/ladies-social-for-newcomers-holiday-potluck-and-party/
LOCATION:Oshawa Library McLaughlin Branch\, 65 Bagot St.\, Oshawa\, ON\, Canada
CATEGORIES:NCS Community Connections
ATTACH;FMTTYPE=image/png:https://www.cdcd.org/wp-content/uploads/2024/12/2024-12-02_AWC-December-2024-Newsletter_Page_03.png
ORGANIZER;CN="Newcomer Community Services %E2%80%93 Community Connections":MAILTO:mabdulla@cdcd.org
END:VEVENT
BEGIN:VEVENT
DTSTART;TZID=America/Toronto:20241128T143000
DTEND;TZID=America/Toronto:20241128T143000
DTSTAMP:20260420T100749
CREATED:20241106T164907Z
LAST-MODIFIED:20241106T164907Z
UID:7843-1732804200-1732804200@www.cdcd.org
SUMMARY:Art of Empowerment Event
DESCRIPTION:Women’s Cup Painting\nLike a brush brings vibrant colours to a cup\, an empowered woman leaves her bold and beautiful mark on the world\, shaping life with every stroke of her strength and creativity. \n 
URL:https://www.cdcd.org/event/art-of-empowerment-event/
LOCATION:Ajax Welcome Centre\, 458 Fairall St\, Unit 5\, Ajax\, ON\, L1S 1R6\, Canada
CATEGORIES:NCS Community Connections
ATTACH;FMTTYPE=image/png:https://www.cdcd.org/wp-content/uploads/2024/11/AWC-November-Newsletter-002_Page_10.png
ORGANIZER;CN="Newcomer Community Services %E2%80%93 Community Connections":MAILTO:mabdulla@cdcd.org
END:VEVENT
BEGIN:VEVENT
DTSTART;TZID=America/Toronto:20241127T140000
DTEND;TZID=America/Toronto:20241127T140000
DTSTAMP:20260420T100749
CREATED:20241106T164354Z
LAST-MODIFIED:20241106T164354Z
UID:7841-1732716000-1732716000@www.cdcd.org
SUMMARY:Newcomer Men’s Group
DESCRIPTION:Join us for a guided tour at the Canadian Automotive Museum!\nThis is your chance to see and learn more about Canadian\, American\, British and European vehicles from 1900 to 2008. Don’t miss the full-scale model of Lightening McQueen from Disney Pixar’s Cars 3! \nFor more information please contact Mishal at 905-686-2661 x109
URL:https://www.cdcd.org/event/newcomer-mens-group/
CATEGORIES:NCS Community Connections
ATTACH;FMTTYPE=image/png:https://www.cdcd.org/wp-content/uploads/2024/11/AWC-November-Newsletter-002_Page_09.png
ORGANIZER;CN="Newcomer Community Services %E2%80%93 Community Connections":MAILTO:mabdulla@cdcd.org
END:VEVENT
BEGIN:VEVENT
DTSTART;TZID=America/Toronto:20241121T173000
DTEND;TZID=America/Toronto:20241121T173000
DTSTAMP:20260420T100749
CREATED:20241106T163839Z
LAST-MODIFIED:20241106T163839Z
UID:7839-1732210200-1732210200@www.cdcd.org
SUMMARY:Ladies’ Social for Newcomers
DESCRIPTION:Read poems together and share your thoughts and feelings to spark meaningful discussions. \nFor more information please contact Tasnuba at 905-686-2661 ext. 121
URL:https://www.cdcd.org/event/ladies-social-for-newcomers-2/
LOCATION:Oshawa Library Main Branch\, 65 Bagot Street\, Oshawa\, Ontario\, L1H 1N2\, Canada
CATEGORIES:NCS Community Connections
ATTACH;FMTTYPE=image/png:https://www.cdcd.org/wp-content/uploads/2024/11/AWC-November-Newsletter-002_Page_07.png
ORGANIZER;CN="Newcomer Community Services %E2%80%93 Community Connections":MAILTO:mabdulla@cdcd.org
END:VEVENT
BEGIN:VEVENT
DTSTART;TZID=America/Toronto:20241107T143000
DTEND;TZID=America/Toronto:20241107T143000
DTSTAMP:20260420T100749
CREATED:20241106T162702Z
LAST-MODIFIED:20241106T162702Z
UID:7834-1730989800-1730989800@www.cdcd.org
SUMMARY:Newcomer Women’s Group
DESCRIPTION:  Join our welcoming community of newcomer women!\nThis group provides a supportive environment to practice English\, share experiences\, and make new friends. \nFor more information please contact Tasnuba at 905-626-2661 ext 121.
URL:https://www.cdcd.org/event/newcomer-womens-group/
CATEGORIES:NCS Community Connections
ATTACH;FMTTYPE=image/png:https://www.cdcd.org/wp-content/uploads/2024/11/AWC-November-Newsletter-002_Page_05.png
ORGANIZER;CN="Newcomer Community Services %E2%80%93 Community Connections":MAILTO:mabdulla@cdcd.org
END:VEVENT
BEGIN:VEVENT
DTSTART;TZID=America/Toronto:20240813T063000
DTEND;TZID=America/Toronto:20240813T200000
DTSTAMP:20260420T100749
CREATED:20240710T191627Z
LAST-MODIFIED:20240710T191627Z
UID:7497-1723530600-1723579200@www.cdcd.org
SUMMARY:Summer Virtual Book Club
DESCRIPTION:Do you enjoy reading and want to practice English?\nJoin us online as we discuss short stories from “Home of the Floating Lily” by Silmy Abdullah.
URL:https://www.cdcd.org/event/summer-virtual-book-club/2024-08-13/
LOCATION:Online\, Oshawa\, Ontario\, Canada
CATEGORIES:NCS Community Connections
ATTACH;FMTTYPE=image/png:https://www.cdcd.org/wp-content/uploads/2024/07/Summer-Virtual-Book-Club-Flyer_Mishal-Abdulla.png
ORGANIZER;CN="Newcomer Community Services %E2%80%93 Community Connections":MAILTO:mabdulla@cdcd.org
END:VEVENT
BEGIN:VEVENT
DTSTART;TZID=America/Toronto:20240806T063000
DTEND;TZID=America/Toronto:20240806T200000
DTSTAMP:20260420T100750
CREATED:20240710T191627Z
LAST-MODIFIED:20240710T191627Z
UID:7496-1722925800-1722974400@www.cdcd.org
SUMMARY:Summer Virtual Book Club
DESCRIPTION:Do you enjoy reading and want to practice English?\nJoin us online as we discuss short stories from “Home of the Floating Lily” by Silmy Abdullah.
URL:https://www.cdcd.org/event/summer-virtual-book-club/2024-08-06/
LOCATION:Online\, Oshawa\, Ontario\, Canada
CATEGORIES:NCS Community Connections
ATTACH;FMTTYPE=image/png:https://www.cdcd.org/wp-content/uploads/2024/07/Summer-Virtual-Book-Club-Flyer_Mishal-Abdulla.png
ORGANIZER;CN="Newcomer Community Services %E2%80%93 Community Connections":MAILTO:mabdulla@cdcd.org
END:VEVENT
BEGIN:VEVENT
DTSTART;TZID=America/Toronto:20240730T063000
DTEND;TZID=America/Toronto:20240730T200000
DTSTAMP:20260420T100750
CREATED:20240710T191627Z
LAST-MODIFIED:20240710T191627Z
UID:7495-1722321000-1722369600@www.cdcd.org
SUMMARY:Summer Virtual Book Club
DESCRIPTION:Do you enjoy reading and want to practice English?\nJoin us online as we discuss short stories from “Home of the Floating Lily” by Silmy Abdullah.
URL:https://www.cdcd.org/event/summer-virtual-book-club/2024-07-30/
LOCATION:Online\, Oshawa\, Ontario\, Canada
CATEGORIES:NCS Community Connections
ATTACH;FMTTYPE=image/png:https://www.cdcd.org/wp-content/uploads/2024/07/Summer-Virtual-Book-Club-Flyer_Mishal-Abdulla.png
ORGANIZER;CN="Newcomer Community Services %E2%80%93 Community Connections":MAILTO:mabdulla@cdcd.org
END:VEVENT
BEGIN:VEVENT
DTSTART;TZID=America/Toronto:20240729T183000
DTEND;TZID=America/Toronto:20240729T193000
DTSTAMP:20260420T100750
CREATED:20240710T192100Z
LAST-MODIFIED:20240710T192100Z
UID:7502-1722277800-1722281400@www.cdcd.org
SUMMARY:Walking Group- Pickering
DESCRIPTION:Do you want to get active this summer?\nJoin us for our Summer Walking Group\, explore urban trails while enjoying the benefits of physical activity in a supportive environment.
URL:https://www.cdcd.org/event/walking-group-pickering/2024-07-29/
LOCATION:Pickering Library Main Branch\, 1 The Esplanade\, Pickering\, ON\, L1V 2R6\, Canada
CATEGORIES:Community Development
ATTACH;FMTTYPE=image/png:https://www.cdcd.org/wp-content/uploads/2024/07/Walking-Group-Flyer-Pickering-1_Mishal-Abdulla.png
ORGANIZER;CN="Newcomer Community Services %E2%80%93 Community Connections":MAILTO:mabdulla@cdcd.org
END:VEVENT
BEGIN:VEVENT
DTSTART;TZID=America/Toronto:20240725T183000
DTEND;TZID=America/Toronto:20240725T193000
DTSTAMP:20260420T100750
CREATED:20240710T191112Z
LAST-MODIFIED:20240710T191112Z
UID:7488-1721932200-1721935800@www.cdcd.org
SUMMARY:Walking Group- Whitby
DESCRIPTION:Do you want to get active this summer?\nJoin us for our Summer Walking Group\, explore urban trails while enjoying the benefits of physical activity in a supportive environment.
URL:https://www.cdcd.org/event/walking-group-whitby/2024-07-25/
LOCATION:Whitby Library Main Branch\, 405 Dundas Street West\, Whitby\, ON\, L1N 6A1\, Canada
CATEGORIES:NCS Community Connections
ATTACH;FMTTYPE=image/png:https://www.cdcd.org/wp-content/uploads/2024/07/Walking-Group-Flyer-Whitby-1_Mishal-Abdulla.png
ORGANIZER;CN="Newcomer Community Services %E2%80%93 Community Connections":MAILTO:mabdulla@cdcd.org
END:VEVENT
BEGIN:VEVENT
DTSTART;TZID=America/Toronto:20240723T063000
DTEND;TZID=America/Toronto:20240723T200000
DTSTAMP:20260420T100750
CREATED:20240710T191627Z
LAST-MODIFIED:20240710T191627Z
UID:7494-1721716200-1721764800@www.cdcd.org
SUMMARY:Summer Virtual Book Club
DESCRIPTION:Do you enjoy reading and want to practice English?\nJoin us online as we discuss short stories from “Home of the Floating Lily” by Silmy Abdullah.
URL:https://www.cdcd.org/event/summer-virtual-book-club/2024-07-23/
LOCATION:Online\, Oshawa\, Ontario\, Canada
CATEGORIES:NCS Community Connections
ATTACH;FMTTYPE=image/png:https://www.cdcd.org/wp-content/uploads/2024/07/Summer-Virtual-Book-Club-Flyer_Mishal-Abdulla.png
ORGANIZER;CN="Newcomer Community Services %E2%80%93 Community Connections":MAILTO:mabdulla@cdcd.org
END:VEVENT
BEGIN:VEVENT
DTSTART;TZID=America/Toronto:20240722T183000
DTEND;TZID=America/Toronto:20240722T193000
DTSTAMP:20260420T100750
CREATED:20240710T192100Z
LAST-MODIFIED:20240710T192100Z
UID:7501-1721673000-1721676600@www.cdcd.org
SUMMARY:Walking Group- Pickering
DESCRIPTION:Do you want to get active this summer?\nJoin us for our Summer Walking Group\, explore urban trails while enjoying the benefits of physical activity in a supportive environment.
URL:https://www.cdcd.org/event/walking-group-pickering/2024-07-22/
LOCATION:Pickering Library Main Branch\, 1 The Esplanade\, Pickering\, ON\, L1V 2R6\, Canada
CATEGORIES:Community Development
ATTACH;FMTTYPE=image/png:https://www.cdcd.org/wp-content/uploads/2024/07/Walking-Group-Flyer-Pickering-1_Mishal-Abdulla.png
ORGANIZER;CN="Newcomer Community Services %E2%80%93 Community Connections":MAILTO:mabdulla@cdcd.org
END:VEVENT
BEGIN:VEVENT
DTSTART;TZID=America/Toronto:20240718T183000
DTEND;TZID=America/Toronto:20240718T193000
DTSTAMP:20260420T100750
CREATED:20240710T191112Z
LAST-MODIFIED:20240710T191112Z
UID:7487-1721327400-1721331000@www.cdcd.org
SUMMARY:Walking Group- Whitby
DESCRIPTION:Do you want to get active this summer?\nJoin us for our Summer Walking Group\, explore urban trails while enjoying the benefits of physical activity in a supportive environment.
URL:https://www.cdcd.org/event/walking-group-whitby/2024-07-18/
LOCATION:Whitby Library Main Branch\, 405 Dundas Street West\, Whitby\, ON\, L1N 6A1\, Canada
CATEGORIES:NCS Community Connections
ATTACH;FMTTYPE=image/png:https://www.cdcd.org/wp-content/uploads/2024/07/Walking-Group-Flyer-Whitby-1_Mishal-Abdulla.png
ORGANIZER;CN="Newcomer Community Services %E2%80%93 Community Connections":MAILTO:mabdulla@cdcd.org
END:VEVENT
BEGIN:VEVENT
DTSTART;TZID=America/Toronto:20240717T173000
DTEND;TZID=America/Toronto:20240717T193000
DTSTAMP:20260420T100750
CREATED:20240710T192730Z
LAST-MODIFIED:20240710T193650Z
UID:7505-1721237400-1721244600@www.cdcd.org
SUMMARY:Ladies’ Social for Newcomers
DESCRIPTION:Join us for a tea party and learn about the history of tea and the benefits of different types of teas.
URL:https://www.cdcd.org/event/ladies-social-for-newcomers/
LOCATION:Oshawa Library Main Branch\, 65 Bagot Street\, Oshawa\, Ontario\, L1H 1N2\, Canada
CATEGORIES:Community Development
ATTACH;FMTTYPE=image/png:https://www.cdcd.org/wp-content/uploads/2024/07/Copy-of-Ladies-Social-July_Mishal-Abdulla.png
ORGANIZER;CN="Newcomer Community Services %E2%80%93 Community Connections":MAILTO:mabdulla@cdcd.org
END:VEVENT
BEGIN:VEVENT
DTSTART;TZID=America/Toronto:20240716T063000
DTEND;TZID=America/Toronto:20240716T200000
DTSTAMP:20260420T100750
CREATED:20240710T191627Z
LAST-MODIFIED:20240710T191627Z
UID:7493-1721111400-1721160000@www.cdcd.org
SUMMARY:Summer Virtual Book Club
DESCRIPTION:Do you enjoy reading and want to practice English?\nJoin us online as we discuss short stories from “Home of the Floating Lily” by Silmy Abdullah.
URL:https://www.cdcd.org/event/summer-virtual-book-club/2024-07-16/
LOCATION:Online\, Oshawa\, Ontario\, Canada
CATEGORIES:NCS Community Connections
ATTACH;FMTTYPE=image/png:https://www.cdcd.org/wp-content/uploads/2024/07/Summer-Virtual-Book-Club-Flyer_Mishal-Abdulla.png
ORGANIZER;CN="Newcomer Community Services %E2%80%93 Community Connections":MAILTO:mabdulla@cdcd.org
END:VEVENT
BEGIN:VEVENT
DTSTART;TZID=America/Toronto:20240715T183000
DTEND;TZID=America/Toronto:20240715T193000
DTSTAMP:20260420T100750
CREATED:20240710T192100Z
LAST-MODIFIED:20240710T192100Z
UID:7500-1721068200-1721071800@www.cdcd.org
SUMMARY:Walking Group- Pickering
DESCRIPTION:Do you want to get active this summer?\nJoin us for our Summer Walking Group\, explore urban trails while enjoying the benefits of physical activity in a supportive environment.
URL:https://www.cdcd.org/event/walking-group-pickering/2024-07-15/
LOCATION:Pickering Library Main Branch\, 1 The Esplanade\, Pickering\, ON\, L1V 2R6\, Canada
CATEGORIES:Community Development
ATTACH;FMTTYPE=image/png:https://www.cdcd.org/wp-content/uploads/2024/07/Walking-Group-Flyer-Pickering-1_Mishal-Abdulla.png
ORGANIZER;CN="Newcomer Community Services %E2%80%93 Community Connections":MAILTO:mabdulla@cdcd.org
END:VEVENT
BEGIN:VEVENT
DTSTART;TZID=America/Toronto:20240711T183000
DTEND;TZID=America/Toronto:20240711T193000
DTSTAMP:20260420T100750
CREATED:20240710T191112Z
LAST-MODIFIED:20240710T191112Z
UID:7484-1720722600-1720726200@www.cdcd.org
SUMMARY:Walking Group- Whitby
DESCRIPTION:Do you want to get active this summer?\nJoin us for our Summer Walking Group\, explore urban trails while enjoying the benefits of physical activity in a supportive environment.
URL:https://www.cdcd.org/event/walking-group-whitby/2024-07-11/
LOCATION:Whitby Library Main Branch\, 405 Dundas Street West\, Whitby\, ON\, L1N 6A1\, Canada
CATEGORIES:NCS Community Connections
ATTACH;FMTTYPE=image/png:https://www.cdcd.org/wp-content/uploads/2024/07/Walking-Group-Flyer-Whitby-1_Mishal-Abdulla.png
ORGANIZER;CN="Newcomer Community Services %E2%80%93 Community Connections":MAILTO:mabdulla@cdcd.org
END:VEVENT
BEGIN:VEVENT
DTSTART;TZID=America/Toronto:20240709T063000
DTEND;TZID=America/Toronto:20240709T200000
DTSTAMP:20260420T100750
CREATED:20240710T191627Z
LAST-MODIFIED:20240710T191627Z
UID:7490-1720506600-1720555200@www.cdcd.org
SUMMARY:Summer Virtual Book Club
DESCRIPTION:Do you enjoy reading and want to practice English?\nJoin us online as we discuss short stories from “Home of the Floating Lily” by Silmy Abdullah.
URL:https://www.cdcd.org/event/summer-virtual-book-club/2024-07-09/
LOCATION:Online\, Oshawa\, Ontario\, Canada
CATEGORIES:NCS Community Connections
ATTACH;FMTTYPE=image/png:https://www.cdcd.org/wp-content/uploads/2024/07/Summer-Virtual-Book-Club-Flyer_Mishal-Abdulla.png
ORGANIZER;CN="Newcomer Community Services %E2%80%93 Community Connections":MAILTO:mabdulla@cdcd.org
END:VEVENT
BEGIN:VEVENT
DTSTART;TZID=America/Toronto:20240708T183000
DTEND;TZID=America/Toronto:20240708T193000
DTSTAMP:20260420T100750
CREATED:20240710T192100Z
LAST-MODIFIED:20240710T192100Z
UID:7498-1720463400-1720467000@www.cdcd.org
SUMMARY:Walking Group- Pickering
DESCRIPTION:Do you want to get active this summer?\nJoin us for our Summer Walking Group\, explore urban trails while enjoying the benefits of physical activity in a supportive environment.
URL:https://www.cdcd.org/event/walking-group-pickering/2024-07-08/
LOCATION:Pickering Library Main Branch\, 1 The Esplanade\, Pickering\, ON\, L1V 2R6\, Canada
CATEGORIES:Community Development
ATTACH;FMTTYPE=image/png:https://www.cdcd.org/wp-content/uploads/2024/07/Walking-Group-Flyer-Pickering-1_Mishal-Abdulla.png
ORGANIZER;CN="Newcomer Community Services %E2%80%93 Community Connections":MAILTO:mabdulla@cdcd.org
END:VEVENT
END:VCALENDAR