BEGIN:VCALENDAR
VERSION:2.0
PRODID:-//CDCD - ECPv6.13.2.1//NONSGML v1.0//EN
CALSCALE:GREGORIAN
METHOD:PUBLISH
X-ORIGINAL-URL:https://www.cdcd.org
X-WR-CALDESC:Events for CDCD
REFRESH-INTERVAL;VALUE=DURATION:PT1H
X-Robots-Tag:noindex
X-PUBLISHED-TTL:PT1H
BEGIN:VTIMEZONE
TZID:America/Toronto
BEGIN:DAYLIGHT
TZOFFSETFROM:-0500
TZOFFSETTO:-0400
TZNAME:EDT
DTSTART:20250309T070000
END:DAYLIGHT
BEGIN:STANDARD
TZOFFSETFROM:-0400
TZOFFSETTO:-0500
TZNAME:EST
DTSTART:20251102T060000
END:STANDARD
END:VTIMEZONE
BEGIN:VEVENT
DTSTART;TZID=America/Toronto:20250617T183000
DTEND;TZID=America/Toronto:20250617T193000
DTSTAMP:20260419T231338
CREATED:20250210T190115Z
LAST-MODIFIED:20250210T190610Z
UID:8972-1750185000-1750188600@www.cdcd.org
SUMMARY:English Conversation Circles Evening – Online
DESCRIPTION:The English Conversation Circles are organized weekly both in person and virtually. \nPractice English\, meet new friends and learn about your community! Register to receive the Zoom link for online sessions.
URL:https://www.cdcd.org/event/english-conversation-circles-evening-online/2025-06-17/
LOCATION:Virtual – Online
CATEGORIES:NCS Community Connections
ATTACH;FMTTYPE=image/jpeg:https://www.cdcd.org/wp-content/uploads/2025/02/AdobeStock_387710300.jpeg
ORGANIZER;CN="Newcomer Community Services %E2%80%93 Community Connections":MAILTO:mabdulla@cdcd.org
END:VEVENT
BEGIN:VEVENT
DTSTART;TZID=America/Toronto:20250616T183000
DTEND;TZID=America/Toronto:20250616T193000
DTSTAMP:20260419T231338
CREATED:20250210T183758Z
LAST-MODIFIED:20250210T183758Z
UID:8874-1750098600-1750102200@www.cdcd.org
SUMMARY:English Conversation Circles – Pickering
DESCRIPTION:The English Conversation Circles are organized weekly both in person and virtually. \nPractice English\, meet new friends and learn about your community! All in-person sessions are drop in. Register to receive the Zoom link for online sessions.
URL:https://www.cdcd.org/event/english-conversation-circles-pickering/2025-06-16/
LOCATION:Pickering Library Main Branch\, 1 The Esplanade\, Pickering\, ON\, L1V 2R6\, Canada
CATEGORIES:NCS Community Connections
ATTACH;FMTTYPE=image/jpeg:https://www.cdcd.org/wp-content/uploads/2025/02/AdobeStock_942268923-e1739209247418.jpeg
ORGANIZER;CN="Newcomer Community Services %E2%80%93 Community Connections":MAILTO:mabdulla@cdcd.org
END:VEVENT
BEGIN:VEVENT
DTSTART;TZID=America/Toronto:20250616T150000
DTEND;TZID=America/Toronto:20250616T160000
DTSTAMP:20260419T231338
CREATED:20250210T174212Z
LAST-MODIFIED:20250210T184238Z
UID:8852-1750086000-1750089600@www.cdcd.org
SUMMARY:English Conversation Circles – Oshawa
DESCRIPTION:  \n \nThe English Conversation Circles are organized weekly both in person and virtually. \nPractice English\, meet new friends and learn about your community! All in-person sessions are drop in. Register to receive the Zoom link for online sessions. \n 
URL:https://www.cdcd.org/event/english-conversation-circles-oshawa/2025-06-16/
LOCATION:Oshawa Library McLaughlin Branch\, 65 Bagot St.\, Oshawa\, ON\, Canada
CATEGORIES:NCS Community Connections
ATTACH;FMTTYPE=image/jpeg:https://www.cdcd.org/wp-content/uploads/2025/02/AdobeStock_942268923-e1739209247418.jpeg
ORGANIZER;CN="Newcomer Community Services %E2%80%93 Community Connections":MAILTO:mabdulla@cdcd.org
END:VEVENT
BEGIN:VEVENT
DTSTART;TZID=America/Toronto:20250612T183000
DTEND;TZID=America/Toronto:20250612T200000
DTSTAMP:20260419T231338
CREATED:20250210T185417Z
LAST-MODIFIED:20250210T185417Z
UID:8948-1749753000-1749758400@www.cdcd.org
SUMMARY:English Conversation Circles – Whitby
DESCRIPTION:The English Conversation Circles are organized weekly both in person and virtually. \nPractice English\, meet new friends and learn about your community! All in-person sessions are drop in. Register to receive the Zoom link for online sessions.
URL:https://www.cdcd.org/event/english-conversation-circles-whitby/2025-06-12/
LOCATION:Whitby Library Main Branch\, 405 Dundas Street West\, Whitby\, ON\, L1N 6A1\, Canada
CATEGORIES:NCS Community Connections
ATTACH;FMTTYPE=image/jpeg:https://www.cdcd.org/wp-content/uploads/2025/02/AdobeStock_942268923-e1739209247418.jpeg
ORGANIZER;CN="Newcomer Community Services %E2%80%93 Community Connections":MAILTO:mabdulla@cdcd.org
END:VEVENT
BEGIN:VEVENT
DTSTART;TZID=America/Toronto:20250611T183000
DTEND;TZID=America/Toronto:20250611T200000
DTSTAMP:20260419T231338
CREATED:20250210T185002Z
LAST-MODIFIED:20250210T185002Z
UID:8927-1749666600-1749672000@www.cdcd.org
SUMMARY:English Conversation Circles – Ajax
DESCRIPTION:The English Conversation Circles are organized weekly both in person and virtually. \nPractice English\, meet new friends and learn about your community! All in-person sessions are drop in. Register to receive the Zoom link for online sessions.
URL:https://www.cdcd.org/event/english-conversation-circles-ajax/2025-06-11/
LOCATION:Ajax Library Main Branch\, 55 Harwood Avenue South\, Ajax\, ON\, L1S 2H8\, Canada
CATEGORIES:NCS Community Connections
ATTACH;FMTTYPE=image/jpeg:https://www.cdcd.org/wp-content/uploads/2025/02/AdobeStock_942268923-e1739209247418.jpeg
ORGANIZER;CN="Newcomer Community Services %E2%80%93 Community Connections":MAILTO:mabdulla@cdcd.org
END:VEVENT
BEGIN:VEVENT
DTSTART;TZID=America/Toronto:20250611T133000
DTEND;TZID=America/Toronto:20250611T143000
DTSTAMP:20260419T231338
CREATED:20250210T190501Z
LAST-MODIFIED:20250210T190501Z
UID:8993-1749648600-1749652200@www.cdcd.org
SUMMARY:English Conversation Circles Afternoon – Online
DESCRIPTION:The English Conversation Circles are organized weekly both in person and virtually. \nPractice English\, meet new friends and learn about your community! Register to receive the Zoom link for online sessions.
URL:https://www.cdcd.org/event/english-conversation-circles-afternoon-online/2025-06-11/
LOCATION:Online\, Oshawa\, Ontario\, Canada
CATEGORIES:NCS Community Connections
ATTACH;FMTTYPE=image/jpeg:https://www.cdcd.org/wp-content/uploads/2025/02/AdobeStock_387710300.jpeg
ORGANIZER;CN="Newcomer Community Services %E2%80%93 Community Connections":MAILTO:mabdulla@cdcd.org
END:VEVENT
BEGIN:VEVENT
DTSTART;TZID=America/Toronto:20250610T183000
DTEND;TZID=America/Toronto:20250610T193000
DTSTAMP:20260419T231338
CREATED:20250210T190115Z
LAST-MODIFIED:20250210T190610Z
UID:8971-1749580200-1749583800@www.cdcd.org
SUMMARY:English Conversation Circles Evening – Online
DESCRIPTION:The English Conversation Circles are organized weekly both in person and virtually. \nPractice English\, meet new friends and learn about your community! Register to receive the Zoom link for online sessions.
URL:https://www.cdcd.org/event/english-conversation-circles-evening-online/2025-06-10/
LOCATION:Virtual – Online
CATEGORIES:NCS Community Connections
ATTACH;FMTTYPE=image/jpeg:https://www.cdcd.org/wp-content/uploads/2025/02/AdobeStock_387710300.jpeg
ORGANIZER;CN="Newcomer Community Services %E2%80%93 Community Connections":MAILTO:mabdulla@cdcd.org
END:VEVENT
BEGIN:VEVENT
DTSTART;TZID=America/Toronto:20250609T183000
DTEND;TZID=America/Toronto:20250609T193000
DTSTAMP:20260419T231338
CREATED:20250210T183758Z
LAST-MODIFIED:20250210T183758Z
UID:8873-1749493800-1749497400@www.cdcd.org
SUMMARY:English Conversation Circles – Pickering
DESCRIPTION:The English Conversation Circles are organized weekly both in person and virtually. \nPractice English\, meet new friends and learn about your community! All in-person sessions are drop in. Register to receive the Zoom link for online sessions.
URL:https://www.cdcd.org/event/english-conversation-circles-pickering/2025-06-09/
LOCATION:Pickering Library Main Branch\, 1 The Esplanade\, Pickering\, ON\, L1V 2R6\, Canada
CATEGORIES:NCS Community Connections
ATTACH;FMTTYPE=image/jpeg:https://www.cdcd.org/wp-content/uploads/2025/02/AdobeStock_942268923-e1739209247418.jpeg
ORGANIZER;CN="Newcomer Community Services %E2%80%93 Community Connections":MAILTO:mabdulla@cdcd.org
END:VEVENT
BEGIN:VEVENT
DTSTART;TZID=America/Toronto:20250609T150000
DTEND;TZID=America/Toronto:20250609T160000
DTSTAMP:20260419T231338
CREATED:20250210T174212Z
LAST-MODIFIED:20250210T184238Z
UID:8851-1749481200-1749484800@www.cdcd.org
SUMMARY:English Conversation Circles – Oshawa
DESCRIPTION:  \n \nThe English Conversation Circles are organized weekly both in person and virtually. \nPractice English\, meet new friends and learn about your community! All in-person sessions are drop in. Register to receive the Zoom link for online sessions. \n 
URL:https://www.cdcd.org/event/english-conversation-circles-oshawa/2025-06-09/
LOCATION:Oshawa Library McLaughlin Branch\, 65 Bagot St.\, Oshawa\, ON\, Canada
CATEGORIES:NCS Community Connections
ATTACH;FMTTYPE=image/jpeg:https://www.cdcd.org/wp-content/uploads/2025/02/AdobeStock_942268923-e1739209247418.jpeg
ORGANIZER;CN="Newcomer Community Services %E2%80%93 Community Connections":MAILTO:mabdulla@cdcd.org
END:VEVENT
BEGIN:VEVENT
DTSTART;TZID=America/Toronto:20250605T183000
DTEND;TZID=America/Toronto:20250605T200000
DTSTAMP:20260419T231338
CREATED:20250210T185417Z
LAST-MODIFIED:20250210T185417Z
UID:8947-1749148200-1749153600@www.cdcd.org
SUMMARY:English Conversation Circles – Whitby
DESCRIPTION:The English Conversation Circles are organized weekly both in person and virtually. \nPractice English\, meet new friends and learn about your community! All in-person sessions are drop in. Register to receive the Zoom link for online sessions.
URL:https://www.cdcd.org/event/english-conversation-circles-whitby/2025-06-05/
LOCATION:Whitby Library Main Branch\, 405 Dundas Street West\, Whitby\, ON\, L1N 6A1\, Canada
CATEGORIES:NCS Community Connections
ATTACH;FMTTYPE=image/jpeg:https://www.cdcd.org/wp-content/uploads/2025/02/AdobeStock_942268923-e1739209247418.jpeg
ORGANIZER;CN="Newcomer Community Services %E2%80%93 Community Connections":MAILTO:mabdulla@cdcd.org
END:VEVENT
BEGIN:VEVENT
DTSTART;TZID=America/Toronto:20250604T183000
DTEND;TZID=America/Toronto:20250604T200000
DTSTAMP:20260419T231338
CREATED:20250210T185002Z
LAST-MODIFIED:20250210T185002Z
UID:8926-1749061800-1749067200@www.cdcd.org
SUMMARY:English Conversation Circles – Ajax
DESCRIPTION:The English Conversation Circles are organized weekly both in person and virtually. \nPractice English\, meet new friends and learn about your community! All in-person sessions are drop in. Register to receive the Zoom link for online sessions.
URL:https://www.cdcd.org/event/english-conversation-circles-ajax/2025-06-04/
LOCATION:Ajax Library Main Branch\, 55 Harwood Avenue South\, Ajax\, ON\, L1S 2H8\, Canada
CATEGORIES:NCS Community Connections
ATTACH;FMTTYPE=image/jpeg:https://www.cdcd.org/wp-content/uploads/2025/02/AdobeStock_942268923-e1739209247418.jpeg
ORGANIZER;CN="Newcomer Community Services %E2%80%93 Community Connections":MAILTO:mabdulla@cdcd.org
END:VEVENT
BEGIN:VEVENT
DTSTART;TZID=America/Toronto:20250604T133000
DTEND;TZID=America/Toronto:20250604T143000
DTSTAMP:20260419T231338
CREATED:20250210T190501Z
LAST-MODIFIED:20250210T190501Z
UID:8992-1749043800-1749047400@www.cdcd.org
SUMMARY:English Conversation Circles Afternoon – Online
DESCRIPTION:The English Conversation Circles are organized weekly both in person and virtually. \nPractice English\, meet new friends and learn about your community! Register to receive the Zoom link for online sessions.
URL:https://www.cdcd.org/event/english-conversation-circles-afternoon-online/2025-06-04/
LOCATION:Online\, Oshawa\, Ontario\, Canada
CATEGORIES:NCS Community Connections
ATTACH;FMTTYPE=image/jpeg:https://www.cdcd.org/wp-content/uploads/2025/02/AdobeStock_387710300.jpeg
ORGANIZER;CN="Newcomer Community Services %E2%80%93 Community Connections":MAILTO:mabdulla@cdcd.org
END:VEVENT
BEGIN:VEVENT
DTSTART;TZID=America/Toronto:20250603T183000
DTEND;TZID=America/Toronto:20250603T193000
DTSTAMP:20260419T231338
CREATED:20250210T190115Z
LAST-MODIFIED:20250210T190610Z
UID:8970-1748975400-1748979000@www.cdcd.org
SUMMARY:English Conversation Circles Evening – Online
DESCRIPTION:The English Conversation Circles are organized weekly both in person and virtually. \nPractice English\, meet new friends and learn about your community! Register to receive the Zoom link for online sessions.
URL:https://www.cdcd.org/event/english-conversation-circles-evening-online/2025-06-03/
LOCATION:Virtual – Online
CATEGORIES:NCS Community Connections
ATTACH;FMTTYPE=image/jpeg:https://www.cdcd.org/wp-content/uploads/2025/02/AdobeStock_387710300.jpeg
ORGANIZER;CN="Newcomer Community Services %E2%80%93 Community Connections":MAILTO:mabdulla@cdcd.org
END:VEVENT
BEGIN:VEVENT
DTSTART;TZID=America/Toronto:20250602T183000
DTEND;TZID=America/Toronto:20250602T193000
DTSTAMP:20260419T231338
CREATED:20250210T183758Z
LAST-MODIFIED:20250210T183758Z
UID:8872-1748889000-1748892600@www.cdcd.org
SUMMARY:English Conversation Circles – Pickering
DESCRIPTION:The English Conversation Circles are organized weekly both in person and virtually. \nPractice English\, meet new friends and learn about your community! All in-person sessions are drop in. Register to receive the Zoom link for online sessions.
URL:https://www.cdcd.org/event/english-conversation-circles-pickering/2025-06-02/
LOCATION:Pickering Library Main Branch\, 1 The Esplanade\, Pickering\, ON\, L1V 2R6\, Canada
CATEGORIES:NCS Community Connections
ATTACH;FMTTYPE=image/jpeg:https://www.cdcd.org/wp-content/uploads/2025/02/AdobeStock_942268923-e1739209247418.jpeg
ORGANIZER;CN="Newcomer Community Services %E2%80%93 Community Connections":MAILTO:mabdulla@cdcd.org
END:VEVENT
BEGIN:VEVENT
DTSTART;TZID=America/Toronto:20250602T150000
DTEND;TZID=America/Toronto:20250602T160000
DTSTAMP:20260419T231338
CREATED:20250210T174212Z
LAST-MODIFIED:20250210T184238Z
UID:8850-1748876400-1748880000@www.cdcd.org
SUMMARY:English Conversation Circles – Oshawa
DESCRIPTION:  \n \nThe English Conversation Circles are organized weekly both in person and virtually. \nPractice English\, meet new friends and learn about your community! All in-person sessions are drop in. Register to receive the Zoom link for online sessions. \n 
URL:https://www.cdcd.org/event/english-conversation-circles-oshawa/2025-06-02/
LOCATION:Oshawa Library McLaughlin Branch\, 65 Bagot St.\, Oshawa\, ON\, Canada
CATEGORIES:NCS Community Connections
ATTACH;FMTTYPE=image/jpeg:https://www.cdcd.org/wp-content/uploads/2025/02/AdobeStock_942268923-e1739209247418.jpeg
ORGANIZER;CN="Newcomer Community Services %E2%80%93 Community Connections":MAILTO:mabdulla@cdcd.org
END:VEVENT
BEGIN:VEVENT
DTSTART;TZID=America/Toronto:20250529T183000
DTEND;TZID=America/Toronto:20250529T200000
DTSTAMP:20260419T231338
CREATED:20250210T185417Z
LAST-MODIFIED:20250210T185417Z
UID:8946-1748543400-1748548800@www.cdcd.org
SUMMARY:English Conversation Circles – Whitby
DESCRIPTION:The English Conversation Circles are organized weekly both in person and virtually. \nPractice English\, meet new friends and learn about your community! All in-person sessions are drop in. Register to receive the Zoom link for online sessions.
URL:https://www.cdcd.org/event/english-conversation-circles-whitby/2025-05-29/
LOCATION:Whitby Library Main Branch\, 405 Dundas Street West\, Whitby\, ON\, L1N 6A1\, Canada
CATEGORIES:NCS Community Connections
ATTACH;FMTTYPE=image/jpeg:https://www.cdcd.org/wp-content/uploads/2025/02/AdobeStock_942268923-e1739209247418.jpeg
ORGANIZER;CN="Newcomer Community Services %E2%80%93 Community Connections":MAILTO:mabdulla@cdcd.org
END:VEVENT
BEGIN:VEVENT
DTSTART;TZID=America/Toronto:20250528T183000
DTEND;TZID=America/Toronto:20250528T200000
DTSTAMP:20260419T231338
CREATED:20250210T185002Z
LAST-MODIFIED:20250210T185002Z
UID:8925-1748457000-1748462400@www.cdcd.org
SUMMARY:English Conversation Circles – Ajax
DESCRIPTION:The English Conversation Circles are organized weekly both in person and virtually. \nPractice English\, meet new friends and learn about your community! All in-person sessions are drop in. Register to receive the Zoom link for online sessions.
URL:https://www.cdcd.org/event/english-conversation-circles-ajax/2025-05-28/
LOCATION:Ajax Library Main Branch\, 55 Harwood Avenue South\, Ajax\, ON\, L1S 2H8\, Canada
CATEGORIES:NCS Community Connections
ATTACH;FMTTYPE=image/jpeg:https://www.cdcd.org/wp-content/uploads/2025/02/AdobeStock_942268923-e1739209247418.jpeg
ORGANIZER;CN="Newcomer Community Services %E2%80%93 Community Connections":MAILTO:mabdulla@cdcd.org
END:VEVENT
BEGIN:VEVENT
DTSTART;TZID=America/Toronto:20250528T133000
DTEND;TZID=America/Toronto:20250528T143000
DTSTAMP:20260419T231338
CREATED:20250210T190501Z
LAST-MODIFIED:20250210T190501Z
UID:8991-1748439000-1748442600@www.cdcd.org
SUMMARY:English Conversation Circles Afternoon – Online
DESCRIPTION:The English Conversation Circles are organized weekly both in person and virtually. \nPractice English\, meet new friends and learn about your community! Register to receive the Zoom link for online sessions.
URL:https://www.cdcd.org/event/english-conversation-circles-afternoon-online/2025-05-28/
LOCATION:Online\, Oshawa\, Ontario\, Canada
CATEGORIES:NCS Community Connections
ATTACH;FMTTYPE=image/jpeg:https://www.cdcd.org/wp-content/uploads/2025/02/AdobeStock_387710300.jpeg
ORGANIZER;CN="Newcomer Community Services %E2%80%93 Community Connections":MAILTO:mabdulla@cdcd.org
END:VEVENT
BEGIN:VEVENT
DTSTART;TZID=America/Toronto:20250527T183000
DTEND;TZID=America/Toronto:20250527T193000
DTSTAMP:20260419T231338
CREATED:20250210T190115Z
LAST-MODIFIED:20250210T190610Z
UID:8969-1748370600-1748374200@www.cdcd.org
SUMMARY:English Conversation Circles Evening – Online
DESCRIPTION:The English Conversation Circles are organized weekly both in person and virtually. \nPractice English\, meet new friends and learn about your community! Register to receive the Zoom link for online sessions.
URL:https://www.cdcd.org/event/english-conversation-circles-evening-online/2025-05-27/
LOCATION:Virtual – Online
CATEGORIES:NCS Community Connections
ATTACH;FMTTYPE=image/jpeg:https://www.cdcd.org/wp-content/uploads/2025/02/AdobeStock_387710300.jpeg
ORGANIZER;CN="Newcomer Community Services %E2%80%93 Community Connections":MAILTO:mabdulla@cdcd.org
END:VEVENT
BEGIN:VEVENT
DTSTART;TZID=America/Toronto:20250526T183000
DTEND;TZID=America/Toronto:20250526T193000
DTSTAMP:20260419T231338
CREATED:20250210T183758Z
LAST-MODIFIED:20250210T183758Z
UID:8871-1748284200-1748287800@www.cdcd.org
SUMMARY:English Conversation Circles – Pickering
DESCRIPTION:The English Conversation Circles are organized weekly both in person and virtually. \nPractice English\, meet new friends and learn about your community! All in-person sessions are drop in. Register to receive the Zoom link for online sessions.
URL:https://www.cdcd.org/event/english-conversation-circles-pickering/2025-05-26/
LOCATION:Pickering Library Main Branch\, 1 The Esplanade\, Pickering\, ON\, L1V 2R6\, Canada
CATEGORIES:NCS Community Connections
ATTACH;FMTTYPE=image/jpeg:https://www.cdcd.org/wp-content/uploads/2025/02/AdobeStock_942268923-e1739209247418.jpeg
ORGANIZER;CN="Newcomer Community Services %E2%80%93 Community Connections":MAILTO:mabdulla@cdcd.org
END:VEVENT
BEGIN:VEVENT
DTSTART;TZID=America/Toronto:20250526T150000
DTEND;TZID=America/Toronto:20250526T160000
DTSTAMP:20260419T231338
CREATED:20250210T174212Z
LAST-MODIFIED:20250210T184238Z
UID:8849-1748271600-1748275200@www.cdcd.org
SUMMARY:English Conversation Circles – Oshawa
DESCRIPTION:  \n \nThe English Conversation Circles are organized weekly both in person and virtually. \nPractice English\, meet new friends and learn about your community! All in-person sessions are drop in. Register to receive the Zoom link for online sessions. \n 
URL:https://www.cdcd.org/event/english-conversation-circles-oshawa/2025-05-26/
LOCATION:Oshawa Library McLaughlin Branch\, 65 Bagot St.\, Oshawa\, ON\, Canada
CATEGORIES:NCS Community Connections
ATTACH;FMTTYPE=image/jpeg:https://www.cdcd.org/wp-content/uploads/2025/02/AdobeStock_942268923-e1739209247418.jpeg
ORGANIZER;CN="Newcomer Community Services %E2%80%93 Community Connections":MAILTO:mabdulla@cdcd.org
END:VEVENT
BEGIN:VEVENT
DTSTART;TZID=America/Toronto:20250522T183000
DTEND;TZID=America/Toronto:20250522T200000
DTSTAMP:20260419T231338
CREATED:20250210T185417Z
LAST-MODIFIED:20250210T185417Z
UID:8945-1747938600-1747944000@www.cdcd.org
SUMMARY:English Conversation Circles – Whitby
DESCRIPTION:The English Conversation Circles are organized weekly both in person and virtually. \nPractice English\, meet new friends and learn about your community! All in-person sessions are drop in. Register to receive the Zoom link for online sessions.
URL:https://www.cdcd.org/event/english-conversation-circles-whitby/2025-05-22/
LOCATION:Whitby Library Main Branch\, 405 Dundas Street West\, Whitby\, ON\, L1N 6A1\, Canada
CATEGORIES:NCS Community Connections
ATTACH;FMTTYPE=image/jpeg:https://www.cdcd.org/wp-content/uploads/2025/02/AdobeStock_942268923-e1739209247418.jpeg
ORGANIZER;CN="Newcomer Community Services %E2%80%93 Community Connections":MAILTO:mabdulla@cdcd.org
END:VEVENT
BEGIN:VEVENT
DTSTART;TZID=America/Toronto:20250521T183000
DTEND;TZID=America/Toronto:20250521T200000
DTSTAMP:20260419T231338
CREATED:20250210T185002Z
LAST-MODIFIED:20250210T185002Z
UID:8924-1747852200-1747857600@www.cdcd.org
SUMMARY:English Conversation Circles – Ajax
DESCRIPTION:The English Conversation Circles are organized weekly both in person and virtually. \nPractice English\, meet new friends and learn about your community! All in-person sessions are drop in. Register to receive the Zoom link for online sessions.
URL:https://www.cdcd.org/event/english-conversation-circles-ajax/2025-05-21/
LOCATION:Ajax Library Main Branch\, 55 Harwood Avenue South\, Ajax\, ON\, L1S 2H8\, Canada
CATEGORIES:NCS Community Connections
ATTACH;FMTTYPE=image/jpeg:https://www.cdcd.org/wp-content/uploads/2025/02/AdobeStock_942268923-e1739209247418.jpeg
ORGANIZER;CN="Newcomer Community Services %E2%80%93 Community Connections":MAILTO:mabdulla@cdcd.org
END:VEVENT
BEGIN:VEVENT
DTSTART;TZID=America/Toronto:20250521T133000
DTEND;TZID=America/Toronto:20250521T143000
DTSTAMP:20260419T231338
CREATED:20250210T190501Z
LAST-MODIFIED:20250210T190501Z
UID:8990-1747834200-1747837800@www.cdcd.org
SUMMARY:English Conversation Circles Afternoon – Online
DESCRIPTION:The English Conversation Circles are organized weekly both in person and virtually. \nPractice English\, meet new friends and learn about your community! Register to receive the Zoom link for online sessions.
URL:https://www.cdcd.org/event/english-conversation-circles-afternoon-online/2025-05-21/
LOCATION:Online\, Oshawa\, Ontario\, Canada
CATEGORIES:NCS Community Connections
ATTACH;FMTTYPE=image/jpeg:https://www.cdcd.org/wp-content/uploads/2025/02/AdobeStock_387710300.jpeg
ORGANIZER;CN="Newcomer Community Services %E2%80%93 Community Connections":MAILTO:mabdulla@cdcd.org
END:VEVENT
BEGIN:VEVENT
DTSTART;TZID=America/Toronto:20250520T183000
DTEND;TZID=America/Toronto:20250520T193000
DTSTAMP:20260419T231338
CREATED:20250210T190115Z
LAST-MODIFIED:20250210T190610Z
UID:8968-1747765800-1747769400@www.cdcd.org
SUMMARY:English Conversation Circles Evening – Online
DESCRIPTION:The English Conversation Circles are organized weekly both in person and virtually. \nPractice English\, meet new friends and learn about your community! Register to receive the Zoom link for online sessions.
URL:https://www.cdcd.org/event/english-conversation-circles-evening-online/2025-05-20/
LOCATION:Virtual – Online
CATEGORIES:NCS Community Connections
ATTACH;FMTTYPE=image/jpeg:https://www.cdcd.org/wp-content/uploads/2025/02/AdobeStock_387710300.jpeg
ORGANIZER;CN="Newcomer Community Services %E2%80%93 Community Connections":MAILTO:mabdulla@cdcd.org
END:VEVENT
BEGIN:VEVENT
DTSTART;TZID=America/Toronto:20250519T183000
DTEND;TZID=America/Toronto:20250519T193000
DTSTAMP:20260419T231338
CREATED:20250210T183758Z
LAST-MODIFIED:20250210T183758Z
UID:8870-1747679400-1747683000@www.cdcd.org
SUMMARY:English Conversation Circles – Pickering
DESCRIPTION:The English Conversation Circles are organized weekly both in person and virtually. \nPractice English\, meet new friends and learn about your community! All in-person sessions are drop in. Register to receive the Zoom link for online sessions.
URL:https://www.cdcd.org/event/english-conversation-circles-pickering/2025-05-19/
LOCATION:Pickering Library Main Branch\, 1 The Esplanade\, Pickering\, ON\, L1V 2R6\, Canada
CATEGORIES:NCS Community Connections
ATTACH;FMTTYPE=image/jpeg:https://www.cdcd.org/wp-content/uploads/2025/02/AdobeStock_942268923-e1739209247418.jpeg
ORGANIZER;CN="Newcomer Community Services %E2%80%93 Community Connections":MAILTO:mabdulla@cdcd.org
END:VEVENT
BEGIN:VEVENT
DTSTART;TZID=America/Toronto:20250519T150000
DTEND;TZID=America/Toronto:20250519T160000
DTSTAMP:20260419T231338
CREATED:20250210T174212Z
LAST-MODIFIED:20250210T184238Z
UID:8848-1747666800-1747670400@www.cdcd.org
SUMMARY:English Conversation Circles – Oshawa
DESCRIPTION:  \n \nThe English Conversation Circles are organized weekly both in person and virtually. \nPractice English\, meet new friends and learn about your community! All in-person sessions are drop in. Register to receive the Zoom link for online sessions. \n 
URL:https://www.cdcd.org/event/english-conversation-circles-oshawa/2025-05-19/
LOCATION:Oshawa Library McLaughlin Branch\, 65 Bagot St.\, Oshawa\, ON\, Canada
CATEGORIES:NCS Community Connections
ATTACH;FMTTYPE=image/jpeg:https://www.cdcd.org/wp-content/uploads/2025/02/AdobeStock_942268923-e1739209247418.jpeg
ORGANIZER;CN="Newcomer Community Services %E2%80%93 Community Connections":MAILTO:mabdulla@cdcd.org
END:VEVENT
BEGIN:VEVENT
DTSTART;TZID=America/Toronto:20250515T183000
DTEND;TZID=America/Toronto:20250515T200000
DTSTAMP:20260419T231338
CREATED:20250210T185417Z
LAST-MODIFIED:20250210T185417Z
UID:8944-1747333800-1747339200@www.cdcd.org
SUMMARY:English Conversation Circles – Whitby
DESCRIPTION:The English Conversation Circles are organized weekly both in person and virtually. \nPractice English\, meet new friends and learn about your community! All in-person sessions are drop in. Register to receive the Zoom link for online sessions.
URL:https://www.cdcd.org/event/english-conversation-circles-whitby/2025-05-15/
LOCATION:Whitby Library Main Branch\, 405 Dundas Street West\, Whitby\, ON\, L1N 6A1\, Canada
CATEGORIES:NCS Community Connections
ATTACH;FMTTYPE=image/jpeg:https://www.cdcd.org/wp-content/uploads/2025/02/AdobeStock_942268923-e1739209247418.jpeg
ORGANIZER;CN="Newcomer Community Services %E2%80%93 Community Connections":MAILTO:mabdulla@cdcd.org
END:VEVENT
BEGIN:VEVENT
DTSTART;TZID=America/Toronto:20250514T183000
DTEND;TZID=America/Toronto:20250514T200000
DTSTAMP:20260419T231338
CREATED:20250210T185002Z
LAST-MODIFIED:20250210T185002Z
UID:8923-1747247400-1747252800@www.cdcd.org
SUMMARY:English Conversation Circles – Ajax
DESCRIPTION:The English Conversation Circles are organized weekly both in person and virtually. \nPractice English\, meet new friends and learn about your community! All in-person sessions are drop in. Register to receive the Zoom link for online sessions.
URL:https://www.cdcd.org/event/english-conversation-circles-ajax/2025-05-14/
LOCATION:Ajax Library Main Branch\, 55 Harwood Avenue South\, Ajax\, ON\, L1S 2H8\, Canada
CATEGORIES:NCS Community Connections
ATTACH;FMTTYPE=image/jpeg:https://www.cdcd.org/wp-content/uploads/2025/02/AdobeStock_942268923-e1739209247418.jpeg
ORGANIZER;CN="Newcomer Community Services %E2%80%93 Community Connections":MAILTO:mabdulla@cdcd.org
END:VEVENT
BEGIN:VEVENT
DTSTART;TZID=America/Toronto:20250514T133000
DTEND;TZID=America/Toronto:20250514T143000
DTSTAMP:20260419T231338
CREATED:20250210T190501Z
LAST-MODIFIED:20250210T190501Z
UID:8989-1747229400-1747233000@www.cdcd.org
SUMMARY:English Conversation Circles Afternoon – Online
DESCRIPTION:The English Conversation Circles are organized weekly both in person and virtually. \nPractice English\, meet new friends and learn about your community! Register to receive the Zoom link for online sessions.
URL:https://www.cdcd.org/event/english-conversation-circles-afternoon-online/2025-05-14/
LOCATION:Online\, Oshawa\, Ontario\, Canada
CATEGORIES:NCS Community Connections
ATTACH;FMTTYPE=image/jpeg:https://www.cdcd.org/wp-content/uploads/2025/02/AdobeStock_387710300.jpeg
ORGANIZER;CN="Newcomer Community Services %E2%80%93 Community Connections":MAILTO:mabdulla@cdcd.org
END:VEVENT
END:VCALENDAR