BEGIN:VCALENDAR
VERSION:2.0
PRODID:-//CDCD - ECPv6.13.2.1//NONSGML v1.0//EN
CALSCALE:GREGORIAN
METHOD:PUBLISH
X-ORIGINAL-URL:https://www.cdcd.org
X-WR-CALDESC:Events for CDCD
REFRESH-INTERVAL;VALUE=DURATION:PT1H
X-Robots-Tag:noindex
X-PUBLISHED-TTL:PT1H
BEGIN:VTIMEZONE
TZID:America/Toronto
BEGIN:DAYLIGHT
TZOFFSETFROM:-0500
TZOFFSETTO:-0400
TZNAME:EDT
DTSTART:20250309T070000
END:DAYLIGHT
BEGIN:STANDARD
TZOFFSETFROM:-0400
TZOFFSETTO:-0500
TZNAME:EST
DTSTART:20251102T060000
END:STANDARD
END:VTIMEZONE
BEGIN:VEVENT
DTSTART;TZID=America/Toronto:20250325T183000
DTEND;TZID=America/Toronto:20250325T193000
DTSTAMP:20260420T062221
CREATED:20250210T190115Z
LAST-MODIFIED:20250210T190602Z
UID:8959-1742927400-1742931000@www.cdcd.org
SUMMARY:English Conversation Circles Evening – Online
DESCRIPTION:The English Conversation Circles are organized weekly both in person and virtually. \nPractice English\, meet new friends and learn about your community! Register to receive the Zoom link for online sessions.
URL:https://www.cdcd.org/event/english-conversation-circles-evening-online/2025-03-25/
LOCATION:Virtual – Online
CATEGORIES:NCS Community Connections
ATTACH;FMTTYPE=image/jpeg:https://www.cdcd.org/wp-content/uploads/2025/02/AdobeStock_387710300.jpeg
ORGANIZER;CN="Newcomer Community Services %E2%80%93 Community Connections":MAILTO:mabdulla@cdcd.org
END:VEVENT
BEGIN:VEVENT
DTSTART;TZID=America/Toronto:20250324T183000
DTEND;TZID=America/Toronto:20250324T193000
DTSTAMP:20260420T062221
CREATED:20250210T183758Z
LAST-MODIFIED:20250210T183758Z
UID:8862-1742841000-1742844600@www.cdcd.org
SUMMARY:English Conversation Circles – Pickering
DESCRIPTION:The English Conversation Circles are organized weekly both in person and virtually. \nPractice English\, meet new friends and learn about your community! All in-person sessions are drop in. Register to receive the Zoom link for online sessions.
URL:https://www.cdcd.org/event/english-conversation-circles-pickering/2025-03-24/
LOCATION:Pickering Library Main Branch\, 1 The Esplanade\, Pickering\, ON\, L1V 2R6\, Canada
CATEGORIES:NCS Community Connections
ATTACH;FMTTYPE=image/jpeg:https://www.cdcd.org/wp-content/uploads/2025/02/AdobeStock_942268923-e1739209247418.jpeg
ORGANIZER;CN="Newcomer Community Services %E2%80%93 Community Connections":MAILTO:mabdulla@cdcd.org
END:VEVENT
BEGIN:VEVENT
DTSTART;TZID=America/Toronto:20250324T150000
DTEND;TZID=America/Toronto:20250324T160000
DTSTAMP:20260420T062221
CREATED:20250210T174212Z
LAST-MODIFIED:20250210T184229Z
UID:8840-1742828400-1742832000@www.cdcd.org
SUMMARY:English Conversation Circles – Oshawa
DESCRIPTION:  \n \nThe English Conversation Circles are organized weekly both in person and virtually. \nPractice English\, meet new friends and learn about your community! All in-person sessions are drop in. Register to receive the Zoom link for online sessions. \n 
URL:https://www.cdcd.org/event/english-conversation-circles-oshawa/2025-03-24/
LOCATION:Oshawa Library McLaughlin Branch\, 65 Bagot St.\, Oshawa\, ON\, Canada
CATEGORIES:NCS Community Connections
ATTACH;FMTTYPE=image/jpeg:https://www.cdcd.org/wp-content/uploads/2025/02/AdobeStock_942268923-e1739209247418.jpeg
ORGANIZER;CN="Newcomer Community Services %E2%80%93 Community Connections":MAILTO:mabdulla@cdcd.org
END:VEVENT
BEGIN:VEVENT
DTSTART;TZID=America/Toronto:20250320T183000
DTEND;TZID=America/Toronto:20250320T200000
DTSTAMP:20260420T062221
CREATED:20250210T185417Z
LAST-MODIFIED:20250210T185417Z
UID:8936-1742495400-1742500800@www.cdcd.org
SUMMARY:English Conversation Circles – Whitby
DESCRIPTION:The English Conversation Circles are organized weekly both in person and virtually. \nPractice English\, meet new friends and learn about your community! All in-person sessions are drop in. Register to receive the Zoom link for online sessions.
URL:https://www.cdcd.org/event/english-conversation-circles-whitby/2025-03-20/
LOCATION:Whitby Library Main Branch\, 405 Dundas Street West\, Whitby\, ON\, L1N 6A1\, Canada
CATEGORIES:NCS Community Connections
ATTACH;FMTTYPE=image/jpeg:https://www.cdcd.org/wp-content/uploads/2025/02/AdobeStock_942268923-e1739209247418.jpeg
ORGANIZER;CN="Newcomer Community Services %E2%80%93 Community Connections":MAILTO:mabdulla@cdcd.org
END:VEVENT
BEGIN:VEVENT
DTSTART;TZID=America/Toronto:20250319T183000
DTEND;TZID=America/Toronto:20250319T200000
DTSTAMP:20260420T062221
CREATED:20250210T185002Z
LAST-MODIFIED:20250210T185002Z
UID:8915-1742409000-1742414400@www.cdcd.org
SUMMARY:English Conversation Circles – Ajax
DESCRIPTION:The English Conversation Circles are organized weekly both in person and virtually. \nPractice English\, meet new friends and learn about your community! All in-person sessions are drop in. Register to receive the Zoom link for online sessions.
URL:https://www.cdcd.org/event/english-conversation-circles-ajax/2025-03-19/
LOCATION:Ajax Library Main Branch\, 55 Harwood Avenue South\, Ajax\, ON\, L1S 2H8\, Canada
CATEGORIES:NCS Community Connections
ATTACH;FMTTYPE=image/jpeg:https://www.cdcd.org/wp-content/uploads/2025/02/AdobeStock_942268923-e1739209247418.jpeg
ORGANIZER;CN="Newcomer Community Services %E2%80%93 Community Connections":MAILTO:mabdulla@cdcd.org
END:VEVENT
BEGIN:VEVENT
DTSTART;TZID=America/Toronto:20250319T133000
DTEND;TZID=America/Toronto:20250319T143000
DTSTAMP:20260420T062221
CREATED:20250210T190501Z
LAST-MODIFIED:20250210T190501Z
UID:8980-1742391000-1742394600@www.cdcd.org
SUMMARY:English Conversation Circles Afternoon - Online
DESCRIPTION:The English Conversation Circles are organized weekly both in person and virtually. \nPractice English\, meet new friends and learn about your community! Register to receive the Zoom link for online sessions.
URL:https://www.cdcd.org/event/english-conversation-circles-afternoon-online/2025-03-19/
LOCATION:Online\, Oshawa\, Ontario\, Canada
CATEGORIES:NCS Community Connections
ATTACH;FMTTYPE=image/jpeg:https://www.cdcd.org/wp-content/uploads/2025/02/AdobeStock_387710300.jpeg
ORGANIZER;CN="Newcomer Community Services %E2%80%93 Community Connections":MAILTO:mabdulla@cdcd.org
END:VEVENT
BEGIN:VEVENT
DTSTART;TZID=America/Toronto:20250318T183000
DTEND;TZID=America/Toronto:20250318T193000
DTSTAMP:20260420T062221
CREATED:20250210T190115Z
LAST-MODIFIED:20250210T190602Z
UID:8958-1742322600-1742326200@www.cdcd.org
SUMMARY:English Conversation Circles Evening – Online
DESCRIPTION:The English Conversation Circles are organized weekly both in person and virtually. \nPractice English\, meet new friends and learn about your community! Register to receive the Zoom link for online sessions.
URL:https://www.cdcd.org/event/english-conversation-circles-evening-online/2025-03-18/
LOCATION:Virtual – Online
CATEGORIES:NCS Community Connections
ATTACH;FMTTYPE=image/jpeg:https://www.cdcd.org/wp-content/uploads/2025/02/AdobeStock_387710300.jpeg
ORGANIZER;CN="Newcomer Community Services %E2%80%93 Community Connections":MAILTO:mabdulla@cdcd.org
END:VEVENT
BEGIN:VEVENT
DTSTART;TZID=America/Toronto:20250317T183000
DTEND;TZID=America/Toronto:20250317T193000
DTSTAMP:20260420T062221
CREATED:20250210T183758Z
LAST-MODIFIED:20250210T183758Z
UID:8861-1742236200-1742239800@www.cdcd.org
SUMMARY:English Conversation Circles – Pickering
DESCRIPTION:The English Conversation Circles are organized weekly both in person and virtually. \nPractice English\, meet new friends and learn about your community! All in-person sessions are drop in. Register to receive the Zoom link for online sessions.
URL:https://www.cdcd.org/event/english-conversation-circles-pickering/2025-03-17/
LOCATION:Pickering Library Main Branch\, 1 The Esplanade\, Pickering\, ON\, L1V 2R6\, Canada
CATEGORIES:NCS Community Connections
ATTACH;FMTTYPE=image/jpeg:https://www.cdcd.org/wp-content/uploads/2025/02/AdobeStock_942268923-e1739209247418.jpeg
ORGANIZER;CN="Newcomer Community Services %E2%80%93 Community Connections":MAILTO:mabdulla@cdcd.org
END:VEVENT
BEGIN:VEVENT
DTSTART;TZID=America/Toronto:20250317T150000
DTEND;TZID=America/Toronto:20250317T160000
DTSTAMP:20260420T062221
CREATED:20250210T174212Z
LAST-MODIFIED:20250210T184229Z
UID:8839-1742223600-1742227200@www.cdcd.org
SUMMARY:English Conversation Circles – Oshawa
DESCRIPTION:  \n \nThe English Conversation Circles are organized weekly both in person and virtually. \nPractice English\, meet new friends and learn about your community! All in-person sessions are drop in. Register to receive the Zoom link for online sessions. \n 
URL:https://www.cdcd.org/event/english-conversation-circles-oshawa/2025-03-17/
LOCATION:Oshawa Library McLaughlin Branch\, 65 Bagot St.\, Oshawa\, ON\, Canada
CATEGORIES:NCS Community Connections
ATTACH;FMTTYPE=image/jpeg:https://www.cdcd.org/wp-content/uploads/2025/02/AdobeStock_942268923-e1739209247418.jpeg
ORGANIZER;CN="Newcomer Community Services %E2%80%93 Community Connections":MAILTO:mabdulla@cdcd.org
END:VEVENT
BEGIN:VEVENT
DTSTART;TZID=America/Toronto:20250313T183000
DTEND;TZID=America/Toronto:20250313T200000
DTSTAMP:20260420T062221
CREATED:20250210T185417Z
LAST-MODIFIED:20250210T185417Z
UID:8935-1741890600-1741896000@www.cdcd.org
SUMMARY:English Conversation Circles – Whitby
DESCRIPTION:The English Conversation Circles are organized weekly both in person and virtually. \nPractice English\, meet new friends and learn about your community! All in-person sessions are drop in. Register to receive the Zoom link for online sessions.
URL:https://www.cdcd.org/event/english-conversation-circles-whitby/2025-03-13/
LOCATION:Whitby Library Main Branch\, 405 Dundas Street West\, Whitby\, ON\, L1N 6A1\, Canada
CATEGORIES:NCS Community Connections
ATTACH;FMTTYPE=image/jpeg:https://www.cdcd.org/wp-content/uploads/2025/02/AdobeStock_942268923-e1739209247418.jpeg
ORGANIZER;CN="Newcomer Community Services %E2%80%93 Community Connections":MAILTO:mabdulla@cdcd.org
END:VEVENT
BEGIN:VEVENT
DTSTART;TZID=America/Toronto:20250312T183000
DTEND;TZID=America/Toronto:20250312T200000
DTSTAMP:20260420T062221
CREATED:20250210T185002Z
LAST-MODIFIED:20250210T185002Z
UID:8914-1741804200-1741809600@www.cdcd.org
SUMMARY:English Conversation Circles – Ajax
DESCRIPTION:The English Conversation Circles are organized weekly both in person and virtually. \nPractice English\, meet new friends and learn about your community! All in-person sessions are drop in. Register to receive the Zoom link for online sessions.
URL:https://www.cdcd.org/event/english-conversation-circles-ajax/2025-03-12/
LOCATION:Ajax Library Main Branch\, 55 Harwood Avenue South\, Ajax\, ON\, L1S 2H8\, Canada
CATEGORIES:NCS Community Connections
ATTACH;FMTTYPE=image/jpeg:https://www.cdcd.org/wp-content/uploads/2025/02/AdobeStock_942268923-e1739209247418.jpeg
ORGANIZER;CN="Newcomer Community Services %E2%80%93 Community Connections":MAILTO:mabdulla@cdcd.org
END:VEVENT
BEGIN:VEVENT
DTSTART;TZID=America/Toronto:20250312T133000
DTEND;TZID=America/Toronto:20250312T143000
DTSTAMP:20260420T062221
CREATED:20250210T190501Z
LAST-MODIFIED:20250210T190501Z
UID:8979-1741786200-1741789800@www.cdcd.org
SUMMARY:English Conversation Circles Afternoon - Online
DESCRIPTION:The English Conversation Circles are organized weekly both in person and virtually. \nPractice English\, meet new friends and learn about your community! Register to receive the Zoom link for online sessions.
URL:https://www.cdcd.org/event/english-conversation-circles-afternoon-online/2025-03-12/
LOCATION:Online\, Oshawa\, Ontario\, Canada
CATEGORIES:NCS Community Connections
ATTACH;FMTTYPE=image/jpeg:https://www.cdcd.org/wp-content/uploads/2025/02/AdobeStock_387710300.jpeg
ORGANIZER;CN="Newcomer Community Services %E2%80%93 Community Connections":MAILTO:mabdulla@cdcd.org
END:VEVENT
BEGIN:VEVENT
DTSTART;TZID=America/Toronto:20250311T183000
DTEND;TZID=America/Toronto:20250311T193000
DTSTAMP:20260420T062221
CREATED:20250210T190115Z
LAST-MODIFIED:20250210T190601Z
UID:8957-1741717800-1741721400@www.cdcd.org
SUMMARY:English Conversation Circles Evening – Online
DESCRIPTION:The English Conversation Circles are organized weekly both in person and virtually. \nPractice English\, meet new friends and learn about your community! Register to receive the Zoom link for online sessions.
URL:https://www.cdcd.org/event/english-conversation-circles-evening-online/2025-03-11/
LOCATION:Virtual – Online
CATEGORIES:NCS Community Connections
ATTACH;FMTTYPE=image/jpeg:https://www.cdcd.org/wp-content/uploads/2025/02/AdobeStock_387710300.jpeg
ORGANIZER;CN="Newcomer Community Services %E2%80%93 Community Connections":MAILTO:mabdulla@cdcd.org
END:VEVENT
BEGIN:VEVENT
DTSTART;TZID=America/Toronto:20250310T183000
DTEND;TZID=America/Toronto:20250310T193000
DTSTAMP:20260420T062221
CREATED:20250210T183758Z
LAST-MODIFIED:20250210T183758Z
UID:8860-1741631400-1741635000@www.cdcd.org
SUMMARY:English Conversation Circles – Pickering
DESCRIPTION:The English Conversation Circles are organized weekly both in person and virtually. \nPractice English\, meet new friends and learn about your community! All in-person sessions are drop in. Register to receive the Zoom link for online sessions.
URL:https://www.cdcd.org/event/english-conversation-circles-pickering/2025-03-10/
LOCATION:Pickering Library Main Branch\, 1 The Esplanade\, Pickering\, ON\, L1V 2R6\, Canada
CATEGORIES:NCS Community Connections
ATTACH;FMTTYPE=image/jpeg:https://www.cdcd.org/wp-content/uploads/2025/02/AdobeStock_942268923-e1739209247418.jpeg
ORGANIZER;CN="Newcomer Community Services %E2%80%93 Community Connections":MAILTO:mabdulla@cdcd.org
END:VEVENT
BEGIN:VEVENT
DTSTART;TZID=America/Toronto:20250310T150000
DTEND;TZID=America/Toronto:20250310T160000
DTSTAMP:20260420T062221
CREATED:20250210T174212Z
LAST-MODIFIED:20250210T184229Z
UID:8838-1741618800-1741622400@www.cdcd.org
SUMMARY:English Conversation Circles – Oshawa
DESCRIPTION:  \n \nThe English Conversation Circles are organized weekly both in person and virtually. \nPractice English\, meet new friends and learn about your community! All in-person sessions are drop in. Register to receive the Zoom link for online sessions. \n 
URL:https://www.cdcd.org/event/english-conversation-circles-oshawa/2025-03-10/
LOCATION:Oshawa Library McLaughlin Branch\, 65 Bagot St.\, Oshawa\, ON\, Canada
CATEGORIES:NCS Community Connections
ATTACH;FMTTYPE=image/jpeg:https://www.cdcd.org/wp-content/uploads/2025/02/AdobeStock_942268923-e1739209247418.jpeg
ORGANIZER;CN="Newcomer Community Services %E2%80%93 Community Connections":MAILTO:mabdulla@cdcd.org
END:VEVENT
BEGIN:VEVENT
DTSTART;TZID=America/Toronto:20250306T183000
DTEND;TZID=America/Toronto:20250306T200000
DTSTAMP:20260420T062221
CREATED:20250210T185417Z
LAST-MODIFIED:20250210T185417Z
UID:8934-1741285800-1741291200@www.cdcd.org
SUMMARY:English Conversation Circles – Whitby
DESCRIPTION:The English Conversation Circles are organized weekly both in person and virtually. \nPractice English\, meet new friends and learn about your community! All in-person sessions are drop in. Register to receive the Zoom link for online sessions.
URL:https://www.cdcd.org/event/english-conversation-circles-whitby/2025-03-06/
LOCATION:Whitby Library Main Branch\, 405 Dundas Street West\, Whitby\, ON\, L1N 6A1\, Canada
CATEGORIES:NCS Community Connections
ATTACH;FMTTYPE=image/jpeg:https://www.cdcd.org/wp-content/uploads/2025/02/AdobeStock_942268923-e1739209247418.jpeg
ORGANIZER;CN="Newcomer Community Services %E2%80%93 Community Connections":MAILTO:mabdulla@cdcd.org
END:VEVENT
BEGIN:VEVENT
DTSTART;TZID=America/Toronto:20250305T183000
DTEND;TZID=America/Toronto:20250305T200000
DTSTAMP:20260420T062221
CREATED:20250210T185002Z
LAST-MODIFIED:20250210T185002Z
UID:8913-1741199400-1741204800@www.cdcd.org
SUMMARY:English Conversation Circles – Ajax
DESCRIPTION:The English Conversation Circles are organized weekly both in person and virtually. \nPractice English\, meet new friends and learn about your community! All in-person sessions are drop in. Register to receive the Zoom link for online sessions.
URL:https://www.cdcd.org/event/english-conversation-circles-ajax/2025-03-05/
LOCATION:Ajax Library Main Branch\, 55 Harwood Avenue South\, Ajax\, ON\, L1S 2H8\, Canada
CATEGORIES:NCS Community Connections
ATTACH;FMTTYPE=image/jpeg:https://www.cdcd.org/wp-content/uploads/2025/02/AdobeStock_942268923-e1739209247418.jpeg
ORGANIZER;CN="Newcomer Community Services %E2%80%93 Community Connections":MAILTO:mabdulla@cdcd.org
END:VEVENT
BEGIN:VEVENT
DTSTART;TZID=America/Toronto:20250305T133000
DTEND;TZID=America/Toronto:20250305T143000
DTSTAMP:20260420T062221
CREATED:20250210T190501Z
LAST-MODIFIED:20250210T190501Z
UID:8978-1741181400-1741185000@www.cdcd.org
SUMMARY:English Conversation Circles Afternoon - Online
DESCRIPTION:The English Conversation Circles are organized weekly both in person and virtually. \nPractice English\, meet new friends and learn about your community! Register to receive the Zoom link for online sessions.
URL:https://www.cdcd.org/event/english-conversation-circles-afternoon-online/2025-03-05/
LOCATION:Online\, Oshawa\, Ontario\, Canada
CATEGORIES:NCS Community Connections
ATTACH;FMTTYPE=image/jpeg:https://www.cdcd.org/wp-content/uploads/2025/02/AdobeStock_387710300.jpeg
ORGANIZER;CN="Newcomer Community Services %E2%80%93 Community Connections":MAILTO:mabdulla@cdcd.org
END:VEVENT
BEGIN:VEVENT
DTSTART;TZID=America/Toronto:20250304T183000
DTEND;TZID=America/Toronto:20250304T193000
DTSTAMP:20260420T062221
CREATED:20250210T190115Z
LAST-MODIFIED:20250210T190601Z
UID:8956-1741113000-1741116600@www.cdcd.org
SUMMARY:English Conversation Circles Evening – Online
DESCRIPTION:The English Conversation Circles are organized weekly both in person and virtually. \nPractice English\, meet new friends and learn about your community! Register to receive the Zoom link for online sessions.
URL:https://www.cdcd.org/event/english-conversation-circles-evening-online/2025-03-04/
LOCATION:Virtual – Online
CATEGORIES:NCS Community Connections
ATTACH;FMTTYPE=image/jpeg:https://www.cdcd.org/wp-content/uploads/2025/02/AdobeStock_387710300.jpeg
ORGANIZER;CN="Newcomer Community Services %E2%80%93 Community Connections":MAILTO:mabdulla@cdcd.org
END:VEVENT
BEGIN:VEVENT
DTSTART;TZID=America/Toronto:20250303T183000
DTEND;TZID=America/Toronto:20250303T193000
DTSTAMP:20260420T062221
CREATED:20250210T183758Z
LAST-MODIFIED:20250210T183758Z
UID:8859-1741026600-1741030200@www.cdcd.org
SUMMARY:English Conversation Circles – Pickering
DESCRIPTION:The English Conversation Circles are organized weekly both in person and virtually. \nPractice English\, meet new friends and learn about your community! All in-person sessions are drop in. Register to receive the Zoom link for online sessions.
URL:https://www.cdcd.org/event/english-conversation-circles-pickering/2025-03-03/
LOCATION:Pickering Library Main Branch\, 1 The Esplanade\, Pickering\, ON\, L1V 2R6\, Canada
CATEGORIES:NCS Community Connections
ATTACH;FMTTYPE=image/jpeg:https://www.cdcd.org/wp-content/uploads/2025/02/AdobeStock_942268923-e1739209247418.jpeg
ORGANIZER;CN="Newcomer Community Services %E2%80%93 Community Connections":MAILTO:mabdulla@cdcd.org
END:VEVENT
BEGIN:VEVENT
DTSTART;TZID=America/Toronto:20250303T150000
DTEND;TZID=America/Toronto:20250303T160000
DTSTAMP:20260420T062221
CREATED:20250210T174212Z
LAST-MODIFIED:20250210T184229Z
UID:8837-1741014000-1741017600@www.cdcd.org
SUMMARY:English Conversation Circles – Oshawa
DESCRIPTION:  \n \nThe English Conversation Circles are organized weekly both in person and virtually. \nPractice English\, meet new friends and learn about your community! All in-person sessions are drop in. Register to receive the Zoom link for online sessions. \n 
URL:https://www.cdcd.org/event/english-conversation-circles-oshawa/2025-03-03/
LOCATION:Oshawa Library McLaughlin Branch\, 65 Bagot St.\, Oshawa\, ON\, Canada
CATEGORIES:NCS Community Connections
ATTACH;FMTTYPE=image/jpeg:https://www.cdcd.org/wp-content/uploads/2025/02/AdobeStock_942268923-e1739209247418.jpeg
ORGANIZER;CN="Newcomer Community Services %E2%80%93 Community Connections":MAILTO:mabdulla@cdcd.org
END:VEVENT
BEGIN:VEVENT
DTSTART;TZID=America/Toronto:20250227T183000
DTEND;TZID=America/Toronto:20250227T200000
DTSTAMP:20260420T062221
CREATED:20250210T185417Z
LAST-MODIFIED:20250210T185417Z
UID:8933-1740681000-1740686400@www.cdcd.org
SUMMARY:English Conversation Circles – Whitby
DESCRIPTION:The English Conversation Circles are organized weekly both in person and virtually. \nPractice English\, meet new friends and learn about your community! All in-person sessions are drop in. Register to receive the Zoom link for online sessions.
URL:https://www.cdcd.org/event/english-conversation-circles-whitby/2025-02-27/
LOCATION:Whitby Library Main Branch\, 405 Dundas Street West\, Whitby\, ON\, L1N 6A1\, Canada
CATEGORIES:NCS Community Connections
ATTACH;FMTTYPE=image/jpeg:https://www.cdcd.org/wp-content/uploads/2025/02/AdobeStock_942268923-e1739209247418.jpeg
ORGANIZER;CN="Newcomer Community Services %E2%80%93 Community Connections":MAILTO:mabdulla@cdcd.org
END:VEVENT
BEGIN:VEVENT
DTSTART;TZID=America/Toronto:20250226T183000
DTEND;TZID=America/Toronto:20250226T200000
DTSTAMP:20260420T062221
CREATED:20250210T185002Z
LAST-MODIFIED:20250210T185002Z
UID:8912-1740594600-1740600000@www.cdcd.org
SUMMARY:English Conversation Circles – Ajax
DESCRIPTION:The English Conversation Circles are organized weekly both in person and virtually. \nPractice English\, meet new friends and learn about your community! All in-person sessions are drop in. Register to receive the Zoom link for online sessions.
URL:https://www.cdcd.org/event/english-conversation-circles-ajax/2025-02-26/
LOCATION:Ajax Library Main Branch\, 55 Harwood Avenue South\, Ajax\, ON\, L1S 2H8\, Canada
CATEGORIES:NCS Community Connections
ATTACH;FMTTYPE=image/jpeg:https://www.cdcd.org/wp-content/uploads/2025/02/AdobeStock_942268923-e1739209247418.jpeg
ORGANIZER;CN="Newcomer Community Services %E2%80%93 Community Connections":MAILTO:mabdulla@cdcd.org
END:VEVENT
BEGIN:VEVENT
DTSTART;TZID=America/Toronto:20250226T133000
DTEND;TZID=America/Toronto:20250226T143000
DTSTAMP:20260420T062221
CREATED:20250210T190501Z
LAST-MODIFIED:20250210T190501Z
UID:8977-1740576600-1740580200@www.cdcd.org
SUMMARY:English Conversation Circles Afternoon - Online
DESCRIPTION:The English Conversation Circles are organized weekly both in person and virtually. \nPractice English\, meet new friends and learn about your community! Register to receive the Zoom link for online sessions.
URL:https://www.cdcd.org/event/english-conversation-circles-afternoon-online/2025-02-26/
LOCATION:Online\, Oshawa\, Ontario\, Canada
CATEGORIES:NCS Community Connections
ATTACH;FMTTYPE=image/jpeg:https://www.cdcd.org/wp-content/uploads/2025/02/AdobeStock_387710300.jpeg
ORGANIZER;CN="Newcomer Community Services %E2%80%93 Community Connections":MAILTO:mabdulla@cdcd.org
END:VEVENT
BEGIN:VEVENT
DTSTART;TZID=America/Toronto:20250225T183000
DTEND;TZID=America/Toronto:20250225T193000
DTSTAMP:20260420T062221
CREATED:20250210T190115Z
LAST-MODIFIED:20250210T190601Z
UID:8955-1740508200-1740511800@www.cdcd.org
SUMMARY:English Conversation Circles Evening – Online
DESCRIPTION:The English Conversation Circles are organized weekly both in person and virtually. \nPractice English\, meet new friends and learn about your community! Register to receive the Zoom link for online sessions.
URL:https://www.cdcd.org/event/english-conversation-circles-evening-online/2025-02-25/
LOCATION:Virtual – Online
CATEGORIES:NCS Community Connections
ATTACH;FMTTYPE=image/jpeg:https://www.cdcd.org/wp-content/uploads/2025/02/AdobeStock_387710300.jpeg
ORGANIZER;CN="Newcomer Community Services %E2%80%93 Community Connections":MAILTO:mabdulla@cdcd.org
END:VEVENT
BEGIN:VEVENT
DTSTART;TZID=America/Toronto:20250224T183000
DTEND;TZID=America/Toronto:20250224T193000
DTSTAMP:20260420T062221
CREATED:20250210T183758Z
LAST-MODIFIED:20250210T183758Z
UID:8858-1740421800-1740425400@www.cdcd.org
SUMMARY:English Conversation Circles – Pickering
DESCRIPTION:The English Conversation Circles are organized weekly both in person and virtually. \nPractice English\, meet new friends and learn about your community! All in-person sessions are drop in. Register to receive the Zoom link for online sessions.
URL:https://www.cdcd.org/event/english-conversation-circles-pickering/2025-02-24/
LOCATION:Pickering Library Main Branch\, 1 The Esplanade\, Pickering\, ON\, L1V 2R6\, Canada
CATEGORIES:NCS Community Connections
ATTACH;FMTTYPE=image/jpeg:https://www.cdcd.org/wp-content/uploads/2025/02/AdobeStock_942268923-e1739209247418.jpeg
ORGANIZER;CN="Newcomer Community Services %E2%80%93 Community Connections":MAILTO:mabdulla@cdcd.org
END:VEVENT
BEGIN:VEVENT
DTSTART;TZID=America/Toronto:20250224T150000
DTEND;TZID=America/Toronto:20250224T160000
DTSTAMP:20260420T062221
CREATED:20250210T174212Z
LAST-MODIFIED:20250210T184229Z
UID:8836-1740409200-1740412800@www.cdcd.org
SUMMARY:English Conversation Circles – Oshawa
DESCRIPTION:  \n \nThe English Conversation Circles are organized weekly both in person and virtually. \nPractice English\, meet new friends and learn about your community! All in-person sessions are drop in. Register to receive the Zoom link for online sessions. \n 
URL:https://www.cdcd.org/event/english-conversation-circles-oshawa/2025-02-24/
LOCATION:Oshawa Library McLaughlin Branch\, 65 Bagot St.\, Oshawa\, ON\, Canada
CATEGORIES:NCS Community Connections
ATTACH;FMTTYPE=image/jpeg:https://www.cdcd.org/wp-content/uploads/2025/02/AdobeStock_942268923-e1739209247418.jpeg
ORGANIZER;CN="Newcomer Community Services %E2%80%93 Community Connections":MAILTO:mabdulla@cdcd.org
END:VEVENT
BEGIN:VEVENT
DTSTART;TZID=America/Toronto:20250220T183000
DTEND;TZID=America/Toronto:20250220T200000
DTSTAMP:20260420T062221
CREATED:20250210T185417Z
LAST-MODIFIED:20250210T185417Z
UID:8932-1740076200-1740081600@www.cdcd.org
SUMMARY:English Conversation Circles – Whitby
DESCRIPTION:The English Conversation Circles are organized weekly both in person and virtually. \nPractice English\, meet new friends and learn about your community! All in-person sessions are drop in. Register to receive the Zoom link for online sessions.
URL:https://www.cdcd.org/event/english-conversation-circles-whitby/2025-02-20/
LOCATION:Whitby Library Main Branch\, 405 Dundas Street West\, Whitby\, ON\, L1N 6A1\, Canada
CATEGORIES:NCS Community Connections
ATTACH;FMTTYPE=image/jpeg:https://www.cdcd.org/wp-content/uploads/2025/02/AdobeStock_942268923-e1739209247418.jpeg
ORGANIZER;CN="Newcomer Community Services %E2%80%93 Community Connections":MAILTO:mabdulla@cdcd.org
END:VEVENT
BEGIN:VEVENT
DTSTART;TZID=America/Toronto:20250219T183000
DTEND;TZID=America/Toronto:20250219T200000
DTSTAMP:20260420T062221
CREATED:20250210T185002Z
LAST-MODIFIED:20250210T185002Z
UID:8911-1739989800-1739995200@www.cdcd.org
SUMMARY:English Conversation Circles – Ajax
DESCRIPTION:The English Conversation Circles are organized weekly both in person and virtually. \nPractice English\, meet new friends and learn about your community! All in-person sessions are drop in. Register to receive the Zoom link for online sessions.
URL:https://www.cdcd.org/event/english-conversation-circles-ajax/2025-02-19/
LOCATION:Ajax Library Main Branch\, 55 Harwood Avenue South\, Ajax\, ON\, L1S 2H8\, Canada
CATEGORIES:NCS Community Connections
ATTACH;FMTTYPE=image/jpeg:https://www.cdcd.org/wp-content/uploads/2025/02/AdobeStock_942268923-e1739209247418.jpeg
ORGANIZER;CN="Newcomer Community Services %E2%80%93 Community Connections":MAILTO:mabdulla@cdcd.org
END:VEVENT
BEGIN:VEVENT
DTSTART;TZID=America/Toronto:20250219T143000
DTEND;TZID=America/Toronto:20250219T163000
DTSTAMP:20260420T062221
CREATED:20250127T214243Z
LAST-MODIFIED:20250127T214243Z
UID:8321-1739975400-1739982600@www.cdcd.org
SUMMARY:Newcomer Women’s Kitchen
DESCRIPTION:Join us at the Newcomer Women’s Kitchen!!\nA space for socializing\, learning and exchanging culinary recipes!
URL:https://www.cdcd.org/event/newcomer-womens-kitchen-2/
LOCATION:Ajax Welcome Centre\, 458 Fairall St\, Unit 5\, Ajax\, ON\, L1S 1R6\, Canada
CATEGORIES:NCS Community Connections
ATTACH;FMTTYPE=image/png:https://www.cdcd.org/wp-content/uploads/2025/01/Newcomers-Womens-Kitchen.png
ORGANIZER;CN="Newcomer Community Services %E2%80%93 Community Connections":MAILTO:mabdulla@cdcd.org
END:VEVENT
END:VCALENDAR