BEGIN:VCALENDAR
VERSION:2.0
PRODID:-//CDCD - ECPv6.13.2.1//NONSGML v1.0//EN
CALSCALE:GREGORIAN
METHOD:PUBLISH
X-WR-CALNAME:CDCD
X-ORIGINAL-URL:https://www.cdcd.org
X-WR-CALDESC:Events for CDCD
REFRESH-INTERVAL;VALUE=DURATION:PT1H
X-Robots-Tag:noindex
X-PUBLISHED-TTL:PT1H
BEGIN:VTIMEZONE
TZID:America/Toronto
BEGIN:DAYLIGHT
TZOFFSETFROM:-0500
TZOFFSETTO:-0400
TZNAME:EDT
DTSTART:20220313T070000
END:DAYLIGHT
BEGIN:STANDARD
TZOFFSETFROM:-0400
TZOFFSETTO:-0500
TZNAME:EST
DTSTART:20221106T060000
END:STANDARD
BEGIN:DAYLIGHT
TZOFFSETFROM:-0500
TZOFFSETTO:-0400
TZNAME:EDT
DTSTART:20230312T070000
END:DAYLIGHT
BEGIN:STANDARD
TZOFFSETFROM:-0400
TZOFFSETTO:-0500
TZNAME:EST
DTSTART:20231105T060000
END:STANDARD
END:VTIMEZONE
BEGIN:VEVENT
DTSTART;TZID=America/Toronto:20230404T163000
DTEND;TZID=America/Toronto:20230404T163000
DTSTAMP:20260420T142043
CREATED:20230320T184429Z
LAST-MODIFIED:20230320T184429Z
UID:6111-1680625800-1680625800@www.cdcd.org
SUMMARY:Microsoft Office Training
DESCRIPTION:Interested in expanding your skills in Microsoft Office? This four-session certificate program will introduce clients to Microsoft Word and PowerPoint! \nClick here for more information and to register!
URL:https://www.cdcd.org/event/microsoft-office-training-2/
LOCATION:Ajax Welcome Centre\, 458 Fairall St\, Unit 5\, Ajax\, ON\, L1S 1R6\, Canada
ATTACH;FMTTYPE=image/png:https://www.cdcd.org/wp-content/uploads/2023/03/MS-Office-Social-Media-Post_Victoria-Guimaraes.png
END:VEVENT
BEGIN:VEVENT
DTSTART;VALUE=DATE:20230404
DTEND;VALUE=DATE:20230405
DTSTAMP:20260420T142043
CREATED:20230313T160044Z
LAST-MODIFIED:20230328T204203Z
UID:6099-1680566400-1680652799@www.cdcd.org
SUMMARY:Easter Food Drive
DESCRIPTION:Contact dambris@cdcd.org for more information
URL:https://www.cdcd.org/event/easter-food-drive/
LOCATION:Ajax Welcome Centre\, 458 Fairall St\, Unit 5\, Ajax\, ON\, L1S 1R6\, Canada
END:VEVENT
BEGIN:VEVENT
DTSTART;VALUE=DATE:20230222
DTEND;VALUE=DATE:20230429
DTSTAMP:20260420T142043
CREATED:20230213T161205Z
LAST-MODIFIED:20230320T213530Z
UID:5994-1677024000-1682726399@www.cdcd.org
SUMMARY:2023 Income Tax Clinic
DESCRIPTION:February 22nd to April 28th\, 2023. By Appointment Only. Click here to learn more about 2023 Income Tax Clinic \n 
URL:https://www.cdcd.org/event/2023-income-tax-clinic/
LOCATION:Ajax Welcome Centre\, 458 Fairall St\, Unit 5\, Ajax\, ON\, L1S 1R6\, Canada
ATTACH;FMTTYPE=image/jpeg:https://www.cdcd.org/wp-content/uploads/2023/02/Income-Tax-Clinic-2023_Page_1.jpg
END:VEVENT
BEGIN:VEVENT
DTSTART;TZID=America/Toronto:20230215T100000
DTEND;TZID=America/Toronto:20230215T160000
DTSTAMP:20260420T142043
CREATED:20230213T154835Z
LAST-MODIFIED:20230213T155656Z
UID:5989-1676455200-1676476800@www.cdcd.org
SUMMARY:Mobile Indoor COVID-19 Vaccine Clinic
DESCRIPTION:The Ajax Welcome Centre is partnering with Durham Region Health Department to host a Mobile COVID-19 Vaccine Clinic on Wednesday\, February 15\, 2023. \n \n  \n  \n  \n  \n  \n  \n  \n  \n  \n  \n  \n  \n  \n  \n  \n  \n  \n  \n  \n  \n  \n  \n  \n  \n  \n  \nGO-VAXX Mobile Vaccine Clinic Flyer Download Here
URL:https://www.cdcd.org/event/mobile-indoor-covid-19-vaccine-clinic/
LOCATION:Ajax Welcome Centre\, 458 Fairall St\, Unit 5\, Ajax\, ON\, L1S 1R6\, Canada
END:VEVENT
BEGIN:VEVENT
DTSTART;TZID=America/Toronto:20230211T110000
DTEND;TZID=America/Toronto:20230211T123000
DTSTAMP:20260420T142043
CREATED:20230126T015432Z
LAST-MODIFIED:20230126T015526Z
UID:5956-1676113200-1676118600@www.cdcd.org
SUMMARY:Youth Customer Service and Cashier Training
DESCRIPTION:At Customer Service and Cashier Training hosted by Newcomer Youth Services\, you will \n• Receive hands-on practice operating a cash register\n• Learn how to handle sales\, sale items\, and refunds\n• Improve customer service & communication skills\n• Familiarize yourself with Canadian workplace culture \nA certificate of completion will be provided at the end of training. \nRegistration Link Here \nCost: Free \nFor more information\, please contact Kim Harris-Eccleston kharris@cdcd.org 905-686-2661 ext. 145 \nDownload Youth Cashier Training Flyer
URL:https://www.cdcd.org/event/youth-customer-service-and-cashier-training-2/
LOCATION:Ajax Welcome Centre\, 458 Fairall St\, Unit 5\, Ajax\, ON\, L1S 1R6\, Canada
CATEGORIES:NCS Youth
ATTACH;FMTTYPE=image/jpeg:https://www.cdcd.org/wp-content/uploads/2023/01/Youth-Cashier-Training-Flyer-February-2023.jpg
END:VEVENT
BEGIN:VEVENT
DTSTART;TZID=America/Toronto:20230131T123000
DTEND;TZID=America/Toronto:20230131T140000
DTSTAMP:20260420T142043
CREATED:20221227T180220Z
LAST-MODIFIED:20221227T180220Z
UID:5885-1675168200-1675173600@www.cdcd.org
SUMMARY:Newcomer Kitchen – IN PERSON
DESCRIPTION:
URL:https://www.cdcd.org/event/newcomer-kitchen-in-person-2/
LOCATION:Ajax Welcome Centre\, 458 Fairall St\, Unit 5\, Ajax\, ON\, L1S 1R6\, Canada
ATTACH;FMTTYPE=image/jpeg:https://www.cdcd.org/wp-content/uploads/2021/06/CC_kitchen-scaled.jpg
END:VEVENT
BEGIN:VEVENT
DTSTART;TZID=America/Toronto:20221213T163000
DTEND;TZID=America/Toronto:20221213T183000
DTSTAMP:20260420T142043
CREATED:20221121T174546Z
LAST-MODIFIED:20221123T145450Z
UID:5767-1670949000-1670956200@www.cdcd.org
SUMMARY:Youth Game Night
DESCRIPTION:Target audience: 14-29 \nDate: December 13 \nTime: 4:30pm – 6:30pm \nLocation: Ajax welcome Centre \nRegistration Link: https://forms.office.com/r/5pGmSMUyuY \nCost: FREE \nContact: Kim Harris-Eccleston kharris@cdcd.org 905-686-2661 ext. 145
URL:https://www.cdcd.org/event/youth-game-night/
LOCATION:Ajax Welcome Centre\, 458 Fairall St\, Unit 5\, Ajax\, ON\, L1S 1R6\, Canada
CATEGORIES:NCS Youth
END:VEVENT
BEGIN:VEVENT
DTSTART;TZID=America/Toronto:20221213T123000
DTEND;TZID=America/Toronto:20221213T140000
DTSTAMP:20260420T142043
CREATED:20221129T185615Z
LAST-MODIFIED:20221129T185615Z
UID:5833-1670934600-1670940000@www.cdcd.org
SUMMARY:Newcomer Kitchen – IN PERSON
DESCRIPTION:
URL:https://www.cdcd.org/event/newcomer-kitchen-in-person/
LOCATION:Ajax Welcome Centre\, 458 Fairall St\, Unit 5\, Ajax\, ON\, L1S 1R6\, Canada
ATTACH;FMTTYPE=image/jpeg:https://www.cdcd.org/wp-content/uploads/2021/06/CC_kitchen-scaled.jpg
END:VEVENT
BEGIN:VEVENT
DTSTART;TZID=America/Toronto:20221208T113000
DTEND;TZID=America/Toronto:20221208T130000
DTSTAMP:20260420T142043
CREATED:20220303T175624Z
LAST-MODIFIED:20221128T175821Z
UID:4017-1670499000-1670504400@www.cdcd.org
SUMMARY:Women’s Group – IN PERSON
DESCRIPTION:This is a place for female newcomers to bond\, while sharing conversations and learning a variety of crafts. \nWe meet to practice English and create art\, while helping each other through life’s obstacles.
URL:https://www.cdcd.org/event/womens-group-virtual-online/
LOCATION:Ajax Welcome Centre\, 458 Fairall St\, Unit 5\, Ajax\, ON\, L1S 1R6\, Canada
ATTACH;FMTTYPE=image/jpeg:https://www.cdcd.org/wp-content/uploads/2021/06/CC_coffee.jpg
END:VEVENT
BEGIN:VEVENT
DTSTART;TZID=America/Toronto:20221206T163000
DTEND;TZID=America/Toronto:20221206T183000
DTSTAMP:20260420T142043
CREATED:20221121T174323Z
LAST-MODIFIED:20221123T145459Z
UID:5764-1670344200-1670351400@www.cdcd.org
SUMMARY:Youth Paint Night
DESCRIPTION:Target audience: 14-29 \nDate: December 6 \nTime: 4:30pm – 6:30pm \nLocation: Ajax welcome Centre \nRegistration Link: https://forms.office.com/r/wUnAjMGT4y \nCost: FREE \nContact: Kim Harris-Eccleston kharris@cdcd.org 905-686-2661 ext. 145
URL:https://www.cdcd.org/event/youth-paint-night/
LOCATION:Ajax Welcome Centre\, 458 Fairall St\, Unit 5\, Ajax\, ON\, L1S 1R6\, Canada
CATEGORIES:NCS Youth
END:VEVENT
BEGIN:VEVENT
DTSTART;TZID=America/Toronto:20221126T100000
DTEND;TZID=America/Toronto:20221126T120000
DTSTAMP:20260420T142043
CREATED:20221111T012815Z
LAST-MODIFIED:20221123T144745Z
UID:5737-1669456800-1669464000@www.cdcd.org
SUMMARY:Youth – Customer Service and Cashier Training
DESCRIPTION:Click Here to Register \nReceive hands-on practice operating a cash register\nLearn how to handle sales\, sale items\, and refunds\nImprove customer service & communication skills\nFamiliarize yourself with Canadian workplace culture\nCertificate of completion will be provided \nTarget audience: 14-29\nContact: Kim Harris-Eccleston\nPhone: 905-686-2661 Ext: 145 Email: kharris@cdcd.org
URL:https://www.cdcd.org/event/youth-customer-service-and-cashier-training/
LOCATION:Ajax Welcome Centre\, 458 Fairall St\, Unit 5\, Ajax\, ON\, L1S 1R6\, Canada
CATEGORIES:NCS Youth
ATTACH;FMTTYPE=application/pdf:https://www.cdcd.org/wp-content/uploads/2022/11/CDCD_Newcomer-Youth-Services_Cashier-Training_11-26-2022_November_WEB.pdf
END:VEVENT
BEGIN:VEVENT
DTSTART;TZID=America/Toronto:20221122T180000
DTEND;TZID=America/Toronto:20221122T190000
DTSTAMP:20260420T142043
CREATED:20221117T010234Z
LAST-MODIFIED:20221117T011501Z
UID:5750-1669140000-1669143600@www.cdcd.org
SUMMARY:Dos and Don’ts of Starting a Small Business – Newcomer Women Entrepreneurship
DESCRIPTION:Workshop 2 \nWith Ana Belen – Dreaming Big Lifestyle. \n\nThe Keys to Start a Successful Business\nVision\, Mission and Value Proposition\nBusiness SWOT Analysis\nGet inspired and motivated\nMeet other entrepreneur women\n\nClick here to Register. \nIn-person: Ajax Welcome Centre – 458 Fairall Street\, Unit 4\, Ajax\, ON\, L1S-1R6\nOnline: Zoom live stream provided.
URL:https://www.cdcd.org/event/dos-and-donts-of-starting-a-small-business-newcomer-women-entrepreneurship/
LOCATION:Ajax Welcome Centre\, 458 Fairall St\, Unit 5\, Ajax\, ON\, L1S 1R6\, Canada
ATTACH;FMTTYPE=image/jpeg:https://www.cdcd.org/wp-content/uploads/2022/11/CDCD_Newcomer-Women-Entrepreneurship-Program_Event_Dos-and-Donts_11-22-2022_FullPage.jpg
END:VEVENT
BEGIN:VEVENT
DTSTART;TZID=America/Toronto:20221108T163000
DTEND;TZID=America/Toronto:20221108T180000
DTSTAMP:20260420T142043
CREATED:20221013T194625Z
LAST-MODIFIED:20221013T210930Z
UID:5509-1667925000-1667930400@www.cdcd.org
SUMMARY:Microsoft Office Training
DESCRIPTION:Are you looking to gain experience using Microsoft Word and Microsoft PowerPoint? This in-person four-session workshop will provide newcomers\, immigrants\, and refugees with a beginner and intermediate level of training in these platforms. Learn computer and software skills that will help you succeed at work and school! \nEvent Dates:\nTuesday November 8th: 4:30PM to 6:00PM\nTuesday November 15th: 4:30PM to 6:00PM\nTuesday November 22nd: 4:30PM to 6:00PM\nTuesday November 29th: 4:30PM to 6:00PM \n*Attendance at all four sessions is mandatory to receive certificate of completion  \nLocation: Ajax Welcome Centre Immigrant Services\, 458 Fairall Street\, Unit 5\, Ajax\, ON L1S 1R6 \nRegistration Link: https://forms.office.com/r/0Vwcim4t7b \n*Registration Required   \nContact Information: Avalina Rodrigues arodrigues@cdcd.org 905-686-2661 ext. 221
URL:https://www.cdcd.org/event/microsoft-office-training/2022-11-08/
LOCATION:Ajax Welcome Centre\, 458 Fairall St\, Unit 5\, Ajax\, ON\, L1S 1R6\, Canada
ATTACH;FMTTYPE=application/pdf:https://www.cdcd.org/wp-content/uploads/2022/10/CDCD_Event_Microsoft-Office_November-2022_WEB_.pdf
END:VEVENT
BEGIN:VEVENT
DTSTART;TZID=America/Toronto:20221102T170000
DTEND;TZID=America/Toronto:20221102T183000
DTSTAMP:20260420T142043
CREATED:20221019T181206Z
LAST-MODIFIED:20221020T151629Z
UID:5519-1667408400-1667413800@www.cdcd.org
SUMMARY:Public Speaking Program for Youth – Toastmasters
DESCRIPTION:5 Week Program – Target audience: 14-29 \nDates: Wednesdays\, November 2\, 9\, 16\, 23\, 30 \nTime: 5:00pm – 6:30pm \nLocation: Ajax Welcome Centre \nRegistration Link: https://forms.office.com/r/Rmd4MBxsPx \nCost: FREE  \nContact name/email/phone number: Kim Harris-Eccleston kharris@cdcd.org 905-686-2661 ext. 145
URL:https://www.cdcd.org/event/public-speaking-program-for-youth-toastmasters/2022-11-02/
LOCATION:Ajax Welcome Centre\, 458 Fairall St\, Unit 5\, Ajax\, ON\, L1S 1R6\, Canada
CATEGORIES:NCS Youth
ATTACH;FMTTYPE=application/pdf:https://www.cdcd.org/wp-content/uploads/2022/10/CDCD_Newcomer-Youth-Services_Toastmasters_Youth-Leadership-Program_11-2022_November_WEB.pdf
END:VEVENT
BEGIN:VEVENT
DTSTART;TZID=America/Toronto:20221020T080000
DTEND;TZID=America/Toronto:20221020T170000
DTSTAMP:20260420T142043
CREATED:20221020T151214Z
LAST-MODIFIED:20221020T151600Z
UID:5554-1666252800-1666285200@www.cdcd.org
SUMMARY:Resume Critique and Online Job Application Workshop
DESCRIPTION:Looking for a job? We help newcomer youth ages 14- 29 \n\nEmployment websites\nVolunteer opportunities\nResume critique\nEmployment resources\nLocal job opportunities\nPrepare for interviews\n\nTarget audience: 14-29 \nDate: Tuesday November 8\, 2022 \nTime: 4:30pm – 6:30pm \nLocation: Ajax Welcome Centre \nRegistration Link: https://forms.office.com/r/9bYT1iups7 \nCost: FREE \nContact name/email/phone number: (Host) Kim Harris-Eccleston kharris@cdcd.org 905-686-2661 ext. 145
URL:https://www.cdcd.org/event/resume-critique-and-online-job-application-workshop/
LOCATION:Ajax Welcome Centre\, 458 Fairall St\, Unit 5\, Ajax\, ON\, L1S 1R6\, Canada
CATEGORIES:NCS Youth
ATTACH;FMTTYPE=application/pdf:https://www.cdcd.org/wp-content/uploads/2022/10/CDCD_Newcomer-Youth-Services_Resume-critique-clinic_WEB.pdf
END:VEVENT
END:VCALENDAR