BEGIN:VCALENDAR
VERSION:2.0
PRODID:-//CDCD - ECPv6.13.2.1//NONSGML v1.0//EN
CALSCALE:GREGORIAN
METHOD:PUBLISH
X-WR-CALNAME:CDCD
X-ORIGINAL-URL:https://www.cdcd.org
X-WR-CALDESC:Events for CDCD
REFRESH-INTERVAL;VALUE=DURATION:PT1H
X-Robots-Tag:noindex
X-PUBLISHED-TTL:PT1H
BEGIN:VTIMEZONE
TZID:America/Toronto
BEGIN:DAYLIGHT
TZOFFSETFROM:-0500
TZOFFSETTO:-0400
TZNAME:EDT
DTSTART:20240310T070000
END:DAYLIGHT
BEGIN:STANDARD
TZOFFSETFROM:-0400
TZOFFSETTO:-0500
TZNAME:EST
DTSTART:20241103T060000
END:STANDARD
END:VTIMEZONE
BEGIN:VEVENT
DTSTART;TZID=America/Toronto:20241218T143000
DTEND;TZID=America/Toronto:20241218T163000
DTSTAMP:20260420T064139
CREATED:20241203T161008Z
LAST-MODIFIED:20241203T161138Z
UID:7978-1734532200-1734539400@www.cdcd.org
SUMMARY:Newcomer Men’s Group Intro to Non-Contact Boxing
DESCRIPTION:Join us for Introductory to Boxing Session offered by Functional Minds & Bodies.\nSPACE IS LIMITED \n 
URL:https://www.cdcd.org/event/newcomer-mens-group-intro-to-non-contact-boxing/
LOCATION:Ajax Welcome Centre\, 458 Fairall St\, Unit 5\, Ajax\, ON\, L1S 1R6\, Canada
CATEGORIES:NCS Community Connections
ATTACH;FMTTYPE=image/png:https://www.cdcd.org/wp-content/uploads/2024/12/2024-12-02_AWC-December-2024-Newsletter_Page_11.png
ORGANIZER;CN="Newcomer Community Services %E2%80%93 Community Connections":MAILTO:mabdulla@cdcd.org
END:VEVENT
BEGIN:VEVENT
DTSTART;TZID=America/Toronto:20241217T143000
DTEND;TZID=America/Toronto:20241217T163000
DTSTAMP:20260420T064139
CREATED:20241203T161919Z
LAST-MODIFIED:20241203T161919Z
UID:7981-1734445800-1734453000@www.cdcd.org
SUMMARY:Newcomer Women’s Kitchen
DESCRIPTION:Join us at the Newcomer Women’s Kitchen: a space for socializing\, learning\, and exchanging culinary recipes!
URL:https://www.cdcd.org/event/newcomer-womens-kitchen/
LOCATION:Ajax Welcome Centre\, 458 Fairall St\, Unit 5\, Ajax\, ON\, L1S 1R6\, Canada
CATEGORIES:NCS Community Connections
ATTACH;FMTTYPE=image/png:https://www.cdcd.org/wp-content/uploads/2024/12/2024-12-02_AWC-December-2024-Newsletter_Page_10.png
ORGANIZER;CN="Newcomer Community Services %E2%80%93 Community Connections":MAILTO:mabdulla@cdcd.org
END:VEVENT
BEGIN:VEVENT
DTSTART;TZID=America/Toronto:20241216T110000
DTEND;TZID=America/Toronto:20241216T140000
DTSTAMP:20260420T064139
CREATED:20241203T160538Z
LAST-MODIFIED:20241211T181127Z
UID:7976-1734346800-1734357600@www.cdcd.org
SUMMARY:Service Canada at Ajax Welcome Centre
DESCRIPTION:Service Canada will be at Ajax Welcome Centre to help you apply or answer your questions for the programs and services listed below:\n\n\n\n✅Social Insurance Number (SIN)\n\n\n✅Old Age Security (OAS)\n\n\n✅Canada Pension Plan (CPP)\n\n\n✅Employment Insurance (EI)\n\n\n✅My Service Canada Account (MSCA)\n\n\n…and many more services!\n\n\n \n\n\nWhat to Bring: Please bring photo ID and original required documents for your appointment.\n\n\nVisit www.Canada.ca for a complete list of required documents.\n\n\n\n📞To get more information or to book an appointment please contact Ajax Welcome\n\n\nCentre Reception at: 1-877-761-1155.\n\n\n 
URL:https://www.cdcd.org/event/service-canada-at-ajax-welcome-centre-2/
LOCATION:Ajax Welcome Centre\, 458 Fairall St\, Unit 5\, Ajax\, ON\, L1S 1R6\, Canada
CATEGORIES:Welcome Centre Orientation
ATTACH;FMTTYPE=image/png:https://www.cdcd.org/wp-content/uploads/2024/12/Service-Canada-Dec.png
END:VEVENT
BEGIN:VEVENT
DTSTART;TZID=America/Toronto:20241212T170000
DTEND;TZID=America/Toronto:20241212T190000
DTSTAMP:20260420T064139
CREATED:20241203T162917Z
LAST-MODIFIED:20241203T163455Z
UID:7985-1734022800-1734030000@www.cdcd.org
SUMMARY:Newcomer Youth Game Night
DESCRIPTION: This event is open to newcomer youth ages 14-29
URL:https://www.cdcd.org/event/newcomer-youth-game-night/
LOCATION:Ajax Welcome Centre\, 458 Fairall St\, Unit 5\, Ajax\, ON\, L1S 1R6\, Canada
CATEGORIES:NCS Youth
ATTACH;FMTTYPE=image/png:https://www.cdcd.org/wp-content/uploads/2024/12/2024-12-02_AWC-December-2024-Newsletter_Page_07.png
ORGANIZER;CN="Newcomer Community Services %E2%80%93 Newcomer Wellness%2C Volunteer%2C Youth Services%2C Computer%2C Donations":MAILTO:sahmad@cdcd.org
END:VEVENT
BEGIN:VEVENT
DTSTART;TZID=America/Toronto:20241212T143000
DTEND;TZID=America/Toronto:20241212T143000
DTSTAMP:20260420T064139
CREATED:20241203T162429Z
LAST-MODIFIED:20241203T162429Z
UID:7983-1734013800-1734013800@www.cdcd.org
SUMMARY:Newcomer Women’s Group Dental Workshop
DESCRIPTION:Join us for a free dental workshop hosted by Durham Region Public Health.\nLearn tips and tricks to maintain healthy teeth and gums.
URL:https://www.cdcd.org/event/newcomer-womens-group-dental-workshop/
LOCATION:Ajax Welcome Centre\, 458 Fairall St\, Unit 5\, Ajax\, ON\, L1S 1R6\, Canada
CATEGORIES:NCS Community Connections
ATTACH;FMTTYPE=image/png:https://www.cdcd.org/wp-content/uploads/2024/12/2024-12-02_AWC-December-2024-Newsletter_Page_08.png
ORGANIZER;CN="Newcomer Community Services %E2%80%93 Community Connections":MAILTO:mabdulla@cdcd.org
END:VEVENT
BEGIN:VEVENT
DTSTART;TZID=America/Toronto:20241211T120000
DTEND;TZID=America/Toronto:20241211T140000
DTSTAMP:20260420T064139
CREATED:20241203T163355Z
LAST-MODIFIED:20241203T163553Z
UID:7987-1733918400-1733925600@www.cdcd.org
SUMMARY:The Rhythm Within
DESCRIPTION:Our music and wellness workshop combines sound therapy\, mindfulness\, and group activities to promote relaxation and wellbeing.\nThrough instruments\, guided breathing\, and meditative listening\, participants cultivate calm and self expression.
URL:https://www.cdcd.org/event/the-rhythm-within/
LOCATION:Ajax Welcome Centre\, 458 Fairall St\, Unit 5\, Ajax\, ON\, L1S 1R6\, Canada
CATEGORIES:Newcomer Wellness
ATTACH;FMTTYPE=image/png:https://www.cdcd.org/wp-content/uploads/2024/12/2024-12-02_AWC-December-2024-Newsletter_Page_06.png
ORGANIZER;CN="Newcomer Community Services %E2%80%93 Newcomer Wellness%2C Volunteer%2C Youth Services%2C Computer%2C Donations":MAILTO:sahmad@cdcd.org
END:VEVENT
BEGIN:VEVENT
DTSTART;TZID=America/Toronto:20241205T170000
DTEND;TZID=America/Toronto:20241205T190000
DTSTAMP:20260420T064139
CREATED:20241203T164700Z
LAST-MODIFIED:20241203T164700Z
UID:7992-1733418000-1733425200@www.cdcd.org
SUMMARY:Newcomer Youth Paint Night
DESCRIPTION:
URL:https://www.cdcd.org/event/newcomer-youth-paint-night/
LOCATION:Ajax Welcome Centre\, 458 Fairall St\, Unit 5\, Ajax\, ON\, L1S 1R6\, Canada
CATEGORIES:NCS Youth
ATTACH;FMTTYPE=image/png:https://www.cdcd.org/wp-content/uploads/2024/12/2024-12-02_AWC-December-2024-Newsletter_Page_04.png
ORGANIZER;CN="Newcomer Community Services %E2%80%93 Newcomer Wellness%2C Volunteer%2C Youth Services%2C Computer%2C Donations":MAILTO:sahmad@cdcd.org
END:VEVENT
BEGIN:VEVENT
DTSTART;TZID=America/Toronto:20241205T140000
DTEND;TZID=America/Toronto:20241205T180000
DTSTAMP:20260420T064139
CREATED:20241203T165614Z
LAST-MODIFIED:20241203T165614Z
UID:7997-1733407200-1733421600@www.cdcd.org
SUMMARY:International Volunteer Day
DESCRIPTION:Each year on December 5th\, International Volunteer Day shines a light on the incredible contributions of volunteers worldwide. It’s a day to recognize their dedication\, celebrate their impact\, and inspire others to join the movement.\nThis year let’s take a moment to thank the volunteers who make a difference and reflect on how we can all contribute to building stronger\, more connected communities
URL:https://www.cdcd.org/event/international-volunteer-day/
LOCATION:Ajax Welcome Centre\, 458 Fairall St\, Unit 5\, Ajax\, ON\, L1S 1R6\, Canada
CATEGORIES:NCS Volunteers
ATTACH;FMTTYPE=image/png:https://www.cdcd.org/wp-content/uploads/2024/12/2024-12-02_AWC-December-2024-Newsletter_Page_02.png
ORGANIZER;CN="Newcomer Community Services %E2%80%93 Newcomer Wellness%2C Volunteer%2C Youth Services%2C Computer%2C Donations":MAILTO:sahmad@cdcd.org
END:VEVENT
BEGIN:VEVENT
DTSTART;TZID=America/Toronto:20241202T120000
DTEND;TZID=America/Toronto:20241202T150000
DTSTAMP:20260420T064139
CREATED:20241203T165958Z
LAST-MODIFIED:20241203T165958Z
UID:7999-1733140800-1733151600@www.cdcd.org
SUMMARY:World Computer Literacy Day Event
DESCRIPTION:Come to our drip-in event where you will learn about our fee upcoming computer training programs\, events and a chance to win prizes!\nLight refreshments will be served.
URL:https://www.cdcd.org/event/world-computer-literacy-day-event/
LOCATION:Ajax Welcome Centre\, 458 Fairall St\, Unit 5\, Ajax\, ON\, L1S 1R6\, Canada
CATEGORIES:NCS Computer Training
ATTACH;FMTTYPE=image/png:https://www.cdcd.org/wp-content/uploads/2024/12/2024-12-02_AWC-December-2024-Newsletter_Page_01.png
ORGANIZER;CN="Newcomer Community Services %E2%80%93 Newcomer Wellness%2C Volunteer%2C Youth Services%2C Computer%2C Donations":MAILTO:sahmad@cdcd.org
END:VEVENT
BEGIN:VEVENT
DTSTART;TZID=America/Toronto:20241128T143000
DTEND;TZID=America/Toronto:20241128T143000
DTSTAMP:20260420T064139
CREATED:20241106T164907Z
LAST-MODIFIED:20241106T164907Z
UID:7843-1732804200-1732804200@www.cdcd.org
SUMMARY:Art of Empowerment Event
DESCRIPTION:Women’s Cup Painting\nLike a brush brings vibrant colours to a cup\, an empowered woman leaves her bold and beautiful mark on the world\, shaping life with every stroke of her strength and creativity. \n 
URL:https://www.cdcd.org/event/art-of-empowerment-event/
LOCATION:Ajax Welcome Centre\, 458 Fairall St\, Unit 5\, Ajax\, ON\, L1S 1R6\, Canada
CATEGORIES:NCS Community Connections
ATTACH;FMTTYPE=image/png:https://www.cdcd.org/wp-content/uploads/2024/11/AWC-November-Newsletter-002_Page_10.png
ORGANIZER;CN="Newcomer Community Services %E2%80%93 Community Connections":MAILTO:mabdulla@cdcd.org
END:VEVENT
BEGIN:VEVENT
DTSTART;TZID=America/Toronto:20241126T110000
DTEND;TZID=America/Toronto:20241126T140000
DTSTAMP:20260420T064139
CREATED:20241105T171855Z
LAST-MODIFIED:20241105T171855Z
UID:7818-1732618800-1732629600@www.cdcd.org
SUMMARY:Service Canada at Ajax Welcome Centre
DESCRIPTION:Service Canada will be at Ajax Welcome Centre to help you apply or answer your questions for the programs and services listed below:\n\n\n\n✅Social Insurance Number (SIN)\n\n\n✅Old Age Security (OAS)\n\n\n✅Canada Pension Plan (CPP)\n\n\n✅Employment Insurance (EI)\n\n\n✅My Service Canada Account (MSCA)\n\n\n…and many more services!\n\n\n \n\n\nWhat to Bring: Please bring photo ID and original required documents for your appointment.\n\n\nVisit www.Canada.ca for a complete list of required documents.\n\n\n\n📞To get more information or to book an appointment please contact Ajax Welcome\n\n\nCentre Reception at: 1-877-761-1155.\n\n\n 
URL:https://www.cdcd.org/event/service-canada-at-ajax-welcome-centre/
LOCATION:Ajax Welcome Centre\, 458 Fairall St\, Unit 5\, Ajax\, ON\, L1S 1R6\, Canada
CATEGORIES:Welcome Centre Orientation
ATTACH;FMTTYPE=image/png:https://www.cdcd.org/wp-content/uploads/2024/11/Service-Canada-In-Your-Community-Nov_Shohreh-Kehtari.png
END:VEVENT
BEGIN:VEVENT
DTSTART;TZID=America/Toronto:20241120T111500
DTEND;TZID=America/Toronto:20241120T121500
DTSTAMP:20260420T064139
CREATED:20241119T174522Z
LAST-MODIFIED:20241119T174522Z
UID:7935-1732101300-1732104900@www.cdcd.org
SUMMARY:Connecting With Your Child
DESCRIPTION:For all ages birth to teens\nTaking care of yourself as a parent\nPromoting community activities and events\nA Public Health nurse will be onsite to provide information and answer your questions\n\nFOR MORE INFORMATION: 1-877-761-1155 or 647-925-8929
URL:https://www.cdcd.org/event/connecting-with-your-child/
LOCATION:Ajax Welcome Centre\, 458 Fairall St\, Unit 5\, Ajax\, ON\, L1S 1R6\, Canada
CATEGORIES:Welcome Centre Orientation
END:VEVENT
BEGIN:VEVENT
DTSTART;TZID=America/Toronto:20241120T023000
DTEND;TZID=America/Toronto:20241120T163000
DTSTAMP:20260420T064139
CREATED:20241106T163308Z
LAST-MODIFIED:20241106T163308Z
UID:7836-1732069800-1732120200@www.cdcd.org
SUMMARY:Newcomer Men’s Kitchen
DESCRIPTION:Join us at the Newcomer Men’s Kitchen!\nA space for socializing\, learning and exchanging culinary recipes. \nFor more information contact Mishal at 905-686-2661 ext. 109
URL:https://www.cdcd.org/event/newcomer-mens-kitchen/
LOCATION:Ajax Welcome Centre\, 458 Fairall St\, Unit 5\, Ajax\, ON\, L1S 1R6\, Canada
CATEGORIES:NCS Community Connections
ATTACH;FMTTYPE=image/png:https://www.cdcd.org/wp-content/uploads/2024/11/AWC-November-Newsletter-002_Page_06.png
END:VEVENT
BEGIN:VEVENT
DTSTART;TZID=America/Toronto:20241106T170000
DTEND;TZID=America/Toronto:20241106T183000
DTSTAMP:20260420T064139
CREATED:20241031T200754Z
LAST-MODIFIED:20250129T183651Z
UID:7719-1730912400-1730917800@www.cdcd.org
SUMMARY:S3 Project Meeting
DESCRIPTION:  \n \nThe S3 Project is intended to bring together diverse immigrant seniors (55+) (established and newcomers) to engage in discussions of issues and challenges facing immigrant seniors\, learn about available services\, tips for a healthy life-style\, reducing social isolation\, and build relationships between service providers and seniors\, among others. \n  \nMeeting with local politicians and policymakers to learn of the vision\, plans and initiatives for the senior population in Durham is also a key part of the program\, as one of the deliverables of the Project is the formation of a Seniors Advisors Council which will advocate\, advise\, inform and coordinate effort around issues related to older adults. \n  \n 
URL:https://www.cdcd.org/event/s3-project-meeting/2024-11-06/
LOCATION:Ajax Welcome Centre\, 458 Fairall St\, Unit 5\, Ajax\, ON\, L1S 1R6\, Canada
CATEGORIES:Community Development
ATTACH;FMTTYPE=image/png:https://www.cdcd.org/wp-content/uploads/2024/10/CDCD-Seniors-for-Seniors-by-Seniors-Program-Flyer-2.png
END:VEVENT
BEGIN:VEVENT
DTSTART;TZID=America/Toronto:20241104T130000
DTEND;TZID=America/Toronto:20241104T153000
DTSTAMP:20260420T064139
CREATED:20240403T210342Z
LAST-MODIFIED:20241203T160041Z
UID:7974-1730725200-1730734200@www.cdcd.org
SUMMARY:Mental Health Mondays
DESCRIPTION:Newcomer Wellness Mental Health Mondays \nDo you need someone to talk to? A community mental health worker can help you. \nIn person appointments available every Monday afternoon at the Ajax Welcome Centre. \n1:00pm – 3:30pm\nTo make an appointment call:\n1-877-761-1155 Toll Free\n647-925-8929 Local
URL:https://www.cdcd.org/event/mental-health-mondays/2024-11-04/
LOCATION:Ajax Welcome Centre\, 458 Fairall St\, Unit 5\, Ajax\, ON\, L1S 1R6\, Canada
CATEGORIES:Newcomer Wellness
ORGANIZER;CN="Newcomer Community Services %E2%80%93 Newcomer Wellness%2C Volunteer%2C Youth Services%2C Computer%2C Donations":MAILTO:sahmad@cdcd.org
END:VEVENT
BEGIN:VEVENT
DTSTART;TZID=America/Toronto:20241028T130000
DTEND;TZID=America/Toronto:20241028T153000
DTSTAMP:20260420T064139
CREATED:20240403T210342Z
LAST-MODIFIED:20241203T160041Z
UID:6941-1730120400-1730129400@www.cdcd.org
SUMMARY:Mental Health Mondays
DESCRIPTION:Newcomer Wellness Mental Health Mondays \nDo you need someone to talk to? A community mental health worker can help you. \nIn person appointments available every Monday afternoon at the Ajax Welcome Centre. \n1:00pm – 3:30pm\nTo make an appointment call:\n1-877-761-1155 Toll Free\n647-925-8929 Local
URL:https://www.cdcd.org/event/mental-health-mondays/2024-10-28/
LOCATION:Ajax Welcome Centre\, 458 Fairall St\, Unit 5\, Ajax\, ON\, L1S 1R6\, Canada
CATEGORIES:Newcomer Wellness
ORGANIZER;CN="Newcomer Community Services %E2%80%93 Newcomer Wellness%2C Volunteer%2C Youth Services%2C Computer%2C Donations":MAILTO:sahmad@cdcd.org
END:VEVENT
BEGIN:VEVENT
DTSTART;TZID=America/Toronto:20241021T130000
DTEND;TZID=America/Toronto:20241021T153000
DTSTAMP:20260420T064139
CREATED:20240403T210342Z
LAST-MODIFIED:20241203T160040Z
UID:6940-1729515600-1729524600@www.cdcd.org
SUMMARY:Mental Health Mondays
DESCRIPTION:Newcomer Wellness Mental Health Mondays \nDo you need someone to talk to? A community mental health worker can help you. \nIn person appointments available every Monday afternoon at the Ajax Welcome Centre. \n1:00pm – 3:30pm\nTo make an appointment call:\n1-877-761-1155 Toll Free\n647-925-8929 Local
URL:https://www.cdcd.org/event/mental-health-mondays/2024-10-21/
LOCATION:Ajax Welcome Centre\, 458 Fairall St\, Unit 5\, Ajax\, ON\, L1S 1R6\, Canada
CATEGORIES:Newcomer Wellness
ORGANIZER;CN="Newcomer Community Services %E2%80%93 Newcomer Wellness%2C Volunteer%2C Youth Services%2C Computer%2C Donations":MAILTO:sahmad@cdcd.org
END:VEVENT
BEGIN:VEVENT
DTSTART;TZID=America/Toronto:20241014T130000
DTEND;TZID=America/Toronto:20241014T153000
DTSTAMP:20260420T064139
CREATED:20240403T210342Z
LAST-MODIFIED:20241203T160040Z
UID:6939-1728910800-1728919800@www.cdcd.org
SUMMARY:Mental Health Mondays
DESCRIPTION:Newcomer Wellness Mental Health Mondays \nDo you need someone to talk to? A community mental health worker can help you. \nIn person appointments available every Monday afternoon at the Ajax Welcome Centre. \n1:00pm – 3:30pm\nTo make an appointment call:\n1-877-761-1155 Toll Free\n647-925-8929 Local
URL:https://www.cdcd.org/event/mental-health-mondays/2024-10-14/
LOCATION:Ajax Welcome Centre\, 458 Fairall St\, Unit 5\, Ajax\, ON\, L1S 1R6\, Canada
CATEGORIES:Newcomer Wellness
ORGANIZER;CN="Newcomer Community Services %E2%80%93 Newcomer Wellness%2C Volunteer%2C Youth Services%2C Computer%2C Donations":MAILTO:sahmad@cdcd.org
END:VEVENT
BEGIN:VEVENT
DTSTART;TZID=America/Toronto:20241007T130000
DTEND;TZID=America/Toronto:20241007T153000
DTSTAMP:20260420T064139
CREATED:20240403T210342Z
LAST-MODIFIED:20241203T160040Z
UID:6938-1728306000-1728315000@www.cdcd.org
SUMMARY:Mental Health Mondays
DESCRIPTION:Newcomer Wellness Mental Health Mondays \nDo you need someone to talk to? A community mental health worker can help you. \nIn person appointments available every Monday afternoon at the Ajax Welcome Centre. \n1:00pm – 3:30pm\nTo make an appointment call:\n1-877-761-1155 Toll Free\n647-925-8929 Local
URL:https://www.cdcd.org/event/mental-health-mondays/2024-10-07/
LOCATION:Ajax Welcome Centre\, 458 Fairall St\, Unit 5\, Ajax\, ON\, L1S 1R6\, Canada
CATEGORIES:Newcomer Wellness
ORGANIZER;CN="Newcomer Community Services %E2%80%93 Newcomer Wellness%2C Volunteer%2C Youth Services%2C Computer%2C Donations":MAILTO:sahmad@cdcd.org
END:VEVENT
BEGIN:VEVENT
DTSTART;TZID=America/Toronto:20240930T130000
DTEND;TZID=America/Toronto:20240930T153000
DTSTAMP:20260420T064139
CREATED:20240403T210342Z
LAST-MODIFIED:20241203T160040Z
UID:6937-1727701200-1727710200@www.cdcd.org
SUMMARY:Mental Health Mondays
DESCRIPTION:Newcomer Wellness Mental Health Mondays \nDo you need someone to talk to? A community mental health worker can help you. \nIn person appointments available every Monday afternoon at the Ajax Welcome Centre. \n1:00pm – 3:30pm\nTo make an appointment call:\n1-877-761-1155 Toll Free\n647-925-8929 Local
URL:https://www.cdcd.org/event/mental-health-mondays/2024-09-30/
LOCATION:Ajax Welcome Centre\, 458 Fairall St\, Unit 5\, Ajax\, ON\, L1S 1R6\, Canada
CATEGORIES:Newcomer Wellness
ORGANIZER;CN="Newcomer Community Services %E2%80%93 Newcomer Wellness%2C Volunteer%2C Youth Services%2C Computer%2C Donations":MAILTO:sahmad@cdcd.org
END:VEVENT
BEGIN:VEVENT
DTSTART;TZID=America/Toronto:20240923T130000
DTEND;TZID=America/Toronto:20240923T153000
DTSTAMP:20260420T064139
CREATED:20240403T210342Z
LAST-MODIFIED:20241203T160040Z
UID:6936-1727096400-1727105400@www.cdcd.org
SUMMARY:Mental Health Mondays
DESCRIPTION:Newcomer Wellness Mental Health Mondays \nDo you need someone to talk to? A community mental health worker can help you. \nIn person appointments available every Monday afternoon at the Ajax Welcome Centre. \n1:00pm – 3:30pm\nTo make an appointment call:\n1-877-761-1155 Toll Free\n647-925-8929 Local
URL:https://www.cdcd.org/event/mental-health-mondays/2024-09-23/
LOCATION:Ajax Welcome Centre\, 458 Fairall St\, Unit 5\, Ajax\, ON\, L1S 1R6\, Canada
CATEGORIES:Newcomer Wellness
ORGANIZER;CN="Newcomer Community Services %E2%80%93 Newcomer Wellness%2C Volunteer%2C Youth Services%2C Computer%2C Donations":MAILTO:sahmad@cdcd.org
END:VEVENT
BEGIN:VEVENT
DTSTART;TZID=America/Toronto:20240921T100000
DTEND;TZID=America/Toronto:20240921T140000
DTSTAMP:20260420T064139
CREATED:20240807T201807Z
LAST-MODIFIED:20240904T161730Z
UID:7521-1726912800-1726927200@www.cdcd.org
SUMMARY:Welcoming Week Multi-Cultural Celebration
DESCRIPTION:Join us for our second annual Multi-Cultural Celebration!\nWelcoming Week is about you and for you – newcomers\, long-time residents\, unhoused neighbors\, and families who make up the multicultural tapestry of our region. \nPlay games like pickleball\, Jenga\, Bingo and more! \nMeet members of your community\, including service providers and regional representatives. \nTour our Ajax Welcome Centre \nEnjoy cultural presentations and Marla the Juggling Chef! \nDiscover services available to you through CDCD and other Durham Region service providers. \nWe’ll even have a firetruck!\nDownload your flyer here!
URL:https://www.cdcd.org/event/welcoming-week-multi-cultural-celebration/
LOCATION:Ajax Welcome Centre\, 458 Fairall St\, Unit 5\, Ajax\, ON\, L1S 1R6\, Canada
CATEGORIES:Community Development
ATTACH;FMTTYPE=image/png:https://www.cdcd.org/wp-content/uploads/2024/08/2024-Multicultural-Celebration_Client-Flyer.png
END:VEVENT
BEGIN:VEVENT
DTSTART;TZID=America/Toronto:20240916T130000
DTEND;TZID=America/Toronto:20240916T153000
DTSTAMP:20260420T064139
CREATED:20240403T210342Z
LAST-MODIFIED:20241203T160040Z
UID:6935-1726491600-1726500600@www.cdcd.org
SUMMARY:Mental Health Mondays
DESCRIPTION:Newcomer Wellness Mental Health Mondays \nDo you need someone to talk to? A community mental health worker can help you. \nIn person appointments available every Monday afternoon at the Ajax Welcome Centre. \n1:00pm – 3:30pm\nTo make an appointment call:\n1-877-761-1155 Toll Free\n647-925-8929 Local
URL:https://www.cdcd.org/event/mental-health-mondays/2024-09-16/
LOCATION:Ajax Welcome Centre\, 458 Fairall St\, Unit 5\, Ajax\, ON\, L1S 1R6\, Canada
CATEGORIES:Newcomer Wellness
ORGANIZER;CN="Newcomer Community Services %E2%80%93 Newcomer Wellness%2C Volunteer%2C Youth Services%2C Computer%2C Donations":MAILTO:sahmad@cdcd.org
END:VEVENT
BEGIN:VEVENT
DTSTART;TZID=America/Toronto:20240909T130000
DTEND;TZID=America/Toronto:20240909T153000
DTSTAMP:20260420T064139
CREATED:20240403T210342Z
LAST-MODIFIED:20241203T160040Z
UID:6934-1725886800-1725895800@www.cdcd.org
SUMMARY:Mental Health Mondays
DESCRIPTION:Newcomer Wellness Mental Health Mondays \nDo you need someone to talk to? A community mental health worker can help you. \nIn person appointments available every Monday afternoon at the Ajax Welcome Centre. \n1:00pm – 3:30pm\nTo make an appointment call:\n1-877-761-1155 Toll Free\n647-925-8929 Local
URL:https://www.cdcd.org/event/mental-health-mondays/2024-09-09/
LOCATION:Ajax Welcome Centre\, 458 Fairall St\, Unit 5\, Ajax\, ON\, L1S 1R6\, Canada
CATEGORIES:Newcomer Wellness
ORGANIZER;CN="Newcomer Community Services %E2%80%93 Newcomer Wellness%2C Volunteer%2C Youth Services%2C Computer%2C Donations":MAILTO:sahmad@cdcd.org
END:VEVENT
BEGIN:VEVENT
DTSTART;TZID=America/Toronto:20240902T130000
DTEND;TZID=America/Toronto:20240902T153000
DTSTAMP:20260420T064139
CREATED:20240403T210342Z
LAST-MODIFIED:20241203T160040Z
UID:6933-1725282000-1725291000@www.cdcd.org
SUMMARY:Mental Health Mondays
DESCRIPTION:Newcomer Wellness Mental Health Mondays \nDo you need someone to talk to? A community mental health worker can help you. \nIn person appointments available every Monday afternoon at the Ajax Welcome Centre. \n1:00pm – 3:30pm\nTo make an appointment call:\n1-877-761-1155 Toll Free\n647-925-8929 Local
URL:https://www.cdcd.org/event/mental-health-mondays/2024-09-02/
LOCATION:Ajax Welcome Centre\, 458 Fairall St\, Unit 5\, Ajax\, ON\, L1S 1R6\, Canada
CATEGORIES:Newcomer Wellness
ORGANIZER;CN="Newcomer Community Services %E2%80%93 Newcomer Wellness%2C Volunteer%2C Youth Services%2C Computer%2C Donations":MAILTO:sahmad@cdcd.org
END:VEVENT
BEGIN:VEVENT
DTSTART;TZID=America/Toronto:20240827T100000
DTEND;TZID=America/Toronto:20240827T123000
DTSTAMP:20260420T064139
CREATED:20240624T221348Z
LAST-MODIFIED:20240624T221348Z
UID:7428-1724752800-1724761800@www.cdcd.org
SUMMARY:Youth Gardening Program
DESCRIPTION:The Youth Gardening Program serves as an outdoor classroom for newcomer youth who can learn about local agriculture\, produce\, vocabulary\, teamwork\, community building\, a sense of responsibility. \nYou will have the opportunity to meet other newcomers and make new friends!  Community hours and a certificate will be given to all participants! \nFor more information please contact our Newcomer Youth Services Worker – Kim Harris-Eccleston kharris@cdcd.org or 905-686-2661 ext. 145 or Duvante Hull dhull@cdcd.org 905-686-2661 ext. 146.
URL:https://www.cdcd.org/event/youth-gardening-program/2024-08-27/
LOCATION:Ajax Welcome Centre\, 458 Fairall St\, Unit 5\, Ajax\, ON\, L1S 1R6\, Canada
CATEGORIES:NCS Youth
ATTACH;FMTTYPE=image/jpeg:https://www.cdcd.org/wp-content/uploads/2024/06/Youth-Gardening-flyer-final-2024.jpg
ORGANIZER;CN="Newcomer Community Services %E2%80%93 Newcomer Wellness%2C Volunteer%2C Youth Services%2C Computer%2C Donations":MAILTO:sahmad@cdcd.org
END:VEVENT
BEGIN:VEVENT
DTSTART;TZID=America/Toronto:20240826T130000
DTEND;TZID=America/Toronto:20240826T153000
DTSTAMP:20260420T064139
CREATED:20240403T210342Z
LAST-MODIFIED:20241203T160036Z
UID:6932-1724677200-1724686200@www.cdcd.org
SUMMARY:Mental Health Mondays
DESCRIPTION:Newcomer Wellness Mental Health Mondays \nDo you need someone to talk to? A community mental health worker can help you. \nIn person appointments available every Monday afternoon at the Ajax Welcome Centre. \n1:00pm – 3:30pm\nTo make an appointment call:\n1-877-761-1155 Toll Free\n647-925-8929 Local
URL:https://www.cdcd.org/event/mental-health-mondays/2024-08-26/
LOCATION:Ajax Welcome Centre\, 458 Fairall St\, Unit 5\, Ajax\, ON\, L1S 1R6\, Canada
CATEGORIES:Newcomer Wellness
ORGANIZER;CN="Newcomer Community Services %E2%80%93 Newcomer Wellness%2C Volunteer%2C Youth Services%2C Computer%2C Donations":MAILTO:sahmad@cdcd.org
END:VEVENT
BEGIN:VEVENT
DTSTART;TZID=America/Toronto:20240822T110000
DTEND;TZID=America/Toronto:20240822T150000
DTSTAMP:20260420T064139
CREATED:20240624T221714Z
LAST-MODIFIED:20240624T223149Z
UID:7429-1724324400-1724338800@www.cdcd.org
SUMMARY:Customer Service and Cashier Training
DESCRIPTION:Learn the skills required for a cashier position. The Customer Service and Cashier Training workshop is designed to assist newcomer youth with basic cashier and customer service skills and the knowledge needed to gain employment. A certificate of completion will be provided. \nFor more information please contact our Newcomer Youth Services Worker – Kim Harris-Eccleston kharris@cdcd.org or 905-686-2661 ext. 145 or Duvante Hull dhull@cdcd.org 905-686-2661 ext. 146.
URL:https://www.cdcd.org/event/customer-service-and-cashier-training-6/
LOCATION:Ajax Welcome Centre\, 458 Fairall St\, Unit 5\, Ajax\, ON\, L1S 1R6\, Canada
CATEGORIES:NCS Youth
ATTACH;FMTTYPE=image/png:https://www.cdcd.org/wp-content/uploads/2024/06/Customer-Service-Cashier-Training-Flyer-July-2024.png
ORGANIZER;CN="Newcomer Community Services %E2%80%93 Newcomer Wellness%2C Volunteer%2C Youth Services%2C Computer%2C Donations":MAILTO:sahmad@cdcd.org
END:VEVENT
BEGIN:VEVENT
DTSTART;TZID=America/Toronto:20240820T100000
DTEND;TZID=America/Toronto:20240820T123000
DTSTAMP:20260420T064139
CREATED:20240624T221348Z
LAST-MODIFIED:20240624T221348Z
UID:7427-1724148000-1724157000@www.cdcd.org
SUMMARY:Youth Gardening Program
DESCRIPTION:The Youth Gardening Program serves as an outdoor classroom for newcomer youth who can learn about local agriculture\, produce\, vocabulary\, teamwork\, community building\, a sense of responsibility. \nYou will have the opportunity to meet other newcomers and make new friends!  Community hours and a certificate will be given to all participants! \nFor more information please contact our Newcomer Youth Services Worker – Kim Harris-Eccleston kharris@cdcd.org or 905-686-2661 ext. 145 or Duvante Hull dhull@cdcd.org 905-686-2661 ext. 146.
URL:https://www.cdcd.org/event/youth-gardening-program/2024-08-20/
LOCATION:Ajax Welcome Centre\, 458 Fairall St\, Unit 5\, Ajax\, ON\, L1S 1R6\, Canada
CATEGORIES:NCS Youth
ATTACH;FMTTYPE=image/jpeg:https://www.cdcd.org/wp-content/uploads/2024/06/Youth-Gardening-flyer-final-2024.jpg
ORGANIZER;CN="Newcomer Community Services %E2%80%93 Newcomer Wellness%2C Volunteer%2C Youth Services%2C Computer%2C Donations":MAILTO:sahmad@cdcd.org
END:VEVENT
BEGIN:VEVENT
DTSTART;TZID=America/Toronto:20240819T130000
DTEND;TZID=America/Toronto:20240819T153000
DTSTAMP:20260420T064139
CREATED:20240403T210342Z
LAST-MODIFIED:20241203T160036Z
UID:6931-1724072400-1724081400@www.cdcd.org
SUMMARY:Mental Health Mondays
DESCRIPTION:Newcomer Wellness Mental Health Mondays \nDo you need someone to talk to? A community mental health worker can help you. \nIn person appointments available every Monday afternoon at the Ajax Welcome Centre. \n1:00pm – 3:30pm\nTo make an appointment call:\n1-877-761-1155 Toll Free\n647-925-8929 Local
URL:https://www.cdcd.org/event/mental-health-mondays/2024-08-19/
LOCATION:Ajax Welcome Centre\, 458 Fairall St\, Unit 5\, Ajax\, ON\, L1S 1R6\, Canada
CATEGORIES:Newcomer Wellness
ORGANIZER;CN="Newcomer Community Services %E2%80%93 Newcomer Wellness%2C Volunteer%2C Youth Services%2C Computer%2C Donations":MAILTO:sahmad@cdcd.org
END:VEVENT
END:VCALENDAR