BEGIN:VCALENDAR
VERSION:2.0
PRODID:-//CDCD - ECPv6.13.2.1//NONSGML v1.0//EN
CALSCALE:GREGORIAN
METHOD:PUBLISH
X-WR-CALNAME:CDCD
X-ORIGINAL-URL:https://www.cdcd.org
X-WR-CALDESC:Events for CDCD
REFRESH-INTERVAL;VALUE=DURATION:PT1H
X-Robots-Tag:noindex
X-PUBLISHED-TTL:PT1H
BEGIN:VTIMEZONE
TZID:America/Toronto
BEGIN:DAYLIGHT
TZOFFSETFROM:-0500
TZOFFSETTO:-0400
TZNAME:EDT
DTSTART:20220313T070000
END:DAYLIGHT
BEGIN:STANDARD
TZOFFSETFROM:-0400
TZOFFSETTO:-0500
TZNAME:EST
DTSTART:20221106T060000
END:STANDARD
END:VTIMEZONE
BEGIN:VEVENT
DTSTART;TZID=America/Toronto:20220410T140000
DTEND;TZID=America/Toronto:20220410T170000
DTSTAMP:20260423T162348
CREATED:20220323T161439Z
LAST-MODIFIED:20220323T162843Z
UID:4211-1649599200-1649610000@www.cdcd.org
SUMMARY:Family Art Day for Newcomers
DESCRIPTION:Please join us for Family Art Day for Newcomers on Sunday April 10th at 2:00 PM\, in partnership with the Robert McLaughlin Gallery. Enjoy being creative and doing arts and crafts with your family. \nClick Here to Register Online\nor call 905.686.2661 ext 109\nemail: communityconnect@cdcd.org
URL:https://www.cdcd.org/event/family-art-day-for-newcomers/
LOCATION:Robert McLaughlin Gallery\, 72 Queen Street Civic Centre\, Oshawa\, ON\, L1H 3Z3\, Canada
ATTACH;FMTTYPE=image/jpeg:https://www.cdcd.org/wp-content/uploads/2022/03/CDCD_Event_FamilyArtDay_04-10-2022.jpg
END:VEVENT
END:VCALENDAR