BEGIN:VCALENDAR
VERSION:2.0
PRODID:-//CDCD - ECPv6.13.2.1//NONSGML v1.0//EN
CALSCALE:GREGORIAN
METHOD:PUBLISH
X-ORIGINAL-URL:https://www.cdcd.org
X-WR-CALDESC:Events for CDCD
REFRESH-INTERVAL;VALUE=DURATION:PT1H
X-Robots-Tag:noindex
X-PUBLISHED-TTL:PT1H
BEGIN:VTIMEZONE
TZID:America/Toronto
BEGIN:DAYLIGHT
TZOFFSETFROM:-0500
TZOFFSETTO:-0400
TZNAME:EDT
DTSTART:20250309T070000
END:DAYLIGHT
BEGIN:STANDARD
TZOFFSETFROM:-0400
TZOFFSETTO:-0500
TZNAME:EST
DTSTART:20251102T060000
END:STANDARD
END:VTIMEZONE
BEGIN:VEVENT
DTSTART;TZID=America/Toronto:20250612T180000
DTEND;TZID=America/Toronto:20250612T200000
DTSTAMP:20260420T062928
CREATED:20250502T211605Z
LAST-MODIFIED:20250502T211605Z
UID:9248-1749751200-1749758400@www.cdcd.org
SUMMARY:Newcomer Youth Pickup Soccer
DESCRIPTION:Youth soccer players of all levels can enjoy a friendly game while meeting new friends and building confidence! \n\n\nIf you are a newcomer youth between 14-29\, register today for our Thursday night pick-up games from 6 pm – 8 pm at St Mark the Evangelist School in Whitby. \n\n\nFor more information please contact our Newcomer Youth Services Worker – Kim Harris-Eccleston kharris@cdcd.org or 905-686-2661 ext. 145.
URL:https://www.cdcd.org/event/newcomer-youth-pickup-soccer/2025-06-12/
LOCATION:St Mark the Evangelist C.S.\, 95 Waller Street\, Whiby\, ON\, Canada
CATEGORIES:NCS Youth
END:VEVENT
BEGIN:VEVENT
DTSTART;TZID=America/Toronto:20250605T180000
DTEND;TZID=America/Toronto:20250605T200000
DTSTAMP:20260420T062928
CREATED:20250502T211605Z
LAST-MODIFIED:20250502T211605Z
UID:9247-1749146400-1749153600@www.cdcd.org
SUMMARY:Newcomer Youth Pickup Soccer
DESCRIPTION:Youth soccer players of all levels can enjoy a friendly game while meeting new friends and building confidence! \n\n\nIf you are a newcomer youth between 14-29\, register today for our Thursday night pick-up games from 6 pm – 8 pm at St Mark the Evangelist School in Whitby. \n\n\nFor more information please contact our Newcomer Youth Services Worker – Kim Harris-Eccleston kharris@cdcd.org or 905-686-2661 ext. 145.
URL:https://www.cdcd.org/event/newcomer-youth-pickup-soccer/2025-06-05/
LOCATION:St Mark the Evangelist C.S.\, 95 Waller Street\, Whiby\, ON\, Canada
CATEGORIES:NCS Youth
END:VEVENT
BEGIN:VEVENT
DTSTART;TZID=America/Toronto:20250529T180000
DTEND;TZID=America/Toronto:20250529T200000
DTSTAMP:20260420T062928
CREATED:20250502T211605Z
LAST-MODIFIED:20250502T211605Z
UID:9246-1748541600-1748548800@www.cdcd.org
SUMMARY:Newcomer Youth Pickup Soccer
DESCRIPTION:Youth soccer players of all levels can enjoy a friendly game while meeting new friends and building confidence! \n\n\nIf you are a newcomer youth between 14-29\, register today for our Thursday night pick-up games from 6 pm – 8 pm at St Mark the Evangelist School in Whitby. \n\n\nFor more information please contact our Newcomer Youth Services Worker – Kim Harris-Eccleston kharris@cdcd.org or 905-686-2661 ext. 145.
URL:https://www.cdcd.org/event/newcomer-youth-pickup-soccer/2025-05-29/
LOCATION:St Mark the Evangelist C.S.\, 95 Waller Street\, Whiby\, ON\, Canada
CATEGORIES:NCS Youth
END:VEVENT
BEGIN:VEVENT
DTSTART;TZID=America/Toronto:20250515T180000
DTEND;TZID=America/Toronto:20250515T200000
DTSTAMP:20260420T062928
CREATED:20250502T211605Z
LAST-MODIFIED:20250502T211826Z
UID:9241-1747332000-1747339200@www.cdcd.org
SUMMARY:Newcomer Youth Pickup Soccer
DESCRIPTION:Youth soccer players of all levels can enjoy a friendly game while meeting new friends and building confidence! \n\n\nIf you are a newcomer youth between 14-29\, register today for our Thursday night pick-up games from 6 pm – 8 pm at St Mark the Evangelist School in Whitby. \n\n\nFor more information please contact our Newcomer Youth Services Worker – Kim Harris-Eccleston kharris@cdcd.org or 905-686-2661 ext. 145.
URL:https://www.cdcd.org/event/newcomer-youth-pickup-soccer/2025-05-15/
LOCATION:St Mark the Evangelist C.S.\, 95 Waller Street\, Whiby\, ON\, Canada
CATEGORIES:NCS Youth
END:VEVENT
END:VCALENDAR